Back to Multiple platform build/check report for BioC 3.22:   simplified   long
ABCDEFGHIJKL[M]NOPQRSTUVWXYZ

This page was generated on 2025-11-24 12:06 -0500 (Mon, 24 Nov 2025).

HostnameOSArch (*)R versionInstalled pkgs
nebbiolo2Linux (Ubuntu 24.04.3 LTS)x86_644.5.2 (2025-10-31) -- "[Not] Part in a Rumble" 4873
merida1macOS 12.7.6 Montereyx86_644.5.2 Patched (2025-11-05 r88990) -- "[Not] Part in a Rumble" 4654
kjohnson1macOS 13.7.5 Venturaarm644.5.2 Patched (2025-11-04 r88984) -- "[Not] Part in a Rumble" 4600
taishanLinux (openEuler 24.03 LTS)aarch644.5.0 (2025-04-11) -- "How About a Twenty-Six" 4668
Click on any hostname to see more info about the system (e.g. compilers)      (*) as reported by 'uname -p', except on Windows and Mac OS X

Package 1231/2361HostnameOS / ArchINSTALLBUILDCHECKBUILD BIN
Mergeomics 1.38.0  (landing page)
Zeyneb Kurt
Snapshot Date: 2025-11-20 15:01 -0500 (Thu, 20 Nov 2025)
git_url: https://git.bioconductor.org/packages/Mergeomics
git_branch: RELEASE_3_22
git_last_commit: a71f54d
git_last_commit_date: 2025-10-29 10:29:54 -0500 (Wed, 29 Oct 2025)
nebbiolo2Linux (Ubuntu 24.04.3 LTS) / x86_64  OK    OK    OK  UNNEEDED, same version is already published
merida1macOS 12.7.6 Monterey / x86_64  OK    OK    OK    OK  UNNEEDED, same version is already published
kjohnson1macOS 13.7.5 Ventura / arm64  OK    OK    OK    OK  UNNEEDED, same version is already published
taishanLinux (openEuler 24.03 LTS) / aarch64  OK    OK    OK  


CHECK results for Mergeomics on kjohnson1

To the developers/maintainers of the Mergeomics package:
- Allow up to 24 hours (and sometimes 48 hours) for your latest push to git@git.bioconductor.org:packages/Mergeomics.git to reflect on this report. See Troubleshooting Build Report for more information.
- Use the following Renviron settings to reproduce errors and warnings.
- If 'R CMD check' started to fail recently on the Linux builder(s) over a missing dependency, add the missing dependency to 'Suggests:' in your DESCRIPTION file. See Renviron.bioc for more information.

raw results


Summary

Package: Mergeomics
Version: 1.38.0
Command: /Library/Frameworks/R.framework/Resources/bin/R CMD check --install=check:Mergeomics.install-out.txt --library=/Library/Frameworks/R.framework/Resources/library --no-vignettes --timings Mergeomics_1.38.0.tar.gz
StartedAt: 2025-11-22 10:32:49 -0500 (Sat, 22 Nov 2025)
EndedAt: 2025-11-22 10:45:37 -0500 (Sat, 22 Nov 2025)
EllapsedTime: 768.3 seconds
RetCode: 0
Status:   OK  
CheckDir: Mergeomics.Rcheck
Warnings: 0

Command output

##############################################################################
##############################################################################
###
### Running command:
###
###   /Library/Frameworks/R.framework/Resources/bin/R CMD check --install=check:Mergeomics.install-out.txt --library=/Library/Frameworks/R.framework/Resources/library --no-vignettes --timings Mergeomics_1.38.0.tar.gz
###
##############################################################################
##############################################################################


* using log directory ‘/Users/biocbuild/bbs-3.22-bioc/meat/Mergeomics.Rcheck’
* using R version 4.5.2 Patched (2025-11-04 r88984)
* using platform: aarch64-apple-darwin20
* R was compiled by
    Apple clang version 16.0.0 (clang-1600.0.26.6)
    GNU Fortran (GCC) 14.2.0
* running under: macOS Ventura 13.7.8
* using session charset: UTF-8
* using option ‘--no-vignettes’
* checking for file ‘Mergeomics/DESCRIPTION’ ... OK
* checking extension type ... Package
* this is package ‘Mergeomics’ version ‘1.38.0’
* checking package namespace information ... OK
* checking package dependencies ... OK
* checking if this is a source package ... OK
* checking if there is a namespace ... OK
* checking for hidden files and directories ... OK
* checking for portable file names ... OK
* checking for sufficient/correct file permissions ... OK
* checking whether package ‘Mergeomics’ can be installed ... OK
* checking installed package size ... INFO
  installed size is  8.3Mb
  sub-directories of 1Mb or more:
    extdata   7.5Mb
* checking package directory ... OK
* checking ‘build’ directory ... OK
* checking DESCRIPTION meta-information ... OK
* checking top-level files ... OK
* checking for left-over files ... OK
* checking index information ... OK
* checking package subdirectories ... OK
* checking code files for non-ASCII characters ... OK
* checking R files for syntax errors ... OK
* checking whether the package can be loaded ... OK
* checking whether the package can be loaded with stated dependencies ... OK
* checking whether the package can be unloaded cleanly ... OK
* checking whether the namespace can be loaded with stated dependencies ... OK
* checking whether the namespace can be unloaded cleanly ... OK
* checking dependencies in R code ... OK
* checking S3 generic/method consistency ... OK
* checking replacement functions ... OK
* checking foreign function calls ... OK
* checking R code for possible problems ... NOTE
kda.analyze: no visible global function definition for ‘p.adjust’
kda.analyze.exec: no visible global function definition for ‘pnorm’
kda.analyze.simulate: no visible global function definition for ‘rnorm’
kda.prepare: no visible global function definition for ‘quantile’
kda.prepare: no visible global function definition for ‘object.size’
kda.prepare.screen: no visible global function definition for
  ‘quantile’
kda.prepare.screen: no visible global function definition for ‘median’
kda.start: no visible global function definition for ‘object.size’
kda2cytoscape: no visible global function definition for ‘write.table’
kda2cytoscape.colormap: no visible global function definition for
  ‘rainbow’
kda2cytoscape.colormap: no visible global function definition for
  ‘col2rgb’
kda2himmeli: no visible global function definition for ‘quantile’
kda2himmeli: no visible global function definition for ‘write.table’
kda2himmeli.colormap: no visible global function definition for
  ‘rainbow’
kda2himmeli.colormap: no visible global function definition for
  ‘col2rgb’
ssea.analyze: no visible global function definition for ‘qnorm’
ssea.analyze: no visible global function definition for ‘approx’
ssea.analyze: no visible global function definition for ‘pnorm’
ssea.analyze.simulate: no visible global function definition for
  ‘quantile’
ssea.control: no visible global function definition for ‘median’
ssea.control: no visible global function definition for ‘object.size’
ssea.meta: no visible global function definition for ‘qnorm’
ssea.meta: no visible global function definition for ‘quantile’
ssea.meta: no visible global function definition for ‘pnorm’
ssea.meta: no visible global function definition for ‘median’
ssea.meta: no visible global function definition for ‘na.omit’
ssea.prepare: no visible global function definition for ‘median’
ssea.prepare: no visible global function definition for ‘object.size’
ssea.start: no visible global function definition for ‘na.omit’
ssea.start: no visible global function definition for ‘object.size’
ssea.start.configure: no visible global function definition for
  ‘write.table’
ssea2kda: no visible global function definition for ‘na.omit’
ssea2kda.import: no visible global function definition for ‘na.omit’
tool.aggregate: no visible global function definition for ‘na.omit’
tool.cluster: no visible global function definition for ‘as.dist’
tool.cluster: no visible global function definition for ‘hclust’
tool.fdr.bh: no visible global function definition for ‘qnorm’
tool.fdr.bh: no visible global function definition for ‘p.adjust’
tool.fdr.bh: no visible global function definition for ‘approx’
tool.fdr.empirical: no visible global function definition for ‘qnorm’
tool.fdr.empirical: no visible global function definition for ‘approx’
tool.metap: no visible global function definition for ‘qnorm’
tool.metap: no visible global function definition for ‘pnorm’
tool.normalize: no visible global function definition for ‘sd’
tool.normalize: no visible global function definition for ‘median’
tool.normalize: no visible global function definition for ‘optim’
tool.normalize: no visible global function definition for ‘ks.test’
tool.normalize.quality: no visible global function definition for ‘sd’
tool.normalize.quality: no visible global function definition for
  ‘ks.test’
tool.overlap: no visible global function definition for ‘phyper’
tool.read: no visible global function definition for ‘read.delim’
tool.read: no visible global function definition for ‘na.omit’
tool.save: no visible global function definition for ‘write.table’
tool.unify: no visible global function definition for ‘sd’
tool.unify: no visible global function definition for ‘quantile’
tool.unify: no visible global function definition for ‘approx’
Undefined global functions or variables:
  approx as.dist col2rgb hclust ks.test median na.omit object.size
  optim p.adjust phyper pnorm qnorm quantile rainbow read.delim rnorm
  sd write.table
Consider adding
  importFrom("grDevices", "col2rgb", "rainbow")
  importFrom("stats", "approx", "as.dist", "hclust", "ks.test", "median",
             "na.omit", "optim", "p.adjust", "phyper", "pnorm", "qnorm",
             "quantile", "rnorm", "sd")
  importFrom("utils", "object.size", "read.delim", "write.table")
to your NAMESPACE file.
* checking Rd files ... OK
* checking Rd metadata ... OK
* checking Rd cross-references ... OK
* checking for missing documentation entries ... OK
* checking for code/documentation mismatches ... OK
* checking Rd \usage sections ... OK
* checking Rd contents ... OK
* checking for unstated dependencies in examples ... OK
* checking contents of ‘data’ directory ... OK
* checking data for non-ASCII characters ... OK
* checking data for ASCII and uncompressed saves ... OK
* checking sizes of PDF files under ‘inst/doc’ ... OK
* checking files in ‘vignettes’ ... OK
* checking examples ... OK
Examples with CPU (user + system) or elapsed time > 5s
                        user system elapsed
kda.analyze.test       8.778  0.650  12.576
kda.prepare            8.820  0.492  13.302
kda.analyze.simulate   8.838  0.468  13.274
kda.analyze.exec       8.555  0.496  12.833
ssea2kda.analyze       7.634  0.375  11.107
ssea2kda               7.270  0.366  10.731
ssea.meta              6.266  0.201   9.061
ssea2kda.import        6.123  0.249   9.101
ssea.analyze           5.919  0.267   8.360
ssea.finish.fdr        5.651  0.388   8.820
ssea.finish.details    5.757  0.241   8.262
ssea.finish.genes      5.670  0.260   7.880
ssea.finish            5.574  0.230   8.252
ssea.analyze.simulate  5.527  0.223   8.085
ssea.analyze.randgenes 4.323  0.071   5.701
ssea.analyze.randloci  4.114  0.071   5.906
ssea.prepare           4.044  0.067   5.603
ssea.analyze.observe   4.023  0.076   5.680
ssea.prepare.structure 3.937  0.062   5.326
ssea.prepare.counts    3.867  0.064   5.192
ssea.control           3.816  0.072   5.504
ssea.start             3.794  0.063   5.572
ssea.start.relabel     3.749  0.060   5.244
* checking for unstated dependencies in ‘tests’ ... OK
* checking tests ...
  Running ‘runTests.R’
 OK
* checking for unstated dependencies in vignettes ... OK
* checking package vignettes ... OK
* checking running R code from vignettes ... SKIPPED
* checking re-building of vignette outputs ... SKIPPED
* checking PDF version of manual ... OK
* DONE

Status: 1 NOTE
See
  ‘/Users/biocbuild/bbs-3.22-bioc/meat/Mergeomics.Rcheck/00check.log’
for details.


Installation output

Mergeomics.Rcheck/00install.out

##############################################################################
##############################################################################
###
### Running command:
###
###   /Library/Frameworks/R.framework/Resources/bin/R CMD INSTALL Mergeomics
###
##############################################################################
##############################################################################


* installing to library ‘/Library/Frameworks/R.framework/Versions/4.5-arm64/Resources/library’
* installing *source* package ‘Mergeomics’ ...
** this is package ‘Mergeomics’ version ‘1.38.0’
** using staged installation
** R
** data
** inst
** byte-compile and prepare package for lazy loading
** help
*** installing help indices
** building package indices
** installing vignettes
** testing if installed package can be loaded from temporary location
** testing if installed package can be loaded from final location
** testing if installed package keeps a record of temporary installation path
* DONE (Mergeomics)

Tests output

Mergeomics.Rcheck/tests/runTests.Rout


R version 4.5.2 Patched (2025-11-04 r88984) -- "[Not] Part in a Rumble"
Copyright (C) 2025 The R Foundation for Statistical Computing
Platform: aarch64-apple-darwin20

R is free software and comes with ABSOLUTELY NO WARRANTY.
You are welcome to redistribute it under certain conditions.
Type 'license()' or 'licence()' for distribution details.

R is a collaborative project with many contributors.
Type 'contributors()' for more information and
'citation()' on how to cite R or R packages in publications.

Type 'demo()' for some demos, 'help()' for on-line help, or
'help.start()' for an HTML browser interface to help.
Type 'q()' to quit R.

> BiocGenerics:::testPackage("Mergeomics")

KDA Version:12.7.2015

Parameters:
  Search depth: 1
  Search direction: 1
  Maximum overlap: 0.33
  Minimum module size: 20
  Minimum degree: automatic
  Maximum degree: automatic
  Edge factor: 0
  Random seed: 1

Importing edges...
     TAIL               HEAD               WEIGHT 
 Length:140663      Length:140663      Min.   :1  
 Class :character   Class :character   1st Qu.:1  
 Mode  :character   Mode  :character   Median :1  
                                       Mean   :1  
                                       3rd Qu.:1  
                                       Max.   :1  

Importing modules...
    MODULE              NODE          
 Length:1643        Length:1643       
 Class :character   Class :character  
 Mode  :character   Mode  :character  
Graph: 7.694687 Mb

Minimum degree set to 20 

Maximum degree set to 278 

Collecting hubs...
4876 hubs (25.21%)
Graph: 13.28768 Mb

Analyzing network...
6675: Dhcr7, n=114, p=2.24e-17
6648: Cit, n=20, p=7.89e-01
6643: Pbx4, n=23, p=2.32e-05
5582: Sypl, n=319, p=2.02e-02
4746: Tcf7l2, n=73, p=2.63e-02
4708: Tpte, n=86, p=5.05e-02
4511: Pzp, n=160, p=8.85e-03
4464: Tsc22d3, n=487, p=4.28e-13
4407: Dntt, n=93, p=2.40e-20
4360: Amica1, n=132, p=1.06e-06
4588,..: Lrg1, n=86, p=5.76e-12

MSEA Version:01.04.2016

Parameters:
  Permutation type: gene
  Permutations: 100
  Random seed: 1
  Minimum gene count: 10
  Maximum gene count: 500
  Maximum overlap between genes: 0.33

Importing modules...
    MODULE             DESCR          
 Length:20          Length:20         
 Class :character   Class :character  
 Mode  :character   Mode  :character  
    MODULE              GENE          
 Length:2906        Length:2906       
 Class :character   Class :character  
 Mode  :character   Mode  :character  

Importing marker values...
    MARKER              VALUE         
 Length:76866       Min.   :  0.8094  
 Class :character   1st Qu.:  0.9450  
 Mode  :character   Median :  1.1374  
                    Mean   :  1.3944  
                    3rd Qu.:  1.4688  
                    Max.   :323.0100  

Importing mapping data...
     GENE              MARKER         
 Length:132705      Length:132705     
 Class :character   Class :character  
 Mode  :character   Mode  :character  

Merging genes containing shared markers...
WARNING! Limited overlap analysis due to large number of groups.

86767/1673535 
176441/1673535 
265501/1673535 
356387/1673535 
450538/1673535 
540737/1673535 
634239/1673535 
723399/1673535 
814337/1673535 
902311/1673535 
992086/1673535 
1083562/1673535 
1171948/1673535 
1262321/1673535 
1350808/1673535 
1426489/1673535 
1507416/1673535 
1595649/1673535 
1673535 comparisons

21115 comparisons

13861 comparisons

12880 comparisons
Job: 11.66892 Mb

Preparing data structures...
Job: 17.11777 Mb

Adding positive controls...
Job: 17.42039 Mb

Estimating enrichment...
100/100 cycles

Normalizing scores...


RUNIT TEST PROTOCOL -- Sat Nov 22 10:45:14 2025 
*********************************************** 
Number of test functions: 2 
Number of errors: 0 
Number of failures: 0 

 
1 Test Suite : 
Mergeomics RUnit Tests - 2 test functions, 0 errors, 0 failures
Number of test functions: 2 
Number of errors: 0 
Number of failures: 0 
> 
> proc.time()
   user  system elapsed 
346.027  15.825 506.474 

Example timings

Mergeomics.Rcheck/Mergeomics-Ex.timings

nameusersystemelapsed
MSEA.KDA.onestep0.0030.0020.004
job.kda0.0190.0070.052
kda.analyze0.0110.0040.068
kda.analyze.exec 8.555 0.49612.833
kda.analyze.simulate 8.838 0.46813.274
kda.analyze.test 8.778 0.65012.576
kda.configure0.0000.0000.001
kda.finish0.1520.0160.207
kda.finish.estimate0.0960.0070.131
kda.finish.save0.1010.0060.132
kda.finish.summarize0.1030.0060.123
kda.finish.trim0.1010.0080.145
kda.prepare 8.820 0.49213.302
kda.prepare.overlap0.0000.0010.001
kda.prepare.screen0.0000.0000.001
kda.start1.4210.0811.908
kda.start.edges0.0020.0010.003
kda.start.identify0.0040.0010.005
kda.start.modules0.0010.0010.002
kda2cytoscape0.3270.0190.441
kda2cytoscape.colorize0.0010.0000.000
kda2cytoscape.colormap0.0010.0010.001
kda2cytoscape.drivers0.1480.0120.211
kda2cytoscape.edges0.2420.0180.331
kda2cytoscape.exec0.1640.0130.229
kda2cytoscape.identify0.0030.0010.003
kda2himmeli0.3690.0230.620
kda2himmeli.colorize000
kda2himmeli.colormap0.0000.0010.006
kda2himmeli.drivers0.1530.0110.228
kda2himmeli.edges0.1560.0100.212
kda2himmeli.exec0.2330.0150.356
kda2himmeli.identify0.0030.0020.005
ssea.analyze5.9190.2678.360
ssea.analyze.observe4.0230.0765.680
ssea.analyze.randgenes4.3230.0715.701
ssea.analyze.randloci4.1140.0715.906
ssea.analyze.simulate5.5270.2238.085
ssea.analyze.statistic0.0000.0010.000
ssea.control3.8160.0725.504
ssea.finish5.5740.2308.252
ssea.finish.details5.7570.2418.262
ssea.finish.fdr5.6510.3888.820
ssea.finish.genes5.670.267.88
ssea.meta6.2660.2019.061
ssea.prepare4.0440.0675.603
ssea.prepare.counts3.8670.0645.192
ssea.prepare.structure3.9370.0625.326
ssea.start3.7940.0635.572
ssea.start.configure0.4480.0260.611
ssea.start.identify0.0030.0010.004
ssea.start.relabel3.7490.0605.244
ssea2kda 7.270 0.36610.731
ssea2kda.analyze 7.634 0.37511.107
ssea2kda.import6.1230.2499.101
tool.aggregate0.0010.0010.002
tool.cluster0.0190.0010.020
tool.cluster.static0.0010.0000.001
tool.coalesce0.0410.0010.075
tool.coalesce.exec0.1220.0050.201
tool.coalesce.find0.1250.0020.202
tool.coalesce.merge0.1240.0020.173
tool.fdr0.0010.0010.001
tool.fdr.bh0.0010.0000.001
tool.fdr.empirical0.0010.0000.001
tool.graph1.3320.0702.186
tool.graph.degree1.4320.0952.149
tool.graph.list1.2420.1191.879
tool.metap0.0030.0000.003
tool.normalize0.0080.0000.009
tool.normalize.quality0.0090.0000.014
tool.overlap0.0180.0020.020
tool.read0.2910.0130.389
tool.save0.0010.0000.003
tool.subgraph0.1040.0050.127
tool.subgraph.find0.0980.0050.130
tool.subgraph.search0.1000.0040.130
tool.subgraph.stats0.1130.0050.139
tool.translate0.0590.0040.081
tool.unify0.0020.0000.002