| Back to Multiple platform build/check report for BioC 3.22: simplified long |
|
This page was generated on 2025-11-27 12:05 -0500 (Thu, 27 Nov 2025).
| Hostname | OS | Arch (*) | R version | Installed pkgs |
|---|---|---|---|---|
| nebbiolo2 | Linux (Ubuntu 24.04.3 LTS) | x86_64 | 4.5.2 (2025-10-31) -- "[Not] Part in a Rumble" | 4876 |
| merida1 | macOS 12.7.6 Monterey | x86_64 | 4.5.2 Patched (2025-11-05 r88990) -- "[Not] Part in a Rumble" | 4656 |
| kjohnson1 | macOS 13.7.5 Ventura | arm64 | 4.5.2 Patched (2025-11-04 r88984) -- "[Not] Part in a Rumble" | 4602 |
| taishan | Linux (openEuler 24.03 LTS) | aarch64 | 4.5.0 (2025-04-11) -- "How About a Twenty-Six" | 4668 |
| Click on any hostname to see more info about the system (e.g. compilers) (*) as reported by 'uname -p', except on Windows and Mac OS X | ||||
| Package 1167/2361 | Hostname | OS / Arch | INSTALL | BUILD | CHECK | BUILD BIN | ||||||||
| M3Drop 1.36.0 (landing page) Tallulah Andrews
| nebbiolo2 | Linux (Ubuntu 24.04.3 LTS) / x86_64 | OK | OK | OK | |||||||||
| merida1 | macOS 12.7.6 Monterey / x86_64 | OK | OK | OK | OK | |||||||||
| kjohnson1 | macOS 13.7.5 Ventura / arm64 | OK | OK | OK | NA | |||||||||
| taishan | Linux (openEuler 24.03 LTS) / aarch64 | OK | OK | OK | ||||||||||
|
To the developers/maintainers of the M3Drop package: - Allow up to 24 hours (and sometimes 48 hours) for your latest push to git@git.bioconductor.org:packages/M3Drop.git to reflect on this report. See Troubleshooting Build Report for more information. - Use the following Renviron settings to reproduce errors and warnings. - If 'R CMD check' started to fail recently on the Linux builder(s) over a missing dependency, add the missing dependency to 'Suggests:' in your DESCRIPTION file. See Renviron.bioc for more information. - See Martin Grigorov's blog post for how to debug Linux ARM64 related issues on a x86_64 host. |
| Package: M3Drop |
| Version: 1.36.0 |
| Command: /home/biocbuild/R/R/bin/R CMD check --install=check:M3Drop.install-out.txt --library=/home/biocbuild/R/R/site-library --no-vignettes --timings M3Drop_1.36.0.tar.gz |
| StartedAt: 2025-11-25 11:15:35 -0000 (Tue, 25 Nov 2025) |
| EndedAt: 2025-11-25 11:23:34 -0000 (Tue, 25 Nov 2025) |
| EllapsedTime: 478.8 seconds |
| RetCode: 0 |
| Status: OK |
| CheckDir: M3Drop.Rcheck |
| Warnings: 0 |
##############################################################################
##############################################################################
###
### Running command:
###
### /home/biocbuild/R/R/bin/R CMD check --install=check:M3Drop.install-out.txt --library=/home/biocbuild/R/R/site-library --no-vignettes --timings M3Drop_1.36.0.tar.gz
###
##############################################################################
##############################################################################
* using log directory ‘/home/biocbuild/bbs-3.22-bioc/meat/M3Drop.Rcheck’
* using R version 4.5.0 (2025-04-11)
* using platform: aarch64-unknown-linux-gnu
* R was compiled by
aarch64-unknown-linux-gnu-gcc (GCC) 14.2.0
GNU Fortran (GCC) 14.2.0
* running under: openEuler 24.03 (LTS)
* using session charset: UTF-8
* using option ‘--no-vignettes’
* checking for file ‘M3Drop/DESCRIPTION’ ... OK
* this is package ‘M3Drop’ version ‘1.36.0’
* checking package namespace information ... OK
* checking package dependencies ... OK
* checking if this is a source package ... OK
* checking if there is a namespace ... OK
* checking for hidden files and directories ... OK
* checking for portable file names ... OK
* checking for sufficient/correct file permissions ... OK
* checking whether package ‘M3Drop’ can be installed ... OK
* checking installed package size ... OK
* checking package directory ... OK
* checking ‘build’ directory ... OK
* checking DESCRIPTION meta-information ... OK
* checking top-level files ... OK
* checking for left-over files ... OK
* checking index information ... OK
* checking package subdirectories ... OK
* checking code files for non-ASCII characters ... OK
* checking R files for syntax errors ... OK
* checking whether the package can be loaded ... OK
* checking whether the package can be loaded with stated dependencies ... OK
* checking whether the package can be unloaded cleanly ... OK
* checking whether the namespace can be loaded with stated dependencies ... OK
* checking whether the namespace can be unloaded cleanly ... OK
* checking loading without being on the library search path ... OK
* checking dependencies in R code ... NOTE
Namespace in Imports field not imported from: ‘scater’
All declared Imports should be used.
* checking S3 generic/method consistency ... OK
* checking replacement functions ... OK
* checking foreign function calls ... OK
* checking R code for possible problems ... NOTE
M3DropConvertData: no visible global function definition for ‘assays’
NBumiConvertData: no visible global function definition for ‘assays’
bg__filter_cells: no visible binding for global variable ‘x’
bg__get_extreme_residuals: no visible binding for global variable ‘x’
Undefined global functions or variables:
assays x
* checking Rd files ... NOTE
prepare_Rd: NBumi_FSOther.Rd:8-10: Dropping empty section \usage
prepare_Rd: NBumi_TradDE.Rd:7-8: Dropping empty section \usage
* checking Rd metadata ... OK
* checking Rd cross-references ... OK
* checking for missing documentation entries ... OK
* checking for code/documentation mismatches ... OK
* checking Rd \usage sections ... OK
* checking Rd contents ... OK
* checking for unstated dependencies in examples ... OK
* checking files in ‘vignettes’ ... OK
* checking examples ... OK
Examples with CPU (user + system) or elapsed time > 5s
user system elapsed
NewSimulations 149.157 0.654 150.296
Imputation 79.224 0.240 79.641
M3D_getmarkers 50.049 0.156 50.338
M3D_ConverData 7.315 0.252 7.588
* checking for unstated dependencies in vignettes ... OK
* checking package vignettes ... OK
* checking running R code from vignettes ... SKIPPED
* checking re-building of vignette outputs ... SKIPPED
* checking PDF version of manual ... OK
* DONE
Status: 3 NOTEs
See
‘/home/biocbuild/bbs-3.22-bioc/meat/M3Drop.Rcheck/00check.log’
for details.
M3Drop.Rcheck/00install.out
############################################################################## ############################################################################## ### ### Running command: ### ### /home/biocbuild/R/R/bin/R CMD INSTALL M3Drop ### ############################################################################## ############################################################################## * installing to library ‘/home/biocbuild/R/R-4.5.0/site-library’ * installing *source* package ‘M3Drop’ ... ** this is package ‘M3Drop’ version ‘1.36.0’ ** using staged installation ** R ** inst ** byte-compile and prepare package for lazy loading ** help *** installing help indices ** building package indices ** installing vignettes ** testing if installed package can be loaded from temporary location ** testing if installed package can be loaded from final location ** testing if installed package keeps a record of temporary installation path * DONE (M3Drop)
M3Drop.Rcheck/M3Drop-Ex.timings
| name | user | system | elapsed | |
| Brennecke_getVariableGenes | 4.793 | 0.116 | 4.946 | |
| Consensus_FS | 1.668 | 0.060 | 1.732 | |
| Fitting_Dropout_Models | 0 | 0 | 0 | |
| Imputation | 79.224 | 0.240 | 79.641 | |
| M3D_Clean_Data | 1.998 | 0.070 | 2.073 | |
| M3D_ConverData | 7.315 | 0.252 | 7.588 | |
| M3D_Differential_Expression | 1.593 | 0.040 | 1.637 | |
| M3D_Dropout_Models | 1.939 | 0.012 | 1.956 | |
| M3D_Expression_Heatmap | 0.607 | 0.003 | 0.612 | |
| M3D_Get_Extremes | 3.146 | 0.012 | 3.165 | |
| M3D_Get_Heatmap_Cell_Clusters | 0.545 | 0.016 | 0.563 | |
| M3D_Simulations | 0 | 0 | 0 | |
| M3D_Test_Shift | 0.761 | 0.020 | 0.782 | |
| M3D_ThreeSet_Venn | 0.37 | 0.00 | 0.37 | |
| M3D_TraditionalDE | 0.013 | 0.000 | 0.013 | |
| M3D_getmarkers | 50.049 | 0.156 | 50.338 | |
| M3D_horz_res | 0 | 0 | 0 | |
| NBumi_CheckFit | 2.925 | 0.076 | 3.007 | |
| NBumi_CoExpression | 1.498 | 0.012 | 1.514 | |
| NBumi_CompareModels | 4.450 | 0.016 | 4.476 | |
| NBumi_ConvertToInteger | 0 | 0 | 0 | |
| NBumi_ConvrtData | 0.352 | 0.008 | 0.361 | |
| NBumi_FSDrop | 1.828 | 0.020 | 1.853 | |
| NBumi_FSHighVar | 2.110 | 0.000 | 2.116 | |
| NBumi_FSOther | 0.015 | 0.000 | 0.015 | |
| NBumi_FitDisp | 0 | 0 | 0 | |
| NBumi_FitDispVsMean | 1.224 | 0.000 | 1.228 | |
| NBumi_FitModel | 1.490 | 0.008 | 1.501 | |
| NBumi_HVG | 1.708 | 0.000 | 1.713 | |
| NBumi_PearsonResiduals | 2.251 | 0.000 | 2.257 | |
| NBumi_TradDE | 0.001 | 0.000 | 0.000 | |
| NewSimulations | 149.157 | 0.654 | 150.296 | |
| Other_FS | 3.056 | 0.012 | 3.073 | |
| PoissonUMIFeatureSelectionDropouts | 1.448 | 0.064 | 1.515 | |
| bg__fit_gamma | 0 | 0 | 0 | |
| bg__get_stats | 0.000 | 0.000 | 0.001 | |
| bg__mean2disp | 0 | 0 | 0 | |
| bg__shift_size | 0 | 0 | 0 | |
| bg__var_vs_drop | 0.001 | 0.000 | 0.000 | |