| Back to Multiple platform build/check report for BioC 3.22: simplified long |
|
This page was generated on 2025-11-27 12:02 -0500 (Thu, 27 Nov 2025).
| Hostname | OS | Arch (*) | R version | Installed pkgs |
|---|---|---|---|---|
| nebbiolo2 | Linux (Ubuntu 24.04.3 LTS) | x86_64 | 4.5.2 (2025-10-31) -- "[Not] Part in a Rumble" | 4876 |
| merida1 | macOS 12.7.6 Monterey | x86_64 | 4.5.2 Patched (2025-11-05 r88990) -- "[Not] Part in a Rumble" | 4656 |
| kjohnson1 | macOS 13.7.5 Ventura | arm64 | 4.5.2 Patched (2025-11-04 r88984) -- "[Not] Part in a Rumble" | 4602 |
| taishan | Linux (openEuler 24.03 LTS) | aarch64 | 4.5.0 (2025-04-11) -- "How About a Twenty-Six" | 4668 |
| Click on any hostname to see more info about the system (e.g. compilers) (*) as reported by 'uname -p', except on Windows and Mac OS X | ||||
| Package 1167/2361 | Hostname | OS / Arch | INSTALL | BUILD | CHECK | BUILD BIN | ||||||||
| M3Drop 1.36.0 (landing page) Tallulah Andrews
| nebbiolo2 | Linux (Ubuntu 24.04.3 LTS) / x86_64 | OK | OK | OK | |||||||||
| merida1 | macOS 12.7.6 Monterey / x86_64 | OK | OK | OK | OK | |||||||||
| kjohnson1 | macOS 13.7.5 Ventura / arm64 | OK | OK | OK | NA | |||||||||
| taishan | Linux (openEuler 24.03 LTS) / aarch64 | OK | OK | OK | ||||||||||
|
To the developers/maintainers of the M3Drop package: - Allow up to 24 hours (and sometimes 48 hours) for your latest push to git@git.bioconductor.org:packages/M3Drop.git to reflect on this report. See Troubleshooting Build Report for more information. - Use the following Renviron settings to reproduce errors and warnings. - If 'R CMD check' started to fail recently on the Linux builder(s) over a missing dependency, add the missing dependency to 'Suggests:' in your DESCRIPTION file. See Renviron.bioc for more information. |
| Package: M3Drop |
| Version: 1.36.0 |
| Command: /home/biocbuild/bbs-3.22-bioc/R/bin/R CMD check --install=check:M3Drop.install-out.txt --library=/home/biocbuild/bbs-3.22-bioc/R/site-library --timings M3Drop_1.36.0.tar.gz |
| StartedAt: 2025-11-26 01:27:27 -0500 (Wed, 26 Nov 2025) |
| EndedAt: 2025-11-26 01:34:30 -0500 (Wed, 26 Nov 2025) |
| EllapsedTime: 423.6 seconds |
| RetCode: 0 |
| Status: OK |
| CheckDir: M3Drop.Rcheck |
| Warnings: 0 |
##############################################################################
##############################################################################
###
### Running command:
###
### /home/biocbuild/bbs-3.22-bioc/R/bin/R CMD check --install=check:M3Drop.install-out.txt --library=/home/biocbuild/bbs-3.22-bioc/R/site-library --timings M3Drop_1.36.0.tar.gz
###
##############################################################################
##############################################################################
* using log directory ‘/home/biocbuild/bbs-3.22-bioc/meat/M3Drop.Rcheck’
* using R version 4.5.2 (2025-10-31)
* using platform: x86_64-pc-linux-gnu
* R was compiled by
gcc (Ubuntu 13.3.0-6ubuntu2~24.04) 13.3.0
GNU Fortran (Ubuntu 13.3.0-6ubuntu2~24.04) 13.3.0
* running under: Ubuntu 24.04.3 LTS
* using session charset: UTF-8
* checking for file ‘M3Drop/DESCRIPTION’ ... OK
* this is package ‘M3Drop’ version ‘1.36.0’
* checking package namespace information ... OK
* checking package dependencies ... OK
* checking if this is a source package ... OK
* checking if there is a namespace ... OK
* checking for hidden files and directories ... OK
* checking for portable file names ... OK
* checking for sufficient/correct file permissions ... OK
* checking whether package ‘M3Drop’ can be installed ... OK
* checking installed package size ... OK
* checking package directory ... OK
* checking ‘build’ directory ... OK
* checking DESCRIPTION meta-information ... OK
* checking top-level files ... OK
* checking for left-over files ... OK
* checking index information ... OK
* checking package subdirectories ... OK
* checking code files for non-ASCII characters ... OK
* checking R files for syntax errors ... OK
* checking whether the package can be loaded ... OK
* checking whether the package can be loaded with stated dependencies ... OK
* checking whether the package can be unloaded cleanly ... OK
* checking whether the namespace can be loaded with stated dependencies ... OK
* checking whether the namespace can be unloaded cleanly ... OK
* checking loading without being on the library search path ... OK
* checking dependencies in R code ... NOTE
Namespace in Imports field not imported from: ‘scater’
All declared Imports should be used.
* checking S3 generic/method consistency ... OK
* checking replacement functions ... OK
* checking foreign function calls ... OK
* checking R code for possible problems ... NOTE
M3DropConvertData: no visible global function definition for ‘assays’
NBumiConvertData: no visible global function definition for ‘assays’
bg__filter_cells: no visible binding for global variable ‘x’
bg__get_extreme_residuals: no visible binding for global variable ‘x’
Undefined global functions or variables:
assays x
* checking Rd files ... NOTE
prepare_Rd: NBumi_FSOther.Rd:8-10: Dropping empty section \usage
prepare_Rd: NBumi_TradDE.Rd:7-8: Dropping empty section \usage
* checking Rd metadata ... OK
* checking Rd cross-references ... OK
* checking for missing documentation entries ... OK
* checking for code/documentation mismatches ... OK
* checking Rd \usage sections ... OK
* checking Rd contents ... OK
* checking for unstated dependencies in examples ... OK
* checking files in ‘vignettes’ ... OK
* checking examples ... OK
Examples with CPU (user + system) or elapsed time > 5s
user system elapsed
NewSimulations 99.868 1.350 101.226
Imputation 40.161 0.129 41.782
M3D_getmarkers 32.018 0.309 32.327
M3D_ConverData 5.369 0.169 5.537
* checking for unstated dependencies in vignettes ... OK
* checking package vignettes ... OK
* checking re-building of vignette outputs ... OK
* checking PDF version of manual ... OK
* DONE
Status: 3 NOTEs
See
‘/home/biocbuild/bbs-3.22-bioc/meat/M3Drop.Rcheck/00check.log’
for details.
M3Drop.Rcheck/00install.out
############################################################################## ############################################################################## ### ### Running command: ### ### /home/biocbuild/bbs-3.22-bioc/R/bin/R CMD INSTALL M3Drop ### ############################################################################## ############################################################################## * installing to library ‘/home/biocbuild/bbs-3.22-bioc/R/site-library’ * installing *source* package ‘M3Drop’ ... ** this is package ‘M3Drop’ version ‘1.36.0’ ** using staged installation ** R ** inst ** byte-compile and prepare package for lazy loading ** help *** installing help indices ** building package indices ** installing vignettes ** testing if installed package can be loaded from temporary location ** testing if installed package can be loaded from final location ** testing if installed package keeps a record of temporary installation path * DONE (M3Drop)
M3Drop.Rcheck/M3Drop-Ex.timings
| name | user | system | elapsed | |
| Brennecke_getVariableGenes | 3.361 | 0.130 | 3.496 | |
| Consensus_FS | 0.245 | 0.003 | 0.247 | |
| Fitting_Dropout_Models | 0 | 0 | 0 | |
| Imputation | 40.161 | 0.129 | 41.782 | |
| M3D_Clean_Data | 1.388 | 0.092 | 1.480 | |
| M3D_ConverData | 5.369 | 0.169 | 5.537 | |
| M3D_Differential_Expression | 1.301 | 0.057 | 1.359 | |
| M3D_Dropout_Models | 1.650 | 0.026 | 1.675 | |
| M3D_Expression_Heatmap | 0.477 | 0.004 | 0.481 | |
| M3D_Get_Extremes | 2.191 | 0.065 | 2.256 | |
| M3D_Get_Heatmap_Cell_Clusters | 0.431 | 0.004 | 0.434 | |
| M3D_Simulations | 0.001 | 0.000 | 0.000 | |
| M3D_Test_Shift | 0.566 | 0.012 | 0.578 | |
| M3D_ThreeSet_Venn | 0.321 | 0.002 | 0.323 | |
| M3D_TraditionalDE | 0.010 | 0.001 | 0.011 | |
| M3D_getmarkers | 32.018 | 0.309 | 32.327 | |
| M3D_horz_res | 0 | 0 | 0 | |
| NBumi_CheckFit | 2.064 | 0.152 | 2.215 | |
| NBumi_CoExpression | 0.649 | 0.037 | 0.687 | |
| NBumi_CompareModels | 2.622 | 0.062 | 2.683 | |
| NBumi_ConvertToInteger | 0.000 | 0.000 | 0.001 | |
| NBumi_ConvrtData | 0.197 | 0.005 | 0.203 | |
| NBumi_FSDrop | 0.812 | 0.040 | 0.851 | |
| NBumi_FSHighVar | 1.315 | 0.003 | 1.318 | |
| NBumi_FSOther | 0.009 | 0.000 | 0.010 | |
| NBumi_FitDisp | 0 | 0 | 0 | |
| NBumi_FitDispVsMean | 0.478 | 0.001 | 0.479 | |
| NBumi_FitModel | 0.645 | 0.019 | 0.664 | |
| NBumi_HVG | 0.743 | 0.001 | 0.744 | |
| NBumi_PearsonResiduals | 1.307 | 0.005 | 1.312 | |
| NBumi_TradDE | 0.000 | 0.000 | 0.001 | |
| NewSimulations | 99.868 | 1.350 | 101.226 | |
| Other_FS | 1.745 | 0.095 | 1.841 | |
| PoissonUMIFeatureSelectionDropouts | 0.594 | 0.018 | 0.613 | |
| bg__fit_gamma | 0.001 | 0.000 | 0.000 | |
| bg__get_stats | 0 | 0 | 0 | |
| bg__mean2disp | 0 | 0 | 0 | |
| bg__shift_size | 0 | 0 | 0 | |
| bg__var_vs_drop | 0.000 | 0.000 | 0.001 | |