Back to Multiple platform build/check report for BioC 3.21:   simplified   long
ABCDEFGHIJK[L]MNOPQRSTUVWXYZ

This page was generated on 2025-05-08 11:47 -0400 (Thu, 08 May 2025).

HostnameOSArch (*)R versionInstalled pkgs
nebbiolo1Linux (Ubuntu 24.04.1 LTS)x86_644.5.0 RC (2025-04-04 r88126) -- "How About a Twenty-Six" 4833
palomino7Windows Server 2022 Datacenterx644.5.0 RC (2025-04-04 r88126 ucrt) -- "How About a Twenty-Six" 4574
merida1macOS 12.7.5 Montereyx86_644.5.0 RC (2025-04-04 r88126) -- "How About a Twenty-Six" 4599
kjohnson1macOS 13.6.6 Venturaarm644.5.0 RC (2025-04-04 r88129) -- "How About a Twenty-Six" 4553
kunpeng2Linux (openEuler 24.03 LTS)aarch64R Under development (unstable) (2025-02-19 r87757) -- "Unsuffered Consequences" 4570
Click on any hostname to see more info about the system (e.g. compilers)      (*) as reported by 'uname -p', except on Windows and Mac OS X

Package 1138/2341HostnameOS / ArchINSTALLBUILDCHECKBUILD BIN
LOBSTAHS 1.34.0  (landing page)
Henry Holm
Snapshot Date: 2025-05-05 13:40 -0400 (Mon, 05 May 2025)
git_url: https://git.bioconductor.org/packages/LOBSTAHS
git_branch: RELEASE_3_21
git_last_commit: 706e408
git_last_commit_date: 2025-04-15 11:03:30 -0400 (Tue, 15 Apr 2025)
nebbiolo1Linux (Ubuntu 24.04.1 LTS) / x86_64  OK    OK    ERROR  
palomino7Windows Server 2022 Datacenter / x64  OK    OK    ERROR    OK  
merida1macOS 12.7.5 Monterey / x86_64  ERROR    ERROR  skippedskipped
kjohnson1macOS 13.6.6 Ventura / arm64  ERROR    ERROR  skippedskipped
kunpeng2Linux (openEuler 24.03 LTS) / aarch64  OK    OK    WARNINGS  


BUILD results for LOBSTAHS on kunpeng2

To the developers/maintainers of the LOBSTAHS package:
- Allow up to 24 hours (and sometimes 48 hours) for your latest push to git@git.bioconductor.org:packages/LOBSTAHS.git to reflect on this report. See Troubleshooting Build Report for more information.
- Use the following Renviron settings to reproduce errors and warnings.
- If 'R CMD check' started to fail recently on the Linux builder(s) over a missing dependency, add the missing dependency to 'Suggests:' in your DESCRIPTION file. See Renviron.bioc for more information.
- See Martin Grigorov's blog post for how to debug Linux ARM64 related issues on a x86_64 host.

raw results


Summary

Package: LOBSTAHS
Version: 1.34.0
Command: /home/biocbuild/R/R/bin/R CMD build --keep-empty-dirs --no-resave-data LOBSTAHS
StartedAt: 2025-05-06 01:52:28 -0000 (Tue, 06 May 2025)
EndedAt: 2025-05-06 01:53:57 -0000 (Tue, 06 May 2025)
EllapsedTime: 89.0 seconds
RetCode: 0
Status:   OK  
PackageFile: LOBSTAHS_1.34.0.tar.gz
PackageFileSize: 2.903 MiB

Command output

##############################################################################
##############################################################################
###
### Running command:
###
###   /home/biocbuild/R/R/bin/R CMD build --keep-empty-dirs --no-resave-data LOBSTAHS
###
##############################################################################
##############################################################################


* checking for file ‘LOBSTAHS/DESCRIPTION’ ... OK
* preparing ‘LOBSTAHS’:
* checking DESCRIPTION meta-information ... OK
* installing the package to build vignettes
* creating vignettes ... OK
* checking for LF line-endings in source and make files and shell scripts
* checking for empty or unneeded directories
* looking to see if a ‘data/datalist’ file should be added
* building ‘LOBSTAHS_1.34.0.tar.gz’