| Back to Multiple platform build/check report for BioC 3.21: simplified long |
|
This page was generated on 2025-08-18 11:42 -0400 (Mon, 18 Aug 2025).
| Hostname | OS | Arch (*) | R version | Installed pkgs |
|---|---|---|---|---|
| nebbiolo1 | Linux (Ubuntu 24.04.3 LTS) | x86_64 | 4.5.1 (2025-06-13) -- "Great Square Root" | 4824 |
| palomino7 | Windows Server 2022 Datacenter | x64 | 4.5.1 (2025-06-13 ucrt) -- "Great Square Root" | 4566 |
| merida1 | macOS 12.7.5 Monterey | x86_64 | 4.5.1 RC (2025-06-05 r88288) -- "Great Square Root" | 4604 |
| kjohnson1 | macOS 13.6.6 Ventura | arm64 | 4.5.1 Patched (2025-06-14 r88325) -- "Great Square Root" | 4545 |
| kunpeng2 | Linux (openEuler 24.03 LTS) | aarch64 | R Under development (unstable) (2025-02-19 r87757) -- "Unsuffered Consequences" | 4579 |
| Click on any hostname to see more info about the system (e.g. compilers) (*) as reported by 'uname -p', except on Windows and Mac OS X | ||||
| Package 1109/2341 | Hostname | OS / Arch | INSTALL | BUILD | CHECK | BUILD BIN | ||||||||
| KnowSeq 1.22.0 (landing page) Daniel Castillo-Secilla
| nebbiolo1 | Linux (Ubuntu 24.04.3 LTS) / x86_64 | OK | OK | OK | |||||||||
| palomino7 | Windows Server 2022 Datacenter / x64 | OK | OK | OK | OK | |||||||||
| merida1 | macOS 12.7.5 Monterey / x86_64 | OK | OK | OK | OK | |||||||||
| kjohnson1 | macOS 13.6.6 Ventura / arm64 | OK | OK | OK | OK | |||||||||
| kunpeng2 | Linux (openEuler 24.03 LTS) / aarch64 | OK | OK | OK | ||||||||||
|
To the developers/maintainers of the KnowSeq package: - Allow up to 24 hours (and sometimes 48 hours) for your latest push to git@git.bioconductor.org:packages/KnowSeq.git to reflect on this report. See Troubleshooting Build Report for more information. - Use the following Renviron settings to reproduce errors and warnings. - If 'R CMD check' started to fail recently on the Linux builder(s) over a missing dependency, add the missing dependency to 'Suggests:' in your DESCRIPTION file. See Renviron.bioc for more information. |
| Package: KnowSeq |
| Version: 1.22.0 |
| Command: E:\biocbuild\bbs-3.21-bioc\R\bin\R.exe CMD check --no-multiarch --install=check:KnowSeq.install-out.txt --library=E:\biocbuild\bbs-3.21-bioc\R\library --no-vignettes --timings KnowSeq_1.22.0.tar.gz |
| StartedAt: 2025-08-15 03:32:28 -0400 (Fri, 15 Aug 2025) |
| EndedAt: 2025-08-15 03:38:15 -0400 (Fri, 15 Aug 2025) |
| EllapsedTime: 346.8 seconds |
| RetCode: 0 |
| Status: OK |
| CheckDir: KnowSeq.Rcheck |
| Warnings: 0 |
##############################################################################
##############################################################################
###
### Running command:
###
### E:\biocbuild\bbs-3.21-bioc\R\bin\R.exe CMD check --no-multiarch --install=check:KnowSeq.install-out.txt --library=E:\biocbuild\bbs-3.21-bioc\R\library --no-vignettes --timings KnowSeq_1.22.0.tar.gz
###
##############################################################################
##############################################################################
* using log directory 'E:/biocbuild/bbs-3.21-bioc/meat/KnowSeq.Rcheck'
* using R version 4.5.1 (2025-06-13 ucrt)
* using platform: x86_64-w64-mingw32
* R was compiled by
gcc.exe (GCC) 14.2.0
GNU Fortran (GCC) 14.2.0
* running under: Windows Server 2022 x64 (build 20348)
* using session charset: UTF-8
* using option '--no-vignettes'
* checking for file 'KnowSeq/DESCRIPTION' ... OK
* checking extension type ... Package
* this is package 'KnowSeq' version '1.22.0'
* package encoding: UTF-8
* checking package namespace information ... OK
* checking package dependencies ... OK
* checking if this is a source package ... OK
* checking if there is a namespace ... OK
* checking for hidden files and directories ... OK
* checking for portable file names ... OK
* checking whether package 'KnowSeq' can be installed ... OK
* checking installed package size ... INFO
installed size is 7.2Mb
sub-directories of 1Mb or more:
extdata 6.9Mb
* checking package directory ... OK
* checking 'build' directory ... OK
* checking DESCRIPTION meta-information ... OK
* checking top-level files ... OK
* checking for left-over files ... OK
* checking index information ... OK
* checking package subdirectories ... OK
* checking code files for non-ASCII characters ... OK
* checking R files for syntax errors ... OK
* checking whether the package can be loaded ... OK
* checking whether the package can be loaded with stated dependencies ... OK
* checking whether the package can be unloaded cleanly ... OK
* checking whether the namespace can be loaded with stated dependencies ... OK
* checking whether the namespace can be unloaded cleanly ... OK
* checking dependencies in R code ... OK
* checking S3 generic/method consistency ... OK
* checking replacement functions ... OK
* checking foreign function calls ... OK
* checking R code for possible problems ... NOTE
DEGsExtraction: warning in topTable(fit, number = number, coef = 2,
sort.by = "logFC", p.value = pvalue, adjust = "fdr", lfc = lfc):
partial argument match of 'adjust' to 'adjust.method'
RNAseqQA : outlierBarPlot: no visible binding for global variable 'x'
RNAseqQA : outlierBarPlot: no visible binding for global variable 'y'
RNAseqQA: no visible binding for global variable 'Var1'
RNAseqQA: no visible binding for global variable 'Var2'
RNAseqQA: no visible binding for global variable 'value'
RNAseqQA: no visible binding for global variable 'Expression'
RNAseqQA: no visible binding for global variable 'Samples'
dataPlot: no visible binding for global variable 'Var1'
dataPlot: no visible binding for global variable 'Var2'
dataPlot: no visible binding for global variable 'value'
dataPlot: no visible binding for global variable 'Classes'
dataPlot: no visible binding for global variable 'Value'
knn_trn: no visible global function definition for 'knn.cv'
knowseqReport: no visible binding for global variable 'target'
Undefined global functions or variables:
Classes Expression Samples Value Var1 Var2 knn.cv target value x y
* checking Rd files ... OK
* checking Rd metadata ... OK
* checking Rd cross-references ... OK
* checking for missing documentation entries ... OK
* checking for code/documentation mismatches ... OK
* checking Rd \usage sections ... OK
* checking Rd contents ... OK
* checking for unstated dependencies in examples ... OK
* checking files in 'vignettes' ... OK
* checking examples ... OK
Examples with CPU (user + system) or elapsed time > 5s
user system elapsed
dataPlot 26.03 0.59 26.72
svm_trn 21.36 0.25 21.61
rf_trn 19.56 0.39 19.97
svm_test 19.53 0.22 19.76
rf_test 5.70 0.11 5.82
downloadPublicSeries 1.27 0.02 14.09
* checking for unstated dependencies in vignettes ... OK
* checking package vignettes ... OK
* checking running R code from vignettes ... SKIPPED
* checking re-building of vignette outputs ... SKIPPED
* checking PDF version of manual ... OK
* DONE
Status: 1 NOTE
See
'E:/biocbuild/bbs-3.21-bioc/meat/KnowSeq.Rcheck/00check.log'
for details.
KnowSeq.Rcheck/00install.out
############################################################################## ############################################################################## ### ### Running command: ### ### E:\biocbuild\bbs-3.21-bioc\R\bin\R.exe CMD INSTALL KnowSeq ### ############################################################################## ############################################################################## * installing to library 'E:/biocbuild/bbs-3.21-bioc/R/library' * installing *source* package 'KnowSeq' ... ** this is package 'KnowSeq' version '1.22.0' ** using staged installation ** R ** inst ** byte-compile and prepare package for lazy loading ** help *** installing help indices ** building package indices ** installing vignettes ** testing if installed package can be loaded from temporary location ** testing if installed package can be loaded from final location ** testing if installed package keeps a record of temporary installation path * DONE (KnowSeq)
KnowSeq.Rcheck/KnowSeq-Ex.timings
| name | user | system | elapsed | |
| DEGsEvidences | 0.44 | 0.02 | 1.00 | |
| DEGsExtraction | 1.83 | 0.01 | 2.05 | |
| DEGsToDiseases | 0.31 | 0.00 | 0.50 | |
| DEGsToPathways | 0.52 | 0.00 | 0.53 | |
| RNAseqQA | 2.61 | 0.13 | 2.74 | |
| batchEffectRemoval | 1.64 | 0.00 | 1.64 | |
| calculateGeneExpressionValues | 0.86 | 0.03 | 0.89 | |
| countsToMatrix | 0.07 | 0.00 | 0.11 | |
| dataPlot | 26.03 | 0.59 | 26.72 | |
| downloadPublicSeries | 1.27 | 0.02 | 14.09 | |
| featureSelection | 0.03 | 0.00 | 0.03 | |
| fileMove | 0 | 0 | 0 | |
| gdcClientDownload | 0 | 0 | 0 | |
| geneOntologyEnrichment | 0 | 0 | 0 | |
| getGenesAnnotation | 0.29 | 0.00 | 0.29 | |
| hisatAlignment | 0 | 0 | 0 | |
| knn_test | 0.07 | 0.00 | 0.07 | |
| knn_trn | 1.92 | 0.00 | 1.92 | |
| knowseqReport | 0 | 0 | 0 | |
| plotConfMatrix | 0.02 | 0.00 | 0.02 | |
| rawAlignment | 0.02 | 0.00 | 0.01 | |
| rf_test | 5.70 | 0.11 | 5.82 | |
| rf_trn | 19.56 | 0.39 | 19.97 | |
| sraToFastq | 0 | 0 | 0 | |
| svm_test | 19.53 | 0.22 | 19.76 | |
| svm_trn | 21.36 | 0.25 | 21.61 | |