Back to Multiple platform build/check report for BioC 3.21: simplified long |
|
This page was generated on 2025-10-16 11:38 -0400 (Thu, 16 Oct 2025).
Hostname | OS | Arch (*) | R version | Installed pkgs |
---|---|---|---|---|
nebbiolo1 | Linux (Ubuntu 24.04.3 LTS) | x86_64 | 4.5.1 (2025-06-13) -- "Great Square Root" | 4833 |
merida1 | macOS 12.7.6 Monterey | x86_64 | 4.5.1 RC (2025-06-05 r88288) -- "Great Square Root" | 4614 |
kjohnson1 | macOS 13.7.5 Ventura | arm64 | 4.5.1 Patched (2025-06-14 r88325) -- "Great Square Root" | 4555 |
kunpeng2 | Linux (openEuler 24.03 LTS) | aarch64 | R Under development (unstable) (2025-02-19 r87757) -- "Unsuffered Consequences" | 4586 |
Click on any hostname to see more info about the system (e.g. compilers) (*) as reported by 'uname -p', except on Windows and Mac OS X |
Package 1109/2341 | Hostname | OS / Arch | INSTALL | BUILD | CHECK | BUILD BIN | ||||||||
KnowSeq 1.22.0 (landing page) Daniel Castillo-Secilla
| nebbiolo1 | Linux (Ubuntu 24.04.3 LTS) / x86_64 | OK | OK | OK | ![]() | ||||||||
merida1 | macOS 12.7.6 Monterey / x86_64 | OK | OK | OK | OK | ![]() | ||||||||
kjohnson1 | macOS 13.7.5 Ventura / arm64 | OK | OK | OK | OK | ![]() | ||||||||
kunpeng2 | Linux (openEuler 24.03 LTS) / aarch64 | OK | OK | OK | ||||||||||
To the developers/maintainers of the KnowSeq package: - Allow up to 24 hours (and sometimes 48 hours) for your latest push to git@git.bioconductor.org:packages/KnowSeq.git to reflect on this report. See Troubleshooting Build Report for more information. - Use the following Renviron settings to reproduce errors and warnings. - If 'R CMD check' started to fail recently on the Linux builder(s) over a missing dependency, add the missing dependency to 'Suggests:' in your DESCRIPTION file. See Renviron.bioc for more information. |
Package: KnowSeq |
Version: 1.22.0 |
Command: /home/biocbuild/bbs-3.21-bioc/R/bin/R CMD check --install=check:KnowSeq.install-out.txt --library=/home/biocbuild/bbs-3.21-bioc/R/site-library --timings KnowSeq_1.22.0.tar.gz |
StartedAt: 2025-10-16 00:30:12 -0400 (Thu, 16 Oct 2025) |
EndedAt: 2025-10-16 00:37:03 -0400 (Thu, 16 Oct 2025) |
EllapsedTime: 410.8 seconds |
RetCode: 0 |
Status: OK |
CheckDir: KnowSeq.Rcheck |
Warnings: 0 |
############################################################################## ############################################################################## ### ### Running command: ### ### /home/biocbuild/bbs-3.21-bioc/R/bin/R CMD check --install=check:KnowSeq.install-out.txt --library=/home/biocbuild/bbs-3.21-bioc/R/site-library --timings KnowSeq_1.22.0.tar.gz ### ############################################################################## ############################################################################## * using log directory ‘/home/biocbuild/bbs-3.21-bioc/meat/KnowSeq.Rcheck’ * using R version 4.5.1 (2025-06-13) * using platform: x86_64-pc-linux-gnu * R was compiled by gcc (Ubuntu 13.3.0-6ubuntu2~24.04) 13.3.0 GNU Fortran (Ubuntu 13.3.0-6ubuntu2~24.04) 13.3.0 * running under: Ubuntu 24.04.3 LTS * using session charset: UTF-8 * checking for file ‘KnowSeq/DESCRIPTION’ ... OK * checking extension type ... Package * this is package ‘KnowSeq’ version ‘1.22.0’ * package encoding: UTF-8 * checking package namespace information ... OK * checking package dependencies ... OK * checking if this is a source package ... OK * checking if there is a namespace ... OK * checking for hidden files and directories ... OK * checking for portable file names ... OK * checking for sufficient/correct file permissions ... OK * checking whether package ‘KnowSeq’ can be installed ... OK * checking installed package size ... OK * checking package directory ... OK * checking ‘build’ directory ... OK * checking DESCRIPTION meta-information ... OK * checking top-level files ... OK * checking for left-over files ... OK * checking index information ... OK * checking package subdirectories ... OK * checking code files for non-ASCII characters ... OK * checking R files for syntax errors ... OK * checking whether the package can be loaded ... OK * checking whether the package can be loaded with stated dependencies ... OK * checking whether the package can be unloaded cleanly ... OK * checking whether the namespace can be loaded with stated dependencies ... OK * checking whether the namespace can be unloaded cleanly ... OK * checking loading without being on the library search path ... OK * checking dependencies in R code ... OK * checking S3 generic/method consistency ... OK * checking replacement functions ... OK * checking foreign function calls ... OK * checking R code for possible problems ... NOTE DEGsExtraction: warning in topTable(fit, number = number, coef = 2, sort.by = "logFC", p.value = pvalue, adjust = "fdr", lfc = lfc): partial argument match of 'adjust' to 'adjust.method' RNAseqQA : outlierBarPlot: no visible binding for global variable ‘x’ RNAseqQA : outlierBarPlot: no visible binding for global variable ‘y’ RNAseqQA: no visible binding for global variable ‘Var1’ RNAseqQA: no visible binding for global variable ‘Var2’ RNAseqQA: no visible binding for global variable ‘value’ RNAseqQA: no visible binding for global variable ‘Expression’ RNAseqQA: no visible binding for global variable ‘Samples’ dataPlot: no visible binding for global variable ‘Var1’ dataPlot: no visible binding for global variable ‘Var2’ dataPlot: no visible binding for global variable ‘value’ dataPlot: no visible binding for global variable ‘Classes’ dataPlot: no visible binding for global variable ‘Value’ knn_trn: no visible global function definition for ‘knn.cv’ knowseqReport: no visible binding for global variable ‘target’ Undefined global functions or variables: Classes Expression Samples Value Var1 Var2 knn.cv target value x y * checking Rd files ... OK * checking Rd metadata ... OK * checking Rd cross-references ... OK * checking for missing documentation entries ... OK * checking for code/documentation mismatches ... OK * checking Rd \usage sections ... OK * checking Rd contents ... OK * checking for unstated dependencies in examples ... OK * checking files in ‘vignettes’ ... OK * checking examples ... OK Examples with CPU (user + system) or elapsed time > 5s user system elapsed dataPlot 18.996 0.290 19.264 svm_trn 15.606 0.032 15.639 rf_trn 15.109 0.371 15.481 svm_test 13.541 0.188 13.730 downloadPublicSeries 0.946 0.362 15.045 * checking for unstated dependencies in vignettes ... OK * checking package vignettes ... OK * checking re-building of vignette outputs ... OK * checking PDF version of manual ... OK * DONE Status: 1 NOTE See ‘/home/biocbuild/bbs-3.21-bioc/meat/KnowSeq.Rcheck/00check.log’ for details.
KnowSeq.Rcheck/00install.out
############################################################################## ############################################################################## ### ### Running command: ### ### /home/biocbuild/bbs-3.21-bioc/R/bin/R CMD INSTALL KnowSeq ### ############################################################################## ############################################################################## * installing to library ‘/home/biocbuild/bbs-3.21-bioc/R/site-library’ * installing *source* package ‘KnowSeq’ ... ** this is package ‘KnowSeq’ version ‘1.22.0’ ** using staged installation ** R ** inst ** byte-compile and prepare package for lazy loading ** help *** installing help indices ** building package indices ** installing vignettes ** testing if installed package can be loaded from temporary location ** testing if installed package can be loaded from final location ** testing if installed package keeps a record of temporary installation path * DONE (KnowSeq)
KnowSeq.Rcheck/KnowSeq-Ex.timings
name | user | system | elapsed | |
DEGsEvidences | 0.430 | 0.021 | 2.886 | |
DEGsExtraction | 1.192 | 0.112 | 1.307 | |
DEGsToDiseases | 0.210 | 0.013 | 0.514 | |
DEGsToPathways | 0.371 | 0.041 | 0.414 | |
RNAseqQA | 2.590 | 0.226 | 2.804 | |
batchEffectRemoval | 2.615 | 0.146 | 2.763 | |
calculateGeneExpressionValues | 0.528 | 0.007 | 0.535 | |
countsToMatrix | 0.047 | 0.001 | 0.050 | |
dataPlot | 18.996 | 0.290 | 19.264 | |
downloadPublicSeries | 0.946 | 0.362 | 15.045 | |
featureSelection | 0.019 | 0.003 | 0.018 | |
fileMove | 0.000 | 0.000 | 0.001 | |
gdcClientDownload | 0.001 | 0.000 | 0.000 | |
geneOntologyEnrichment | 0 | 0 | 0 | |
getGenesAnnotation | 0.228 | 0.019 | 0.246 | |
hisatAlignment | 0.002 | 0.001 | 0.002 | |
knn_test | 0.049 | 0.005 | 0.053 | |
knn_trn | 1.548 | 0.187 | 1.735 | |
knowseqReport | 0.008 | 0.001 | 0.008 | |
plotConfMatrix | 0.019 | 0.001 | 0.020 | |
rawAlignment | 0.002 | 0.001 | 0.002 | |
rf_test | 4.032 | 0.282 | 4.313 | |
rf_trn | 15.109 | 0.371 | 15.481 | |
sraToFastq | 0.001 | 0.000 | 0.000 | |
svm_test | 13.541 | 0.188 | 13.730 | |
svm_trn | 15.606 | 0.032 | 15.639 | |