| Back to Multiple platform build/check report for BioC 3.22: simplified long |
|
This page was generated on 2025-11-04 12:04 -0500 (Tue, 04 Nov 2025).
| Hostname | OS | Arch (*) | R version | Installed pkgs |
|---|---|---|---|---|
| nebbiolo2 | Linux (Ubuntu 24.04.3 LTS) | x86_64 | 4.5.1 Patched (2025-08-23 r88802) -- "Great Square Root" | 4902 |
| lconway | macOS 12.7.6 Monterey | x86_64 | 4.5.1 Patched (2025-09-10 r88807) -- "Great Square Root" | 4692 |
| kjohnson3 | macOS 13.7.7 Ventura | arm64 | 4.5.1 Patched (2025-09-10 r88807) -- "Great Square Root" | 4638 |
| Click on any hostname to see more info about the system (e.g. compilers) (*) as reported by 'uname -p', except on Windows and Mac OS X | ||||
| Package 1081/2361 | Hostname | OS / Arch | INSTALL | BUILD | CHECK | BUILD BIN | ||||||||
| ISAnalytics 1.20.0 (landing page) Francesco Gazzo
| nebbiolo2 | Linux (Ubuntu 24.04.3 LTS) / x86_64 | OK | OK | OK | |||||||||
| lconway | macOS 12.7.6 Monterey / x86_64 | OK | OK | OK | OK | |||||||||
| kjohnson3 | macOS 13.7.7 Ventura / arm64 | OK | OK | OK | OK | |||||||||
|
To the developers/maintainers of the ISAnalytics package: - Allow up to 24 hours (and sometimes 48 hours) for your latest push to git@git.bioconductor.org:packages/ISAnalytics.git to reflect on this report. See Troubleshooting Build Report for more information. - Use the following Renviron settings to reproduce errors and warnings. - If 'R CMD check' started to fail recently on the Linux builder(s) over a missing dependency, add the missing dependency to 'Suggests:' in your DESCRIPTION file. See Renviron.bioc for more information. |
| Package: ISAnalytics |
| Version: 1.20.0 |
| Command: /Library/Frameworks/R.framework/Resources/bin/R CMD check --install=check:ISAnalytics.install-out.txt --library=/Library/Frameworks/R.framework/Resources/library --no-vignettes --timings ISAnalytics_1.20.0.tar.gz |
| StartedAt: 2025-11-03 22:00:05 -0500 (Mon, 03 Nov 2025) |
| EndedAt: 2025-11-03 22:11:14 -0500 (Mon, 03 Nov 2025) |
| EllapsedTime: 669.6 seconds |
| RetCode: 0 |
| Status: OK |
| CheckDir: ISAnalytics.Rcheck |
| Warnings: 0 |
##############################################################################
##############################################################################
###
### Running command:
###
### /Library/Frameworks/R.framework/Resources/bin/R CMD check --install=check:ISAnalytics.install-out.txt --library=/Library/Frameworks/R.framework/Resources/library --no-vignettes --timings ISAnalytics_1.20.0.tar.gz
###
##############################################################################
##############################################################################
* using log directory ‘/Users/biocbuild/bbs-3.22-bioc/meat/ISAnalytics.Rcheck’
* using R version 4.5.1 Patched (2025-09-10 r88807)
* using platform: x86_64-apple-darwin20
* R was compiled by
Apple clang version 14.0.0 (clang-1400.0.29.202)
GNU Fortran (GCC) 14.2.0
* running under: macOS Monterey 12.7.6
* using session charset: UTF-8
* using option ‘--no-vignettes’
* checking for file ‘ISAnalytics/DESCRIPTION’ ... OK
* this is package ‘ISAnalytics’ version ‘1.20.0’
* package encoding: UTF-8
* checking package namespace information ... OK
* checking package dependencies ... INFO
Imports includes 22 non-default packages.
Importing from so many packages makes the package vulnerable to any of
them becoming unavailable. Move as many as possible to Suggests and
use conditionally.
* checking if this is a source package ... OK
* checking if there is a namespace ... OK
* checking for hidden files and directories ... OK
* checking for portable file names ... OK
* checking for sufficient/correct file permissions ... OK
* checking whether package ‘ISAnalytics’ can be installed ... OK
* checking installed package size ... INFO
installed size is 8.3Mb
sub-directories of 1Mb or more:
data 5.8Mb
* checking package directory ... OK
* checking ‘build’ directory ... OK
* checking DESCRIPTION meta-information ... OK
* checking top-level files ... OK
* checking for left-over files ... OK
* checking index information ... OK
* checking package subdirectories ... OK
* checking code files for non-ASCII characters ... OK
* checking R files for syntax errors ... OK
* checking whether the package can be loaded ... OK
* checking whether the package can be loaded with stated dependencies ... OK
* checking whether the package can be unloaded cleanly ... OK
* checking whether the namespace can be loaded with stated dependencies ... OK
* checking whether the namespace can be unloaded cleanly ... OK
* checking whether startup messages can be suppressed ... OK
* checking dependencies in R code ... OK
* checking S3 generic/method consistency ... OK
* checking replacement functions ... OK
* checking foreign function calls ... OK
* checking R code for possible problems ... OK
* checking Rd files ... NOTE
checkRd: (-1) refGenes_hg19.Rd:21: Lost braces; missing escapes or markup?
21 | \item Download from {http://hgdownload.soe.ucsc.edu/goldenPath/hg19/database/}
| ^
* checking Rd metadata ... OK
* checking Rd cross-references ... OK
* checking for missing documentation entries ... OK
* checking for code/documentation mismatches ... OK
* checking Rd \usage sections ... OK
* checking Rd contents ... OK
* checking for unstated dependencies in examples ... OK
* checking contents of ‘data’ directory ... OK
* checking data for non-ASCII characters ... OK
* checking data for ASCII and uncompressed saves ... OK
* checking files in ‘vignettes’ ... OK
* checking examples ... OK
Examples with CPU (user + system) or elapsed time > 5s
user system elapsed
integration_alluvial_plot 3.970 0.129 12.479
import_parallel_Vispa2Matrices 2.842 0.151 19.478
sharing_venn 2.406 0.099 40.824
sharing_heatmap 2.120 0.049 12.917
CIS_grubbs_overtime 1.815 0.217 8.547
import_Vispa2_stats 1.779 0.151 9.021
top_cis_overtime_heatmap 1.768 0.068 10.683
iss_source 1.421 0.031 9.635
is_sharing 1.350 0.037 10.599
HSC_population_plot 1.329 0.033 7.441
realign_after_collisions 1.287 0.036 8.963
remove_collisions 1.265 0.026 8.920
compute_near_integrations 0.968 0.041 11.973
HSC_population_size_estimate 0.922 0.030 7.124
* checking for unstated dependencies in ‘tests’ ... OK
* checking tests ...
Running ‘testthat.R’
OK
* checking for unstated dependencies in vignettes ... OK
* checking package vignettes ... OK
* checking running R code from vignettes ... SKIPPED
* checking re-building of vignette outputs ... SKIPPED
* checking PDF version of manual ... OK
* DONE
Status: 1 NOTE
See
‘/Users/biocbuild/bbs-3.22-bioc/meat/ISAnalytics.Rcheck/00check.log’
for details.
ISAnalytics.Rcheck/00install.out
############################################################################## ############################################################################## ### ### Running command: ### ### /Library/Frameworks/R.framework/Resources/bin/R CMD INSTALL ISAnalytics ### ############################################################################## ############################################################################## * installing to library ‘/Library/Frameworks/R.framework/Versions/4.5-x86_64/Resources/library’ * installing *source* package ‘ISAnalytics’ ... ** this is package ‘ISAnalytics’ version ‘1.20.0’ ** using staged installation ** R ** data ** inst ** byte-compile and prepare package for lazy loading ** help *** installing help indices *** copying figures ** building package indices ** installing vignettes ** testing if installed package can be loaded from temporary location ** testing if installed package can be loaded from final location ** testing if installed package keeps a record of temporary installation path * DONE (ISAnalytics)
ISAnalytics.Rcheck/tests/testthat.Rout
R version 4.5.1 Patched (2025-09-10 r88807) -- "Great Square Root"
Copyright (C) 2025 The R Foundation for Statistical Computing
Platform: x86_64-apple-darwin20
R is free software and comes with ABSOLUTELY NO WARRANTY.
You are welcome to redistribute it under certain conditions.
Type 'license()' or 'licence()' for distribution details.
R is a collaborative project with many contributors.
Type 'contributors()' for more information and
'citation()' on how to cite R or R packages in publications.
Type 'demo()' for some demos, 'help()' for on-line help, or
'help.start()' for an HTML browser interface to help.
Type 'q()' to quit R.
> library(testthat)
> library(ISAnalytics)
>
> test_check("ISAnalytics")
Loading required namespace: plotly
Loading required namespace: rmarkdown
2025-11-03 22:06:03.606 R[86781:724377897] XType: com.apple.fonts is not accessible.
2025-11-03 22:06:03.606 R[86781:724377897] XType: XTFontStaticRegistry is enabled.
Report correctly saved
i Report saved to: /tmp/Rtmpv56OkE/file152fd7958402f/2025-11-03_collision_removal_report.html
Report correctly saved
i Report saved to: /tmp/Rtmpv56OkE/file152fd5ac18ee7/2025-11-03_outlier_test_pool_fragments_report.html
[ FAIL 0 | WARN 0 | SKIP 0 | PASS 834 ]
>
> proc.time()
user system elapsed
111.588 5.431 381.019
ISAnalytics.Rcheck/ISAnalytics-Ex.timings
| name | user | system | elapsed | |
| CIS_grubbs | 0.881 | 0.048 | 0.935 | |
| CIS_grubbs_overtime | 1.815 | 0.217 | 8.547 | |
| CIS_volcano_plot | 1.639 | 0.039 | 1.688 | |
| HSC_population_plot | 1.329 | 0.033 | 7.441 | |
| HSC_population_size_estimate | 0.922 | 0.030 | 7.124 | |
| NGSdataExplorer | 0 | 0 | 0 | |
| aggregate_metadata | 0.106 | 0.002 | 0.109 | |
| aggregate_values_by_key | 0.074 | 0.002 | 0.077 | |
| annotation_issues | 0.034 | 0.001 | 0.035 | |
| as_sparse_matrix | 0.067 | 0.002 | 0.070 | |
| available_outlier_tests | 0.000 | 0.001 | 0.000 | |
| available_tags | 0.025 | 0.001 | 0.026 | |
| blood_lineages_default | 0.032 | 0.000 | 0.033 | |
| circos_genomic_density | 0 | 0 | 0 | |
| clinical_relevant_suspicious_genes | 0.013 | 0.001 | 0.013 | |
| comparison_matrix | 0.036 | 0.001 | 0.037 | |
| compute_abundance | 0.038 | 0.002 | 0.041 | |
| compute_near_integrations | 0.968 | 0.041 | 11.973 | |
| cumulative_count_union | 0.000 | 0.001 | 0.000 | |
| cumulative_is | 0.185 | 0.004 | 0.190 | |
| date_formats | 0 | 0 | 0 | |
| default_af_transform | 0.000 | 0.000 | 0.001 | |
| default_iss_file_prefixes | 0.000 | 0.001 | 0.000 | |
| default_meta_agg | 0.021 | 0.000 | 0.020 | |
| default_rec_agg_lambdas | 0.001 | 0.000 | 0.001 | |
| default_report_path | 0.008 | 0.001 | 0.010 | |
| default_stats | 1.250 | 0.036 | 1.294 | |
| enable_progress_bars | 0.017 | 0.002 | 0.020 | |
| export_ISA_settings | 0.089 | 0.002 | 0.091 | |
| fisher_scatterplot | 1.255 | 0.058 | 1.323 | |
| gene_frequency_fisher | 0.902 | 0.014 | 0.920 | |
| generate_Vispa2_launch_AF | 0.225 | 0.018 | 0.256 | |
| generate_blank_association_file | 0.013 | 0.001 | 0.014 | |
| generate_default_folder_structure | 0.793 | 0.085 | 0.827 | |
| import_ISA_settings | 0.063 | 0.002 | 0.065 | |
| import_Vispa2_stats | 1.779 | 0.151 | 9.021 | |
| import_association_file | 0.694 | 0.114 | 0.747 | |
| import_parallel_Vispa2Matrices | 2.842 | 0.151 | 19.478 | |
| import_single_Vispa2Matrix | 0.985 | 0.123 | 1.066 | |
| inspect_tags | 0.018 | 0.000 | 0.017 | |
| integration_alluvial_plot | 3.970 | 0.129 | 12.479 | |
| is_sharing | 1.350 | 0.037 | 10.599 | |
| iss_source | 1.421 | 0.031 | 9.635 | |
| known_clinical_oncogenes | 0.011 | 0.001 | 0.011 | |
| mandatory_IS_vars | 0.102 | 0.006 | 0.107 | |
| matching_options | 0.001 | 0.000 | 0.001 | |
| outlier_filter | 0.179 | 0.007 | 0.188 | |
| outliers_by_pool_fragments | 0.184 | 0.002 | 0.186 | |
| pcr_id_column | 0.023 | 0.001 | 0.024 | |
| purity_filter | 0.378 | 0.005 | 0.385 | |
| quantification_types | 0 | 0 | 0 | |
| realign_after_collisions | 1.287 | 0.036 | 8.963 | |
| reduced_AF_columns | 0.050 | 0.001 | 0.051 | |
| refGene_table_cols | 0.000 | 0.001 | 0.002 | |
| remove_collisions | 1.265 | 0.026 | 8.920 | |
| reset_mandatory_IS_vars | 0.007 | 0.001 | 0.008 | |
| sample_statistics | 0.381 | 0.059 | 0.444 | |
| separate_quant_matrices | 0.017 | 0.001 | 0.018 | |
| set_mandatory_IS_vars | 0.100 | 0.002 | 0.102 | |
| set_matrix_file_suffixes | 0.024 | 0.001 | 0.024 | |
| sharing_heatmap | 2.120 | 0.049 | 12.917 | |
| sharing_venn | 2.406 | 0.099 | 40.824 | |
| threshold_filter | 0.000 | 0.001 | 0.001 | |
| top_abund_tableGrob | 0.647 | 0.010 | 0.662 | |
| top_cis_overtime_heatmap | 1.768 | 0.068 | 10.683 | |
| top_integrations | 0.035 | 0.001 | 0.036 | |
| top_targeted_genes | 0.482 | 0.005 | 0.490 | |
| transform_columns | 0.023 | 0.001 | 0.024 | |