Back to Multiple platform build/check report for BioC 3.22:   simplified   long
ABCDEFG[H]IJKLMNOPQRSTUVWXYZ

This page was generated on 2025-11-01 12:04 -0400 (Sat, 01 Nov 2025).

HostnameOSArch (*)R versionInstalled pkgs
nebbiolo2Linux (Ubuntu 24.04.3 LTS)x86_644.5.1 Patched (2025-08-23 r88802) -- "Great Square Root" 4901
lconwaymacOS 12.7.6 Montereyx86_644.5.1 Patched (2025-09-10 r88807) -- "Great Square Root" 4691
kjohnson3macOS 13.7.7 Venturaarm644.5.1 Patched (2025-09-10 r88807) -- "Great Square Root" 4637
Click on any hostname to see more info about the system (e.g. compilers)      (*) as reported by 'uname -p', except on Windows and Mac OS X

Package 978/2361HostnameOS / ArchINSTALLBUILDCHECKBUILD BIN
HiCBricks 1.28.0  (landing page)
Koustav Pal
Snapshot Date: 2025-10-31 13:45 -0400 (Fri, 31 Oct 2025)
git_url: https://git.bioconductor.org/packages/HiCBricks
git_branch: RELEASE_3_22
git_last_commit: 3296656
git_last_commit_date: 2025-10-29 10:48:17 -0400 (Wed, 29 Oct 2025)
nebbiolo2Linux (Ubuntu 24.04.3 LTS) / x86_64  OK    OK    OK  UNNEEDED, same version is already published
lconwaymacOS 12.7.6 Monterey / x86_64  OK    OK    OK    OK  UNNEEDED, same version is already published
kjohnson3macOS 13.7.7 Ventura / arm64  OK    OK    OK    OK  UNNEEDED, same version is already published


CHECK results for HiCBricks on lconway

To the developers/maintainers of the HiCBricks package:
- Allow up to 24 hours (and sometimes 48 hours) for your latest push to git@git.bioconductor.org:packages/HiCBricks.git to reflect on this report. See Troubleshooting Build Report for more information.
- Use the following Renviron settings to reproduce errors and warnings.
- If 'R CMD check' started to fail recently on the Linux builder(s) over a missing dependency, add the missing dependency to 'Suggests:' in your DESCRIPTION file. See Renviron.bioc for more information.

raw results


Summary

Package: HiCBricks
Version: 1.28.0
Command: /Library/Frameworks/R.framework/Resources/bin/R CMD check --install=check:HiCBricks.install-out.txt --library=/Library/Frameworks/R.framework/Resources/library --no-vignettes --timings HiCBricks_1.28.0.tar.gz
StartedAt: 2025-10-31 21:46:46 -0400 (Fri, 31 Oct 2025)
EndedAt: 2025-10-31 21:49:43 -0400 (Fri, 31 Oct 2025)
EllapsedTime: 177.1 seconds
RetCode: 0
Status:   OK  
CheckDir: HiCBricks.Rcheck
Warnings: 0

Command output

##############################################################################
##############################################################################
###
### Running command:
###
###   /Library/Frameworks/R.framework/Resources/bin/R CMD check --install=check:HiCBricks.install-out.txt --library=/Library/Frameworks/R.framework/Resources/library --no-vignettes --timings HiCBricks_1.28.0.tar.gz
###
##############################################################################
##############################################################################


* using log directory ‘/Users/biocbuild/bbs-3.22-bioc/meat/HiCBricks.Rcheck’
* using R version 4.5.1 Patched (2025-09-10 r88807)
* using platform: x86_64-apple-darwin20
* R was compiled by
    Apple clang version 14.0.0 (clang-1400.0.29.202)
    GNU Fortran (GCC) 14.2.0
* running under: macOS Monterey 12.7.6
* using session charset: UTF-8
* using option ‘--no-vignettes’
* checking for file ‘HiCBricks/DESCRIPTION’ ... OK
* checking extension type ... Package
* this is package ‘HiCBricks’ version ‘1.28.0’
* package encoding: UTF-8
* checking package namespace information ... OK
* checking package dependencies ... OK
* checking if this is a source package ... OK
* checking if there is a namespace ... OK
* checking for hidden files and directories ... OK
* checking for portable file names ... OK
* checking for sufficient/correct file permissions ... OK
* checking whether package ‘HiCBricks’ can be installed ... OK
* checking installed package size ... OK
* checking package directory ... OK
* checking ‘build’ directory ... OK
* checking DESCRIPTION meta-information ... OK
* checking top-level files ... OK
* checking for left-over files ... OK
* checking index information ... OK
* checking package subdirectories ... OK
* checking code files for non-ASCII characters ... OK
* checking R files for syntax errors ... OK
* checking whether the package can be loaded ... OK
* checking whether the package can be loaded with stated dependencies ... OK
* checking whether the package can be unloaded cleanly ... OK
* checking whether the namespace can be loaded with stated dependencies ... OK
* checking whether the namespace can be unloaded cleanly ... OK
* checking dependencies in R code ... OK
* checking S3 generic/method consistency ... OK
* checking replacement functions ... OK
* checking foreign function calls ... OK
* checking R code for possible problems ... OK
* checking Rd files ... OK
* checking Rd metadata ... OK
* checking Rd cross-references ... OK
* checking for missing documentation entries ... OK
* checking for code/documentation mismatches ... OK
* checking Rd \usage sections ... OK
* checking Rd contents ... OK
* checking for unstated dependencies in examples ... OK
* checking files in ‘vignettes’ ... OK
* checking examples ... OK
* checking for unstated dependencies in vignettes ... OK
* checking package vignettes ... OK
* checking running R code from vignettes ... SKIPPED
* checking re-building of vignette outputs ... SKIPPED
* checking PDF version of manual ... OK
* DONE

Status: OK


Installation output

HiCBricks.Rcheck/00install.out

##############################################################################
##############################################################################
###
### Running command:
###
###   /Library/Frameworks/R.framework/Resources/bin/R CMD INSTALL HiCBricks
###
##############################################################################
##############################################################################


* installing to library ‘/Library/Frameworks/R.framework/Versions/4.5-x86_64/Resources/library’
* installing *source* package ‘HiCBricks’ ...
** this is package ‘HiCBricks’ version ‘1.28.0’
** using staged installation
** R
** inst
** byte-compile and prepare package for lazy loading
** help
*** installing help indices
** building package indices
** installing vignettes
** testing if installed package can be loaded from temporary location
** testing if installed package can be loaded from final location
** testing if installed package keeps a record of temporary installation path
* DONE (HiCBricks)

Tests output


Example timings

HiCBricks.Rcheck/HiCBricks-Ex.timings

nameusersystemelapsed
BrickContainer_change_experiment_name1.3240.1211.460
BrickContainer_change_output_directory1.0710.0901.165
BrickContainer_get_path_to_file0.9030.0750.982
BrickContainer_list_chromosomes0.8580.0790.945
BrickContainer_list_experiment_name0.9220.0811.008
BrickContainer_list_files0.9700.0871.063
BrickContainer_list_output_directory0.9350.0811.021
BrickContainer_list_resolutions0.9490.0821.048
BrickContainer_unlink_resolution2.0580.1842.254
Brick_add_ranges2.2540.1282.390
Brick_call_compartments1.5770.2811.884
Brick_export_to_sparse2.9250.2813.220
Brick_fetch_range_index1.1310.0941.230
Brick_fetch_row_vector2.0480.2192.278
Brick_get_bintable0.9690.0831.056
Brick_get_chrominfo0.8400.0820.931
Brick_get_entire_matrix1.3680.2491.630
Brick_get_matrix1.2450.2831.546
Brick_get_matrix_mcols1.2750.2161.503
Brick_get_matrix_within_coords1.7760.2102.000
Brick_get_ranges0.8640.0840.955
Brick_get_values_by_distance1.3680.2311.620
Brick_get_vector_values1.2570.2151.488
Brick_list_matrices0.8740.0820.966
Brick_list_matrix_mcols0.8470.0800.934
Brick_list_mcool_normalisations0.0010.0000.001
Brick_list_mcool_resolutions0.0010.0000.001
Brick_list_rangekeys0.8400.0850.934
Brick_list_ranges_mcols0.8360.0830.929
Brick_load_cis_matrix_till_distance1.1140.1771.301
Brick_load_data_from_mcool0.0000.0010.000
Brick_load_data_from_sparse0.0000.0010.001
Brick_load_matrix1.2010.2301.446
Brick_local_score_differentiator1.8660.4682.357
Brick_make_ranges0.0100.0010.010
Brick_matrix_dimensions1.2490.2071.480
Brick_matrix_exists1.2010.2321.444
Brick_matrix_filename1.2230.2051.438
Brick_matrix_isdone1.2270.2511.486
Brick_matrix_issparse1.2490.2821.587
Brick_matrix_maxdist1.2230.2031.439
Brick_matrix_minmax1.1900.2391.441
Brick_mcool_normalisation_exists0.0000.0000.001
Brick_rangekey_exists0.8560.0840.947
Brick_return_region_position0.9560.0791.041
Brick_vizart_plot_heatmap2.3420.3322.693
Create_many_Bricks0.8510.0890.946
Create_many_Bricks_from_mcool0.0000.0010.000
load_BrickContainer0.8700.0840.956