| Back to Multiple platform build/check report for BioC 3.21: simplified long |
|
This page was generated on 2025-10-16 11:38 -0400 (Thu, 16 Oct 2025).
| Hostname | OS | Arch (*) | R version | Installed pkgs |
|---|---|---|---|---|
| nebbiolo1 | Linux (Ubuntu 24.04.3 LTS) | x86_64 | 4.5.1 (2025-06-13) -- "Great Square Root" | 4833 |
| merida1 | macOS 12.7.6 Monterey | x86_64 | 4.5.1 RC (2025-06-05 r88288) -- "Great Square Root" | 4614 |
| kjohnson1 | macOS 13.7.5 Ventura | arm64 | 4.5.1 Patched (2025-06-14 r88325) -- "Great Square Root" | 4555 |
| kunpeng2 | Linux (openEuler 24.03 LTS) | aarch64 | R Under development (unstable) (2025-02-19 r87757) -- "Unsuffered Consequences" | 4586 |
| Click on any hostname to see more info about the system (e.g. compilers) (*) as reported by 'uname -p', except on Windows and Mac OS X | ||||
| Package 970/2341 | Hostname | OS / Arch | INSTALL | BUILD | CHECK | BUILD BIN | ||||||||
| HiCBricks 1.26.0 (landing page) Koustav Pal
| nebbiolo1 | Linux (Ubuntu 24.04.3 LTS) / x86_64 | OK | OK | OK | |||||||||
| merida1 | macOS 12.7.6 Monterey / x86_64 | OK | OK | OK | OK | |||||||||
| kjohnson1 | macOS 13.7.5 Ventura / arm64 | OK | OK | OK | OK | |||||||||
| kunpeng2 | Linux (openEuler 24.03 LTS) / aarch64 | OK | OK | OK | ||||||||||
|
To the developers/maintainers of the HiCBricks package: - Allow up to 24 hours (and sometimes 48 hours) for your latest push to git@git.bioconductor.org:packages/HiCBricks.git to reflect on this report. See Troubleshooting Build Report for more information. - Use the following Renviron settings to reproduce errors and warnings. - If 'R CMD check' started to fail recently on the Linux builder(s) over a missing dependency, add the missing dependency to 'Suggests:' in your DESCRIPTION file. See Renviron.bioc for more information. |
| Package: HiCBricks |
| Version: 1.26.0 |
| Command: /home/biocbuild/bbs-3.21-bioc/R/bin/R CMD check --install=check:HiCBricks.install-out.txt --library=/home/biocbuild/bbs-3.21-bioc/R/site-library --timings HiCBricks_1.26.0.tar.gz |
| StartedAt: 2025-10-16 00:03:15 -0400 (Thu, 16 Oct 2025) |
| EndedAt: 2025-10-16 00:06:34 -0400 (Thu, 16 Oct 2025) |
| EllapsedTime: 199.3 seconds |
| RetCode: 0 |
| Status: OK |
| CheckDir: HiCBricks.Rcheck |
| Warnings: 0 |
##############################################################################
##############################################################################
###
### Running command:
###
### /home/biocbuild/bbs-3.21-bioc/R/bin/R CMD check --install=check:HiCBricks.install-out.txt --library=/home/biocbuild/bbs-3.21-bioc/R/site-library --timings HiCBricks_1.26.0.tar.gz
###
##############################################################################
##############################################################################
* using log directory ‘/home/biocbuild/bbs-3.21-bioc/meat/HiCBricks.Rcheck’
* using R version 4.5.1 (2025-06-13)
* using platform: x86_64-pc-linux-gnu
* R was compiled by
gcc (Ubuntu 13.3.0-6ubuntu2~24.04) 13.3.0
GNU Fortran (Ubuntu 13.3.0-6ubuntu2~24.04) 13.3.0
* running under: Ubuntu 24.04.3 LTS
* using session charset: UTF-8
* checking for file ‘HiCBricks/DESCRIPTION’ ... OK
* checking extension type ... Package
* this is package ‘HiCBricks’ version ‘1.26.0’
* package encoding: UTF-8
* checking package namespace information ... OK
* checking package dependencies ... OK
* checking if this is a source package ... OK
* checking if there is a namespace ... OK
* checking for hidden files and directories ... OK
* checking for portable file names ... OK
* checking for sufficient/correct file permissions ... OK
* checking whether package ‘HiCBricks’ can be installed ... OK
* checking installed package size ... OK
* checking package directory ... OK
* checking ‘build’ directory ... OK
* checking DESCRIPTION meta-information ... OK
* checking top-level files ... OK
* checking for left-over files ... OK
* checking index information ... OK
* checking package subdirectories ... OK
* checking code files for non-ASCII characters ... OK
* checking R files for syntax errors ... OK
* checking whether the package can be loaded ... OK
* checking whether the package can be loaded with stated dependencies ... OK
* checking whether the package can be unloaded cleanly ... OK
* checking whether the namespace can be loaded with stated dependencies ... OK
* checking whether the namespace can be unloaded cleanly ... OK
* checking loading without being on the library search path ... OK
* checking dependencies in R code ... OK
* checking S3 generic/method consistency ... OK
* checking replacement functions ... OK
* checking foreign function calls ... OK
* checking R code for possible problems ... OK
* checking Rd files ... OK
* checking Rd metadata ... OK
* checking Rd cross-references ... OK
* checking for missing documentation entries ... OK
* checking for code/documentation mismatches ... OK
* checking Rd \usage sections ... OK
* checking Rd contents ... OK
* checking for unstated dependencies in examples ... OK
* checking files in ‘vignettes’ ... OK
* checking examples ... OK
* checking for unstated dependencies in vignettes ... OK
* checking package vignettes ... OK
* checking re-building of vignette outputs ... OK
* checking PDF version of manual ... OK
* DONE
Status: OK
HiCBricks.Rcheck/00install.out
############################################################################## ############################################################################## ### ### Running command: ### ### /home/biocbuild/bbs-3.21-bioc/R/bin/R CMD INSTALL HiCBricks ### ############################################################################## ############################################################################## * installing to library ‘/home/biocbuild/bbs-3.21-bioc/R/site-library’ * installing *source* package ‘HiCBricks’ ... ** this is package ‘HiCBricks’ version ‘1.26.0’ ** using staged installation ** R ** inst ** byte-compile and prepare package for lazy loading ** help *** installing help indices ** building package indices ** installing vignettes ** testing if installed package can be loaded from temporary location ** testing if installed package can be loaded from final location ** testing if installed package keeps a record of temporary installation path * DONE (HiCBricks)
HiCBricks.Rcheck/HiCBricks-Ex.timings
| name | user | system | elapsed | |
| BrickContainer_change_experiment_name | 1.235 | 0.027 | 1.264 | |
| BrickContainer_change_output_directory | 0.819 | 0.007 | 0.827 | |
| BrickContainer_get_path_to_file | 0.716 | 0.010 | 0.727 | |
| BrickContainer_list_chromosomes | 0.746 | 0.005 | 0.751 | |
| BrickContainer_list_experiment_name | 0.74 | 0.04 | 0.78 | |
| BrickContainer_list_files | 0.738 | 0.016 | 0.754 | |
| BrickContainer_list_output_directory | 0.717 | 0.013 | 0.731 | |
| BrickContainer_list_resolutions | 0.719 | 0.035 | 0.755 | |
| BrickContainer_unlink_resolution | 1.558 | 0.028 | 1.586 | |
| Brick_add_ranges | 1.769 | 0.071 | 1.840 | |
| Brick_call_compartments | 1.132 | 0.037 | 1.292 | |
| Brick_export_to_sparse | 2.344 | 0.068 | 2.421 | |
| Brick_fetch_range_index | 0.851 | 0.012 | 0.865 | |
| Brick_fetch_row_vector | 1.323 | 0.027 | 1.355 | |
| Brick_get_bintable | 1.111 | 0.010 | 1.122 | |
| Brick_get_chrominfo | 0.705 | 0.044 | 0.750 | |
| Brick_get_entire_matrix | 1.002 | 0.021 | 1.024 | |
| Brick_get_matrix | 0.970 | 0.020 | 0.991 | |
| Brick_get_matrix_mcols | 1.080 | 0.017 | 1.098 | |
| Brick_get_matrix_within_coords | 1.423 | 0.069 | 1.493 | |
| Brick_get_ranges | 0.788 | 0.008 | 0.796 | |
| Brick_get_values_by_distance | 1.135 | 0.031 | 1.167 | |
| Brick_get_vector_values | 1.041 | 0.022 | 1.062 | |
| Brick_list_matrices | 0.822 | 0.011 | 0.833 | |
| Brick_list_matrix_mcols | 0.744 | 0.006 | 0.751 | |
| Brick_list_mcool_normalisations | 0.000 | 0.001 | 0.001 | |
| Brick_list_mcool_resolutions | 0.000 | 0.001 | 0.001 | |
| Brick_list_rangekeys | 0.748 | 0.011 | 0.759 | |
| Brick_list_ranges_mcols | 0.741 | 0.010 | 0.751 | |
| Brick_load_cis_matrix_till_distance | 0.920 | 0.017 | 0.936 | |
| Brick_load_data_from_mcool | 0.000 | 0.001 | 0.000 | |
| Brick_load_data_from_sparse | 0.001 | 0.000 | 0.000 | |
| Brick_load_matrix | 0.932 | 0.022 | 0.954 | |
| Brick_local_score_differentiator | 1.572 | 0.039 | 1.615 | |
| Brick_make_ranges | 0.008 | 0.001 | 0.009 | |
| Brick_matrix_dimensions | 0.981 | 0.025 | 1.007 | |
| Brick_matrix_exists | 1.017 | 0.017 | 1.034 | |
| Brick_matrix_filename | 1.056 | 0.026 | 1.083 | |
| Brick_matrix_isdone | 0.999 | 0.015 | 1.015 | |
| Brick_matrix_issparse | 1.026 | 0.022 | 1.049 | |
| Brick_matrix_maxdist | 0.977 | 0.018 | 0.995 | |
| Brick_matrix_minmax | 0.964 | 0.018 | 0.983 | |
| Brick_mcool_normalisation_exists | 0.000 | 0.001 | 0.001 | |
| Brick_rangekey_exists | 0.789 | 0.014 | 0.803 | |
| Brick_return_region_position | 0.787 | 0.009 | 0.797 | |
| Brick_vizart_plot_heatmap | 2.031 | 0.037 | 2.069 | |
| Create_many_Bricks | 0.784 | 0.016 | 0.800 | |
| Create_many_Bricks_from_mcool | 0.001 | 0.000 | 0.001 | |
| load_BrickContainer | 0.799 | 0.008 | 0.807 | |