| Back to Multiple platform build/check report for BioC 3.21: simplified long |
|
This page was generated on 2025-10-16 11:41 -0400 (Thu, 16 Oct 2025).
| Hostname | OS | Arch (*) | R version | Installed pkgs |
|---|---|---|---|---|
| nebbiolo1 | Linux (Ubuntu 24.04.3 LTS) | x86_64 | 4.5.1 (2025-06-13) -- "Great Square Root" | 4833 |
| merida1 | macOS 12.7.6 Monterey | x86_64 | 4.5.1 RC (2025-06-05 r88288) -- "Great Square Root" | 4614 |
| kjohnson1 | macOS 13.7.5 Ventura | arm64 | 4.5.1 Patched (2025-06-14 r88325) -- "Great Square Root" | 4555 |
| kunpeng2 | Linux (openEuler 24.03 LTS) | aarch64 | R Under development (unstable) (2025-02-19 r87757) -- "Unsuffered Consequences" | 4586 |
| Click on any hostname to see more info about the system (e.g. compilers) (*) as reported by 'uname -p', except on Windows and Mac OS X | ||||
| Package 822/2341 | Hostname | OS / Arch | INSTALL | BUILD | CHECK | BUILD BIN | ||||||||
| GeneStructureTools 1.28.0 (landing page) Beth Signal
| nebbiolo1 | Linux (Ubuntu 24.04.3 LTS) / x86_64 | OK | OK | OK | |||||||||
| merida1 | macOS 12.7.6 Monterey / x86_64 | OK | OK | OK | OK | |||||||||
| kjohnson1 | macOS 13.7.5 Ventura / arm64 | OK | OK | OK | OK | |||||||||
| kunpeng2 | Linux (openEuler 24.03 LTS) / aarch64 | OK | OK | OK | ||||||||||
|
To the developers/maintainers of the GeneStructureTools package: - Allow up to 24 hours (and sometimes 48 hours) for your latest push to git@git.bioconductor.org:packages/GeneStructureTools.git to reflect on this report. See Troubleshooting Build Report for more information. - Use the following Renviron settings to reproduce errors and warnings. - If 'R CMD check' started to fail recently on the Linux builder(s) over a missing dependency, add the missing dependency to 'Suggests:' in your DESCRIPTION file. See Renviron.bioc for more information. - See Martin Grigorov's blog post for how to debug Linux ARM64 related issues on a x86_64 host. |
| Package: GeneStructureTools |
| Version: 1.28.0 |
| Command: /home/biocbuild/R/R/bin/R CMD check --install=check:GeneStructureTools.install-out.txt --library=/home/biocbuild/R/R/site-library --no-vignettes --timings GeneStructureTools_1.28.0.tar.gz |
| StartedAt: 2025-10-14 09:26:26 -0000 (Tue, 14 Oct 2025) |
| EndedAt: 2025-10-14 09:35:32 -0000 (Tue, 14 Oct 2025) |
| EllapsedTime: 545.3 seconds |
| RetCode: 0 |
| Status: OK |
| CheckDir: GeneStructureTools.Rcheck |
| Warnings: 0 |
##############################################################################
##############################################################################
###
### Running command:
###
### /home/biocbuild/R/R/bin/R CMD check --install=check:GeneStructureTools.install-out.txt --library=/home/biocbuild/R/R/site-library --no-vignettes --timings GeneStructureTools_1.28.0.tar.gz
###
##############################################################################
##############################################################################
* using log directory ‘/home/biocbuild/bbs-3.21-bioc/meat/GeneStructureTools.Rcheck’
* using R Under development (unstable) (2025-02-19 r87757)
* using platform: aarch64-unknown-linux-gnu
* R was compiled by
aarch64-unknown-linux-gnu-gcc (GCC) 14.2.0
GNU Fortran (GCC) 14.2.0
* running under: openEuler 24.03 (LTS-SP1)
* using session charset: UTF-8
* using option ‘--no-vignettes’
* checking for file ‘GeneStructureTools/DESCRIPTION’ ... OK
* checking extension type ... Package
* this is package ‘GeneStructureTools’ version ‘1.28.0’
* package encoding: UTF-8
* checking package namespace information ... OK
* checking package dependencies ... OK
* checking if this is a source package ... OK
* checking if there is a namespace ... OK
* checking for hidden files and directories ... OK
* checking for portable file names ... OK
* checking for sufficient/correct file permissions ... OK
* checking whether package ‘GeneStructureTools’ can be installed ... OK
* checking installed package size ... OK
* checking package directory ... OK
* checking ‘build’ directory ... OK
* checking DESCRIPTION meta-information ... OK
* checking top-level files ... OK
* checking for left-over files ... OK
* checking index information ... OK
* checking package subdirectories ... OK
* checking code files for non-ASCII characters ... OK
* checking R files for syntax errors ... OK
* checking whether the package can be loaded ... OK
* checking whether the package can be loaded with stated dependencies ... OK
* checking whether the package can be unloaded cleanly ... OK
* checking whether the namespace can be loaded with stated dependencies ... OK
* checking whether the namespace can be unloaded cleanly ... OK
* checking loading without being on the library search path ... OK
* checking dependencies in R code ... OK
* checking S3 generic/method consistency ... OK
* checking replacement functions ... OK
* checking foreign function calls ... OK
* checking R code for possible problems ... OK
* checking Rd files ... OK
* checking Rd metadata ... OK
* checking Rd cross-references ... OK
* checking for missing documentation entries ... OK
* checking for code/documentation mismatches ... OK
* checking Rd \usage sections ... OK
* checking Rd contents ... OK
* checking for unstated dependencies in examples ... OK
* checking files in ‘vignettes’ ... OK
* checking examples ... OK
Examples with CPU (user + system) or elapsed time > 5s
user system elapsed
leafcutterTranscriptChangeSummary 33.201 0.789 34.157
whippetTranscriptChangeSummary 17.144 0.235 17.437
replaceJunction 6.960 0.220 7.195
alternativeIntronUsage 6.453 0.363 6.834
* checking for unstated dependencies in vignettes ... OK
* checking package vignettes ... OK
* checking running R code from vignettes ... SKIPPED
* checking re-building of vignette outputs ... SKIPPED
* checking PDF version of manual ... OK
* DONE
Status: OK
GeneStructureTools.Rcheck/00install.out
############################################################################## ############################################################################## ### ### Running command: ### ### /home/biocbuild/R/R/bin/R CMD INSTALL GeneStructureTools ### ############################################################################## ############################################################################## * installing to library ‘/home/biocbuild/R/R-devel_2025-02-19/site-library’ * installing *source* package ‘GeneStructureTools’ ... ** this is package ‘GeneStructureTools’ version ‘1.28.0’ ** using staged installation ** R ** inst ** byte-compile and prepare package for lazy loading ** help *** installing help indices ** building package indices ** installing vignettes ** testing if installed package can be loaded from temporary location ** testing if installed package can be loaded from final location ** testing if installed package keeps a record of temporary installation path * DONE (GeneStructureTools)
GeneStructureTools.Rcheck/GeneStructureTools-Ex.timings
| name | user | system | elapsed | |
| DEXSeqIdsToGeneIds | 0.003 | 0.000 | 0.004 | |
| UTR2UTR53 | 3.599 | 0.107 | 3.729 | |
| addBroadTypes | 0.235 | 0.007 | 0.244 | |
| addIntronInTranscript | 4.013 | 0.144 | 4.173 | |
| alternativeIntronUsage | 6.453 | 0.363 | 6.834 | |
| annotateGeneModel | 1.240 | 0.064 | 1.309 | |
| attrChangeAltSpliced | 1.880 | 0.114 | 2.000 | |
| coordinates-methods | 0.081 | 0.026 | 0.106 | |
| diffSplicingResults-methods | 0.076 | 0.028 | 0.104 | |
| exonsToTranscripts | 0.373 | 0.008 | 0.381 | |
| filterGtfOverlap | 0.358 | 0.020 | 0.380 | |
| filterWhippetEvents | 0.091 | 0.027 | 0.117 | |
| findDEXexonType | 3.855 | 0.171 | 4.039 | |
| findExonContainingTranscripts | 0.592 | 0.047 | 0.640 | |
| findIntronContainingTranscripts | 0.930 | 0.071 | 1.004 | |
| findJunctionPairs | 1.985 | 0.103 | 2.097 | |
| formatWhippetEvents | 0.018 | 0.007 | 0.024 | |
| getOrfs | 1.022 | 0.024 | 1.051 | |
| getUOrfs | 0.779 | 0.015 | 0.799 | |
| junctions-methods | 0.080 | 0.023 | 0.102 | |
| leafcutterTranscriptChangeSummary | 33.201 | 0.789 | 34.157 | |
| makeGeneModel | 0.211 | 0.004 | 0.217 | |
| maxLocation | 0.000 | 0.004 | 0.004 | |
| orfDiff | 2.256 | 0.050 | 2.323 | |
| orfSimilarity | 0.000 | 0.000 | 0.001 | |
| overlapTypes | 3.244 | 0.016 | 3.268 | |
| readCounts-methods | 0.081 | 0.020 | 0.100 | |
| readWhippetDIFFfiles | 0.008 | 0.001 | 0.009 | |
| readWhippetDataSet | 0.072 | 0.024 | 0.097 | |
| readWhippetJNCfiles | 0.043 | 0.006 | 0.047 | |
| readWhippetPSIfiles | 0.021 | 0.005 | 0.027 | |
| removeDuplicateTranscripts | 0.342 | 0.003 | 0.346 | |
| removeSameExon | 0.290 | 0.008 | 0.298 | |
| removeVersion | 0.001 | 0.000 | 0.000 | |
| reorderExonNumbers | 0.221 | 0.004 | 0.225 | |
| replaceJunction | 6.960 | 0.220 | 7.195 | |
| skipExonInTranscript | 1.931 | 0.091 | 2.025 | |
| summariseExonTypes | 3.392 | 0.028 | 3.429 | |
| transcriptChangeSummary | 1.971 | 0.045 | 2.020 | |
| whippetTranscriptChangeSummary | 17.144 | 0.235 | 17.437 | |