Back to Multiple platform build/check report for BioC 3.22:   simplified   long
ABCDEF[G]HIJKLMNOPQRSTUVWXYZ

This page was generated on 2025-11-20 12:04 -0500 (Thu, 20 Nov 2025).

HostnameOSArch (*)R versionInstalled pkgs
nebbiolo2Linux (Ubuntu 24.04.3 LTS)x86_644.5.2 (2025-10-31) -- "[Not] Part in a Rumble" 4615
merida1macOS 12.7.6 Montereyx86_644.5.2 Patched (2025-11-05 r88990) -- "[Not] Part in a Rumble" 4610
kjohnson1macOS 13.7.5 Venturaarm644.5.2 Patched (2025-11-04 r88984) -- "[Not] Part in a Rumble" 4598
taishanLinux (openEuler 24.03 LTS)aarch644.5.0 (2025-04-11) -- "How About a Twenty-Six" 4668
Click on any hostname to see more info about the system (e.g. compilers)      (*) as reported by 'uname -p', except on Windows and Mac OS X

Package 831/2361HostnameOS / ArchINSTALLBUILDCHECKBUILD BIN
GeneStructureTools 1.30.0  (landing page)
Beth Signal
Snapshot Date: 2025-11-17 13:45 -0500 (Mon, 17 Nov 2025)
git_url: https://git.bioconductor.org/packages/GeneStructureTools
git_branch: RELEASE_3_22
git_last_commit: 3b1f07b
git_last_commit_date: 2025-10-29 10:43:43 -0500 (Wed, 29 Oct 2025)
nebbiolo2Linux (Ubuntu 24.04.3 LTS) / x86_64  OK    OK    OK  UNNEEDED, same version is already published
merida1macOS 12.7.6 Monterey / x86_64  OK    OK    OK    OK  UNNEEDED, same version is already published
kjohnson1macOS 13.7.5 Ventura / arm64  OK    OK    OK    OK  UNNEEDED, same version is already published
taishanLinux (openEuler 24.03 LTS) / aarch64  OK    OK    OK  


CHECK results for GeneStructureTools on merida1

To the developers/maintainers of the GeneStructureTools package:
- Allow up to 24 hours (and sometimes 48 hours) for your latest push to git@git.bioconductor.org:packages/GeneStructureTools.git to reflect on this report. See Troubleshooting Build Report for more information.
- Use the following Renviron settings to reproduce errors and warnings.
- If 'R CMD check' started to fail recently on the Linux builder(s) over a missing dependency, add the missing dependency to 'Suggests:' in your DESCRIPTION file. See Renviron.bioc for more information.

raw results


Summary

Package: GeneStructureTools
Version: 1.30.0
Command: /Library/Frameworks/R.framework/Resources/bin/R CMD check --install=check:GeneStructureTools.install-out.txt --library=/Library/Frameworks/R.framework/Resources/library --no-vignettes --timings GeneStructureTools_1.30.0.tar.gz
StartedAt: 2025-11-18 07:59:49 -0500 (Tue, 18 Nov 2025)
EndedAt: 2025-11-18 08:14:18 -0500 (Tue, 18 Nov 2025)
EllapsedTime: 868.5 seconds
RetCode: 0
Status:   OK  
CheckDir: GeneStructureTools.Rcheck
Warnings: 0

Command output

##############################################################################
##############################################################################
###
### Running command:
###
###   /Library/Frameworks/R.framework/Resources/bin/R CMD check --install=check:GeneStructureTools.install-out.txt --library=/Library/Frameworks/R.framework/Resources/library --no-vignettes --timings GeneStructureTools_1.30.0.tar.gz
###
##############################################################################
##############################################################################


* using log directory ‘/Users/biocbuild/bbs-3.22-bioc/meat/GeneStructureTools.Rcheck’
* using R version 4.5.2 Patched (2025-11-05 r88990)
* using platform: x86_64-apple-darwin20
* R was compiled by
    Apple clang version 14.0.0 (clang-1400.0.29.202)
    GNU Fortran (GCC) 14.2.0
* running under: macOS Monterey 12.7.6
* using session charset: UTF-8
* using option ‘--no-vignettes’
* checking for file ‘GeneStructureTools/DESCRIPTION’ ... OK
* checking extension type ... Package
* this is package ‘GeneStructureTools’ version ‘1.30.0’
* package encoding: UTF-8
* checking package namespace information ... OK
* checking package dependencies ... OK
* checking if this is a source package ... OK
* checking if there is a namespace ... OK
* checking for hidden files and directories ... OK
* checking for portable file names ... OK
* checking for sufficient/correct file permissions ... OK
* checking whether package ‘GeneStructureTools’ can be installed ... OK
* checking installed package size ... OK
* checking package directory ... OK
* checking ‘build’ directory ... OK
* checking DESCRIPTION meta-information ... OK
* checking top-level files ... OK
* checking for left-over files ... OK
* checking index information ... OK
* checking package subdirectories ... OK
* checking code files for non-ASCII characters ... OK
* checking R files for syntax errors ... OK
* checking whether the package can be loaded ... OK
* checking whether the package can be loaded with stated dependencies ... OK
* checking whether the package can be unloaded cleanly ... OK
* checking whether the namespace can be loaded with stated dependencies ... OK
* checking whether the namespace can be unloaded cleanly ... OK
* checking dependencies in R code ... OK
* checking S3 generic/method consistency ... OK
* checking replacement functions ... OK
* checking foreign function calls ... OK
* checking R code for possible problems ... OK
* checking Rd files ... OK
* checking Rd metadata ... OK
* checking Rd cross-references ... OK
* checking for missing documentation entries ... OK
* checking for code/documentation mismatches ... OK
* checking Rd \usage sections ... OK
* checking Rd contents ... OK
* checking for unstated dependencies in examples ... OK
* checking files in ‘vignettes’ ... OK
* checking examples ... OK
Examples with CPU (user + system) or elapsed time > 5s
                                    user system elapsed
leafcutterTranscriptChangeSummary 56.646  1.796  64.141
whippetTranscriptChangeSummary    29.686  0.486  32.964
alternativeIntronUsage            10.233  0.062  11.036
replaceJunction                    9.181  0.155  10.645
summariseExonTypes                 6.084  0.051   7.212
findDEXexonType                    5.767  0.082   6.285
UTR2UTR53                          5.437  0.228   6.080
overlapTypes                       5.339  0.032   5.838
* checking for unstated dependencies in vignettes ... OK
* checking package vignettes ... OK
* checking running R code from vignettes ... SKIPPED
* checking re-building of vignette outputs ... SKIPPED
* checking PDF version of manual ... OK
* DONE

Status: OK


Installation output

GeneStructureTools.Rcheck/00install.out

##############################################################################
##############################################################################
###
### Running command:
###
###   /Library/Frameworks/R.framework/Resources/bin/R CMD INSTALL GeneStructureTools
###
##############################################################################
##############################################################################


* installing to library ‘/Library/Frameworks/R.framework/Versions/4.5-x86_64/Resources/library’
* installing *source* package ‘GeneStructureTools’ ...
** this is package ‘GeneStructureTools’ version ‘1.30.0’
** using staged installation
** R
** inst
** byte-compile and prepare package for lazy loading
** help
*** installing help indices
** building package indices
** installing vignettes
** testing if installed package can be loaded from temporary location
** testing if installed package can be loaded from final location
** testing if installed package keeps a record of temporary installation path
* DONE (GeneStructureTools)

Tests output


Example timings

GeneStructureTools.Rcheck/GeneStructureTools-Ex.timings

nameusersystemelapsed
DEXSeqIdsToGeneIds0.0050.0020.009
UTR2UTR535.4370.2286.080
addBroadTypes0.4060.0130.460
addIntronInTranscript4.1130.1254.440
alternativeIntronUsage10.233 0.06211.036
annotateGeneModel1.9240.0352.076
attrChangeAltSpliced4.0890.1514.477
coordinates-methods0.1260.0980.262
diffSplicingResults-methods0.1460.1070.311
exonsToTranscripts0.5820.0130.604
filterGtfOverlap0.5490.0130.584
filterWhippetEvents0.1430.1220.347
findDEXexonType5.7670.0826.285
findExonContainingTranscripts0.9320.1111.124
findIntronContainingTranscripts1.4230.1081.618
findJunctionPairs3.0810.1223.359
formatWhippetEvents0.0310.0110.049
getOrfs1.5980.0972.099
getUOrfs1.2900.0361.537
junctions-methods0.1280.1340.438
leafcutterTranscriptChangeSummary56.646 1.79664.141
makeGeneModel0.3990.0160.459
maxLocation0.0060.0020.010
orfDiff3.5240.1413.857
orfSimilarity0.0020.0010.003
overlapTypes5.3390.0325.838
readCounts-methods0.1230.0930.262
readWhippetDIFFfiles0.0100.0120.027
readWhippetDataSet0.1220.0910.258
readWhippetJNCfiles0.0630.0430.124
readWhippetPSIfiles0.0290.0440.093
removeDuplicateTranscripts0.5900.0120.612
removeSameExon0.4810.0100.541
removeVersion0.0010.0000.001
reorderExonNumbers0.3590.0120.442
replaceJunction 9.181 0.15510.645
skipExonInTranscript3.2880.1103.963
summariseExonTypes6.0840.0517.212
transcriptChangeSummary3.4610.1533.983
whippetTranscriptChangeSummary29.686 0.48632.964