Back to Multiple platform build/check report for BioC 3.21:   simplified   long
ABCDEF[G]HIJKLMNOPQRSTUVWXYZ

This page was generated on 2025-05-05 11:43 -0400 (Mon, 05 May 2025).

HostnameOSArch (*)R versionInstalled pkgs
nebbiolo1Linux (Ubuntu 24.04.1 LTS)x86_644.5.0 RC (2025-04-04 r88126) -- "How About a Twenty-Six" 4832
palomino7Windows Server 2022 Datacenterx644.5.0 RC (2025-04-04 r88126 ucrt) -- "How About a Twenty-Six" 4574
merida1macOS 12.7.5 Montereyx86_644.5.0 RC (2025-04-04 r88126) -- "How About a Twenty-Six" 4599
kjohnson1macOS 13.6.6 Venturaarm644.5.0 RC (2025-04-04 r88129) -- "How About a Twenty-Six" 4553
Click on any hostname to see more info about the system (e.g. compilers)      (*) as reported by 'uname -p', except on Windows and Mac OS X

Package 913/2341HostnameOS / ArchINSTALLBUILDCHECKBUILD BIN
GRaNIE 1.12.0  (landing page)
Christian Arnold
Snapshot Date: 2025-05-01 13:40 -0400 (Thu, 01 May 2025)
git_url: https://git.bioconductor.org/packages/GRaNIE
git_branch: RELEASE_3_21
git_last_commit: 21e7fc4
git_last_commit_date: 2025-04-15 12:51:24 -0400 (Tue, 15 Apr 2025)
nebbiolo1Linux (Ubuntu 24.04.1 LTS) / x86_64  OK    OK    OK  UNNEEDED, same version is already published
palomino7Windows Server 2022 Datacenter / x64  OK    OK    WARNINGS    OK  UNNEEDED, same version is already published
merida1macOS 12.7.5 Monterey / x86_64  OK    OK    OK    OK  UNNEEDED, same version is already published
kjohnson1macOS 13.6.6 Ventura / arm64  OK    OK    OK    OK  UNNEEDED, same version is already published


CHECK results for GRaNIE on kjohnson1

To the developers/maintainers of the GRaNIE package:
- Allow up to 24 hours (and sometimes 48 hours) for your latest push to git@git.bioconductor.org:packages/GRaNIE.git to reflect on this report. See Troubleshooting Build Report for more information.
- Use the following Renviron settings to reproduce errors and warnings.
- If 'R CMD check' started to fail recently on the Linux builder(s) over a missing dependency, add the missing dependency to 'Suggests:' in your DESCRIPTION file. See Renviron.bioc for more information.

raw results


Summary

Package: GRaNIE
Version: 1.12.0
Command: /Library/Frameworks/R.framework/Resources/bin/R CMD check --install=check:GRaNIE.install-out.txt --library=/Library/Frameworks/R.framework/Resources/library --no-vignettes --timings GRaNIE_1.12.0.tar.gz
StartedAt: 2025-05-02 21:43:31 -0400 (Fri, 02 May 2025)
EndedAt: 2025-05-02 21:51:47 -0400 (Fri, 02 May 2025)
EllapsedTime: 496.2 seconds
RetCode: 0
Status:   OK  
CheckDir: GRaNIE.Rcheck
Warnings: 0

Command output

##############################################################################
##############################################################################
###
### Running command:
###
###   /Library/Frameworks/R.framework/Resources/bin/R CMD check --install=check:GRaNIE.install-out.txt --library=/Library/Frameworks/R.framework/Resources/library --no-vignettes --timings GRaNIE_1.12.0.tar.gz
###
##############################################################################
##############################################################################


* using log directory ‘/Users/biocbuild/bbs-3.21-bioc/meat/GRaNIE.Rcheck’
* using R version 4.5.0 RC (2025-04-04 r88129)
* using platform: aarch64-apple-darwin20
* R was compiled by
    Apple clang version 14.0.0 (clang-1400.0.29.202)
    GNU Fortran (GCC) 14.2.0
* running under: macOS Ventura 13.7.5
* using session charset: UTF-8
* using option ‘--no-vignettes’
* checking for file ‘GRaNIE/DESCRIPTION’ ... OK
* this is package ‘GRaNIE’ version ‘1.12.0’
* package encoding: UTF-8
* checking package namespace information ... OK
* checking package dependencies ... INFO
Imports includes 37 non-default packages.
Importing from so many packages makes the package vulnerable to any of
them becoming unavailable.  Move as many as possible to Suggests and
use conditionally.
* checking if this is a source package ... OK
* checking if there is a namespace ... OK
* checking for hidden files and directories ... OK
* checking for portable file names ... OK
* checking for sufficient/correct file permissions ... OK
* checking whether package ‘GRaNIE’ can be installed ... OK
* checking installed package size ... OK
* checking package directory ... OK
* checking ‘build’ directory ... OK
* checking DESCRIPTION meta-information ... OK
* checking top-level files ... OK
* checking for left-over files ... OK
* checking index information ... OK
* checking package subdirectories ... OK
* checking code files for non-ASCII characters ... OK
* checking R files for syntax errors ... OK
* checking whether the package can be loaded ... OK
* checking whether the package can be loaded with stated dependencies ... OK
* checking whether the package can be unloaded cleanly ... OK
* checking whether the namespace can be loaded with stated dependencies ... OK
* checking whether the namespace can be unloaded cleanly ... OK
* checking whether startup messages can be suppressed ... OK
* checking dependencies in R code ... OK
* checking S3 generic/method consistency ... OK
* checking replacement functions ... OK
* checking foreign function calls ... OK
* checking R code for possible problems ... NOTE
.performIHW: no visible binding for global variable 'adj_pvalue'
Undefined global functions or variables:
  adj_pvalue
* checking Rd files ... OK
* checking Rd metadata ... OK
* checking Rd cross-references ... OK
* checking for missing documentation entries ... OK
* checking for code/documentation mismatches ... OK
* checking Rd \usage sections ... OK
* checking Rd contents ... OK
* checking for unstated dependencies in examples ... OK
* checking files in ‘vignettes’ ... OK
* checking examples ... OK
Examples with CPU (user + system) or elapsed time > 5s
                                user system elapsed
generateStatsSummary           8.609  0.195   9.237
addConnections_TF_peak         6.750  0.651   7.898
plotDiagnosticPlots_peakGene   6.342  0.180   6.955
addSNPData                     5.778  0.314   8.017
plotCommunitiesEnrichment      5.461  0.131   5.984
plotPCA_all                    5.190  0.214   5.768
calculateCommunitiesEnrichment 5.043  0.131   5.587
plotCorrelations               4.629  0.127   5.110
* checking for unstated dependencies in vignettes ... OK
* checking package vignettes ... OK
* checking running R code from vignettes ... SKIPPED
* checking re-building of vignette outputs ... SKIPPED
* checking PDF version of manual ... OK
* DONE

Status: 1 NOTE
See
  ‘/Users/biocbuild/bbs-3.21-bioc/meat/GRaNIE.Rcheck/00check.log’
for details.


Installation output

GRaNIE.Rcheck/00install.out

##############################################################################
##############################################################################
###
### Running command:
###
###   /Library/Frameworks/R.framework/Resources/bin/R CMD INSTALL GRaNIE
###
##############################################################################
##############################################################################


* installing to library ‘/Library/Frameworks/R.framework/Versions/4.5-arm64/Resources/library’
* installing *source* package ‘GRaNIE’ ...
** this is package ‘GRaNIE’ version ‘1.12.0’
** using staged installation
** R
** byte-compile and prepare package for lazy loading
** help
*** installing help indices
*** copying figures
** building package indices
** installing vignettes
** testing if installed package can be loaded from temporary location
** testing if installed package can be loaded from final location
** testing if installed package keeps a record of temporary installation path
* DONE (GRaNIE)

Tests output


Example timings

GRaNIE.Rcheck/GRaNIE-Ex.timings

nameusersystemelapsed
AR_classification_wrapper000
addConnections_TF_peak6.7500.6517.898
addConnections_peak_gene3.9610.0644.357
addData000
addSNPData5.7780.3148.017
addTFBS0.0000.0000.001
add_TF_gene_correlation3.2790.0843.785
add_featureVariation000
build_eGRN_graph2.6960.0493.088
calculateCommunitiesEnrichment5.0430.1315.587
calculateCommunitiesStats2.8550.0483.297
calculateGeneralEnrichment3.1550.0733.625
calculateTFEnrichment3.3340.0663.768
changeOutputDirectory2.7320.0503.156
deleteIntermediateData2.5960.0493.110
filterConnectionsForPlotting3.0120.0553.437
filterData3.4620.0643.878
filterGRNAndConnectGenes2.9280.0533.344
generateStatsSummary8.6090.1959.237
getCounts2.8880.0743.379
getGRNConnections2.4730.0522.900
getGRNSummary3.4750.0803.915
getParameters4.0460.0814.504
getTopNodes2.9520.0503.390
initializeGRN0.0170.0020.018
loadExampleObject2.8160.0513.216
nGenes2.9440.0783.412
nPeaks2.6680.0633.163
nTFs2.8410.0653.290
overlapPeaksAndTFBS2.8580.0573.295
performAllNetworkAnalyses0.0000.0010.000
plotCommunitiesEnrichment5.4610.1315.984
plotCommunitiesStats4.0570.0954.532
plotCorrelations4.6290.1275.110
plotDiagnosticPlots_TFPeaks4.1740.1294.670
plotDiagnosticPlots_peakGene6.3420.1806.955
plotGeneralEnrichment3.0880.0613.551
plotGeneralGraphStats3.7280.0704.170
plotPCA_all5.1900.2145.768
plotTFEnrichment3.6430.0764.086
plot_stats_connectionSummary3.5970.0934.105
visualizeGRN4.0150.1254.461