Back to Multiple platform build/check report for BioC 3.22:   simplified   long
ABCDE[F]GHIJKLMNOPQRSTUVWXYZ

This page was generated on 2025-11-04 12:04 -0500 (Tue, 04 Nov 2025).

HostnameOSArch (*)R versionInstalled pkgs
nebbiolo2Linux (Ubuntu 24.04.3 LTS)x86_644.5.1 Patched (2025-08-23 r88802) -- "Great Square Root" 4902
lconwaymacOS 12.7.6 Montereyx86_644.5.1 Patched (2025-09-10 r88807) -- "Great Square Root" 4692
kjohnson3macOS 13.7.7 Venturaarm644.5.1 Patched (2025-09-10 r88807) -- "Great Square Root" 4638
Click on any hostname to see more info about the system (e.g. compilers)      (*) as reported by 'uname -p', except on Windows and Mac OS X

Package 765/2361HostnameOS / ArchINSTALLBUILDCHECKBUILD BIN
FlowSOM 2.18.0  (landing page)
Sofie Van Gassen
Snapshot Date: 2025-11-03 13:45 -0500 (Mon, 03 Nov 2025)
git_url: https://git.bioconductor.org/packages/FlowSOM
git_branch: RELEASE_3_22
git_last_commit: b942a41
git_last_commit_date: 2025-10-29 10:23:19 -0500 (Wed, 29 Oct 2025)
nebbiolo2Linux (Ubuntu 24.04.3 LTS) / x86_64  OK    OK    OK  UNNEEDED, same version is already published
lconwaymacOS 12.7.6 Monterey / x86_64  OK    OK    OK    OK  UNNEEDED, same version is already published
kjohnson3macOS 13.7.7 Ventura / arm64  OK    OK    OK    OK  UNNEEDED, same version is already published


CHECK results for FlowSOM on lconway

To the developers/maintainers of the FlowSOM package:
- Allow up to 24 hours (and sometimes 48 hours) for your latest push to git@git.bioconductor.org:packages/FlowSOM.git to reflect on this report. See Troubleshooting Build Report for more information.
- Use the following Renviron settings to reproduce errors and warnings.
- If 'R CMD check' started to fail recently on the Linux builder(s) over a missing dependency, add the missing dependency to 'Suggests:' in your DESCRIPTION file. See Renviron.bioc for more information.

raw results


Summary

Package: FlowSOM
Version: 2.18.0
Command: /Library/Frameworks/R.framework/Resources/bin/R CMD check --install=check:FlowSOM.install-out.txt --library=/Library/Frameworks/R.framework/Resources/library --no-vignettes --timings FlowSOM_2.18.0.tar.gz
StartedAt: 2025-11-03 21:18:04 -0500 (Mon, 03 Nov 2025)
EndedAt: 2025-11-03 21:28:17 -0500 (Mon, 03 Nov 2025)
EllapsedTime: 613.3 seconds
RetCode: 0
Status:   OK  
CheckDir: FlowSOM.Rcheck
Warnings: 0

Command output

##############################################################################
##############################################################################
###
### Running command:
###
###   /Library/Frameworks/R.framework/Resources/bin/R CMD check --install=check:FlowSOM.install-out.txt --library=/Library/Frameworks/R.framework/Resources/library --no-vignettes --timings FlowSOM_2.18.0.tar.gz
###
##############################################################################
##############################################################################


* using log directory ‘/Users/biocbuild/bbs-3.22-bioc/meat/FlowSOM.Rcheck’
* using R version 4.5.1 Patched (2025-09-10 r88807)
* using platform: x86_64-apple-darwin20
* R was compiled by
    Apple clang version 14.0.0 (clang-1400.0.29.202)
    GNU Fortran (GCC) 14.2.0
* running under: macOS Monterey 12.7.6
* using session charset: UTF-8
* using option ‘--no-vignettes’
* checking for file ‘FlowSOM/DESCRIPTION’ ... OK
* this is package ‘FlowSOM’ version ‘2.18.0’
* package encoding: UTF-8
* checking package namespace information ... OK
* checking package dependencies ... OK
* checking if this is a source package ... OK
* checking if there is a namespace ... OK
* checking for hidden files and directories ... OK
* checking for portable file names ... OK
* checking for sufficient/correct file permissions ... OK
* checking whether package ‘FlowSOM’ can be installed ... OK
* used C compiler: ‘Apple clang version 14.0.0 (clang-1400.0.29.202)’
* used SDK: ‘MacOSX11.3.1.sdk’
* checking installed package size ... OK
* checking package directory ... OK
* checking ‘build’ directory ... OK
* checking DESCRIPTION meta-information ... OK
* checking top-level files ... OK
* checking for left-over files ... OK
* checking index information ... OK
* checking package subdirectories ... OK
* checking code files for non-ASCII characters ... OK
* checking R files for syntax errors ... OK
* checking whether the package can be loaded ... OK
* checking whether the package can be loaded with stated dependencies ... OK
* checking whether the package can be unloaded cleanly ... OK
* checking whether the namespace can be loaded with stated dependencies ... OK
* checking whether the namespace can be unloaded cleanly ... OK
* checking whether startup messages can be suppressed ... OK
* checking dependencies in R code ... OK
* checking S3 generic/method consistency ... OK
* checking replacement functions ... OK
* checking foreign function calls ... OK
* checking R code for possible problems ... OK
* checking Rd files ... NOTE
checkRd: (-1) PlotDimRed.Rd:55: Lost braces
    55 | of the dimred default = function(dimred){dimred$Y}.}
       |                                         ^
* checking Rd metadata ... OK
* checking Rd cross-references ... NOTE
Non-topic package-anchored link(s) in Rd file 'pipe.Rd':
  ‘[magrittr:pipe]{%>%}’

See section 'Cross-references' in the 'Writing R Extensions' manual.
* checking for missing documentation entries ... OK
* checking for code/documentation mismatches ... OK
* checking Rd \usage sections ... OK
* checking Rd contents ... OK
* checking for unstated dependencies in examples ... OK
* checking line endings in C/C++/Fortran sources/headers ... OK
* checking compiled code ... NOTE
Note: information on .o files is not available
* checking sizes of PDF files under ‘inst/doc’ ... OK
* checking files in ‘vignettes’ ... OK
* checking examples ... OK
Examples with CPU (user + system) or elapsed time > 5s
                                    user system elapsed
FlowSOMmary                       52.542  2.100  54.749
PlotDimRed                        40.185  2.469  43.115
PlotOutliers                      34.829  1.053  36.258
PlotMarker                        20.496  1.287  22.179
UpdateMetaclusters                17.559  1.157  18.924
PlotStars                         15.975  1.053  17.251
GroupStats                        13.720  0.889  14.722
FlowSOM                           13.259  1.001  14.405
PlotGroups                        11.908  0.946  12.979
QueryMultiple                     11.969  0.559  12.693
Plot2DScatters                    10.748  0.708  11.546
query_multiple                    10.739  0.537  11.416
AddAnnotation                      9.528  0.600  10.219
PlotManualBars                     9.027  0.967  10.131
QueryStarPlot                      8.692  0.446   9.286
PlotNode                           7.842  0.866   8.858
GetFlowJoLabels                    7.807  0.589   8.492
PlotNumbers                        7.533  0.699   8.445
PlotPies                           7.256  0.836   8.191
PlotVariable                       7.260  0.708   8.067
UpdateNodeSize                     6.685  0.211   6.975
CountGroups                        6.216  0.585   6.870
PlotOverview2D                     5.971  0.685   6.743
PlotFlowSOM                        5.736  0.743   6.585
SaveClustersToFCS                  5.539  0.781   6.433
PlotLabels                         5.524  0.662   6.244
GetFeatures                        5.547  0.428   6.028
NMetaclusters                      5.208  0.727   5.995
MetaclusterMFIs                    5.150  0.753   5.976
GetPercentages                     5.076  0.607   5.753
NClusters                          4.899  0.752   5.733
TestOutliers                       4.966  0.685   5.731
GetMetaclusterPercentagesPositive  4.746  0.659   5.482
print.FlowSOM                      4.609  0.747   5.451
MetaclusterCVs                     4.697  0.599   5.351
GetMetaclusters                    4.537  0.607   5.199
GetMetaclusterMFIs                 4.449  0.654   5.196
GetMFIs                            4.474  0.618   5.128
GetMetaclusterCVs                  4.455  0.585   5.086
* checking for unstated dependencies in vignettes ... OK
* checking package vignettes ... OK
* checking running R code from vignettes ... SKIPPED
* checking re-building of vignette outputs ... SKIPPED
* checking PDF version of manual ... OK
* DONE

Status: 3 NOTEs
See
  ‘/Users/biocbuild/bbs-3.22-bioc/meat/FlowSOM.Rcheck/00check.log’
for details.


Installation output

FlowSOM.Rcheck/00install.out

##############################################################################
##############################################################################
###
### Running command:
###
###   /Library/Frameworks/R.framework/Resources/bin/R CMD INSTALL FlowSOM
###
##############################################################################
##############################################################################


* installing to library ‘/Library/Frameworks/R.framework/Versions/4.5-x86_64/Resources/library’
* installing *source* package ‘FlowSOM’ ...
** this is package ‘FlowSOM’ version ‘2.18.0’
** using staged installation
** libs
using C compiler: ‘Apple clang version 14.0.0 (clang-1400.0.29.202)’
using SDK: ‘MacOSX11.3.1.sdk’
clang -arch x86_64 -I"/Library/Frameworks/R.framework/Resources/include" -DNDEBUG   -I/opt/R/x86_64/include    -fPIC  -falign-functions=64 -Wall -g -O2  -c som.c -o som.o
clang -arch x86_64 -dynamiclib -Wl,-headerpad_max_install_names -undefined dynamic_lookup -L/Library/Frameworks/R.framework/Resources/lib -L/opt/R/x86_64/lib -o FlowSOM.so som.o -F/Library/Frameworks/R.framework/.. -framework R
installing to /Library/Frameworks/R.framework/Versions/4.5-x86_64/Resources/library/00LOCK-FlowSOM/00new/FlowSOM/libs
** R
** inst
** byte-compile and prepare package for lazy loading
** help
*** installing help indices
** building package indices
** installing vignettes
** testing if installed package can be loaded from temporary location
** checking absolute paths in shared objects and dynamic libraries
** testing if installed package can be loaded from final location
** testing if installed package keeps a record of temporary installation path
* DONE (FlowSOM)

Tests output


Example timings

FlowSOM.Rcheck/FlowSOM-Ex.timings

nameusersystemelapsed
AddAnnotation 9.528 0.60010.219
AggregateFlowFrames0.1200.0090.130
BuildMST1.5010.1081.623
BuildSOM1.6350.0891.747
CountGroups6.2160.5856.870
FMeasure0.0010.0000.001
FlowSOM13.259 1.00114.405
FlowSOMSubset4.2220.3874.641
FlowSOMmary52.542 2.10054.749
GetChannels0.0430.0040.052
GetClusterMFIs4.2520.4244.711
GetClusterPercentagesPositive4.3940.4494.897
GetClusters4.2500.4314.721
GetCounts4.2500.4834.794
GetFeatures5.5470.4286.028
GetFlowJoLabels7.8070.5898.492
GetMFIs4.4740.6185.128
GetMarkers0.0550.0290.085
GetMetaclusterCVs4.4550.5855.086
GetMetaclusterMFIs4.4490.6545.196
GetMetaclusterPercentagesPositive4.7460.6595.482
GetMetaclusters4.5370.6075.199
GetPercentages5.0760.6075.753
GroupStats13.720 0.88914.722
Initialize_KWSP0.0040.0000.005
Initialize_PCA0.0010.0000.001
MetaClustering3.2510.6543.987
MetaclusterCVs4.6970.5995.351
MetaclusterMFIs5.1500.7535.976
NClusters4.8990.7525.733
NMetaclusters5.2080.7275.995
NewData4.1700.5744.822
Plot2DScatters10.748 0.70811.546
PlotCenters1.3370.0901.444
PlotClusters2D1.1810.1071.308
PlotDimRed40.185 2.46943.115
PlotFileScatters1.2740.0361.317
PlotFlowSOM5.7360.7436.585
PlotGroups11.908 0.94612.979
PlotLabels5.5240.6626.244
PlotManualBars 9.027 0.96710.131
PlotMarker20.496 1.28722.179
PlotNode7.8420.8668.858
PlotNumbers7.5330.6998.445
PlotOutliers34.829 1.05336.258
PlotOverview2D5.9710.6856.743
PlotPies7.2560.8368.191
PlotSD2.2620.2132.508
PlotStars15.975 1.05317.251
PlotVariable7.2600.7088.067
Purity0.0010.0000.001
QueryMultiple11.969 0.55912.693
QueryStarPlot8.6920.4469.286
ReadInput3.5700.6764.348
SaveClustersToFCS5.5390.7816.433
TestOutliers4.9660.6855.731
UpdateMetaclusters17.559 1.15718.924
UpdateNodeSize6.6850.2116.975
get_channels0.0440.0040.048
get_markers0.0480.0040.055
metaClustering_consensus2.9380.5463.543
plotStarLegend0.5460.0330.584
print.FlowSOM4.6090.7475.451
query_multiple10.739 0.53711.416