| Back to Multiple platform build/check report for BioC 3.21: simplified long |
|
This page was generated on 2025-04-22 13:16 -0400 (Tue, 22 Apr 2025).
| Hostname | OS | Arch (*) | R version | Installed pkgs |
|---|---|---|---|---|
| nebbiolo1 | Linux (Ubuntu 24.04.1 LTS) | x86_64 | 4.5.0 RC (2025-04-04 r88126) -- "How About a Twenty-Six" | 4831 |
| palomino7 | Windows Server 2022 Datacenter | x64 | 4.5.0 RC (2025-04-04 r88126 ucrt) -- "How About a Twenty-Six" | 4573 |
| lconway | macOS 12.7.1 Monterey | x86_64 | 4.5.0 RC (2025-04-04 r88126) -- "How About a Twenty-Six" | 4599 |
| kjohnson3 | macOS 13.7.1 Ventura | arm64 | 4.5.0 RC (2025-04-04 r88126) -- "How About a Twenty-Six" | 4553 |
| kunpeng2 | Linux (openEuler 24.03 LTS) | aarch64 | R Under development (unstable) (2025-02-19 r87757) -- "Unsuffered Consequences" | 4570 |
| Click on any hostname to see more info about the system (e.g. compilers) (*) as reported by 'uname -p', except on Windows and Mac OS X | ||||
| Package 532/2341 | Hostname | OS / Arch | INSTALL | BUILD | CHECK | BUILD BIN | ||||||||
| DeconvoBuddies 1.0.0 (landing page) Louise Huuki-Myers
| nebbiolo1 | Linux (Ubuntu 24.04.1 LTS) / x86_64 | OK | OK | OK | |||||||||
| palomino7 | Windows Server 2022 Datacenter / x64 | OK | OK | OK | OK | |||||||||
| lconway | macOS 12.7.1 Monterey / x86_64 | OK | OK | OK | OK | |||||||||
| kjohnson3 | macOS 13.7.1 Ventura / arm64 | OK | OK | OK | OK | |||||||||
| kunpeng2 | Linux (openEuler 24.03 LTS) / aarch64 | OK | OK | OK | ||||||||||
|
To the developers/maintainers of the DeconvoBuddies package: - Allow up to 24 hours (and sometimes 48 hours) for your latest push to git@git.bioconductor.org:packages/DeconvoBuddies.git to reflect on this report. See Troubleshooting Build Report for more information. - Use the following Renviron settings to reproduce errors and warnings. - If 'R CMD check' started to fail recently on the Linux builder(s) over a missing dependency, add the missing dependency to 'Suggests:' in your DESCRIPTION file. See Renviron.bioc for more information. |
| Package: DeconvoBuddies |
| Version: 1.0.0 |
| Command: /Library/Frameworks/R.framework/Resources/bin/R CMD check --install=check:DeconvoBuddies.install-out.txt --library=/Library/Frameworks/R.framework/Resources/library --no-vignettes --timings DeconvoBuddies_1.0.0.tar.gz |
| StartedAt: 2025-04-21 20:10:35 -0400 (Mon, 21 Apr 2025) |
| EndedAt: 2025-04-21 20:18:30 -0400 (Mon, 21 Apr 2025) |
| EllapsedTime: 474.8 seconds |
| RetCode: 0 |
| Status: OK |
| CheckDir: DeconvoBuddies.Rcheck |
| Warnings: 0 |
##############################################################################
##############################################################################
###
### Running command:
###
### /Library/Frameworks/R.framework/Resources/bin/R CMD check --install=check:DeconvoBuddies.install-out.txt --library=/Library/Frameworks/R.framework/Resources/library --no-vignettes --timings DeconvoBuddies_1.0.0.tar.gz
###
##############################################################################
##############################################################################
* using log directory ‘/Users/biocbuild/bbs-3.21-bioc/meat/DeconvoBuddies.Rcheck’
* using R version 4.5.0 RC (2025-04-04 r88126)
* using platform: x86_64-apple-darwin20
* R was compiled by
Apple clang version 14.0.0 (clang-1400.0.29.202)
GNU Fortran (GCC) 14.2.0
* running under: macOS Monterey 12.7.6
* using session charset: UTF-8
* using option ‘--no-vignettes’
* checking for file ‘DeconvoBuddies/DESCRIPTION’ ... OK
* this is package ‘DeconvoBuddies’ version ‘1.0.0’
* package encoding: UTF-8
* checking package namespace information ... OK
* checking package dependencies ... OK
* checking if this is a source package ... OK
* checking if there is a namespace ... OK
* checking for hidden files and directories ... OK
* checking for portable file names ... OK
* checking for sufficient/correct file permissions ... OK
* checking whether package ‘DeconvoBuddies’ can be installed ... OK
* checking installed package size ... OK
* checking package directory ... OK
* checking ‘build’ directory ... OK
* checking DESCRIPTION meta-information ... OK
* checking top-level files ... OK
* checking for left-over files ... OK
* checking index information ... OK
* checking package subdirectories ... OK
* checking code files for non-ASCII characters ... OK
* checking R files for syntax errors ... OK
* checking whether the package can be loaded ... OK
* checking whether the package can be loaded with stated dependencies ... OK
* checking whether the package can be unloaded cleanly ... OK
* checking whether the namespace can be loaded with stated dependencies ... OK
* checking whether the namespace can be unloaded cleanly ... OK
* checking dependencies in R code ... OK
* checking S3 generic/method consistency ... OK
* checking replacement functions ... OK
* checking foreign function calls ... OK
* checking R code for possible problems ... OK
* checking Rd files ... OK
* checking Rd metadata ... OK
* checking Rd cross-references ... OK
* checking for missing documentation entries ... OK
* checking for code/documentation mismatches ... OK
* checking Rd \usage sections ... OK
* checking Rd contents ... OK
* checking for unstated dependencies in examples ... OK
* checking contents of ‘data’ directory ... OK
* checking data for non-ASCII characters ... OK
* checking data for ASCII and uncompressed saves ... OK
* checking R/sysdata.rda ... OK
* checking files in ‘vignettes’ ... OK
* checking examples ... OK
Examples with CPU (user + system) or elapsed time > 5s
user system elapsed
plot_marker_express_ALL 24.686 0.855 25.892
findMarkers_1vAll 9.645 0.330 10.675
fetch_deconvo_data 7.631 2.005 13.479
plot_gene_express 5.659 0.363 6.327
plot_marker_express_List 4.909 0.263 5.481
plot_marker_express 4.727 0.244 5.338
* checking for unstated dependencies in ‘tests’ ... OK
* checking tests ...
Running ‘testthat.R’
OK
* checking for unstated dependencies in vignettes ... OK
* checking package vignettes ... OK
* checking running R code from vignettes ... SKIPPED
* checking re-building of vignette outputs ... SKIPPED
* checking PDF version of manual ... OK
* DONE
Status: OK
DeconvoBuddies.Rcheck/00install.out
############################################################################## ############################################################################## ### ### Running command: ### ### /Library/Frameworks/R.framework/Resources/bin/R CMD INSTALL DeconvoBuddies ### ############################################################################## ############################################################################## * installing to library ‘/Library/Frameworks/R.framework/Versions/4.5-x86_64/Resources/library’ * installing *source* package ‘DeconvoBuddies’ ... ** this is package ‘DeconvoBuddies’ version ‘1.0.0’ ** using staged installation ** R ** data ** inst ** byte-compile and prepare package for lazy loading ** help *** installing help indices *** copying figures ** building package indices ** installing vignettes ** testing if installed package can be loaded from temporary location ** testing if installed package can be loaded from final location ** testing if installed package keeps a record of temporary installation path * DONE (DeconvoBuddies)
DeconvoBuddies.Rcheck/tests/testthat.Rout
R version 4.5.0 RC (2025-04-04 r88126) -- "How About a Twenty-Six"
Copyright (C) 2025 The R Foundation for Statistical Computing
Platform: x86_64-apple-darwin20
R is free software and comes with ABSOLUTELY NO WARRANTY.
You are welcome to redistribute it under certain conditions.
Type 'license()' or 'licence()' for distribution details.
R is a collaborative project with many contributors.
Type 'contributors()' for more information and
'citation()' on how to cite R or R packages in publications.
Type 'demo()' for some demos, 'help()' for on-line help, or
'help.start()' for an HTML browser interface to help.
Type 'q()' to quit R.
> library(testthat)
> library(DeconvoBuddies)
>
> test_check("DeconvoBuddies")
2025-04-21 20:17:57.038427 Access ExperimentHub EH9626
see ?DeconvoBuddies and browseVignettes('DeconvoBuddies') for documentation
loading from cache
2025-04-21 20:18:05.73737 Access ExperimentHub EH9626
see ?DeconvoBuddies and browseVignettes('DeconvoBuddies') for documentation
loading from cache
2025-04-21 20:18:12.333503 Access ExperimentHub EH9626
see ?DeconvoBuddies and browseVignettes('DeconvoBuddies') for documentation
loading from cache
2025-04-21 20:18:15.031711 Access ExperimentHub EH9626
see ?DeconvoBuddies and browseVignettes('DeconvoBuddies') for documentation
loading from cache
2025-04-21 20:18:18.650406 Access ExperimentHub EH9626
see ?DeconvoBuddies and browseVignettes('DeconvoBuddies') for documentation
loading from cache
[ FAIL 0 | WARN 3 | SKIP 0 | PASS 33 ]
[ FAIL 0 | WARN 3 | SKIP 0 | PASS 33 ]
>
> proc.time()
user system elapsed
46.302 3.682 51.851
DeconvoBuddies.Rcheck/DeconvoBuddies-Ex.timings
| name | user | system | elapsed | |
| RNAScope_prop | 0.002 | 0.001 | 0.002 | |
| create_cell_colors | 0.037 | 0.008 | 0.047 | |
| est_prop | 0.006 | 0.003 | 0.009 | |
| fetch_deconvo_data | 7.631 | 2.005 | 13.479 | |
| findMarkers_1vAll | 9.645 | 0.330 | 10.675 | |
| get_mean_ratio | 4.460 | 0.289 | 4.998 | |
| make_test_sce | 0.155 | 0.002 | 0.158 | |
| marker_stats_1vAll | 0.001 | 0.001 | 0.002 | |
| marker_test | 0.001 | 0.001 | 0.002 | |
| plot_composition_bar | 1.771 | 0.048 | 1.843 | |
| plot_gene_express | 5.659 | 0.363 | 6.327 | |
| plot_marker_express | 4.727 | 0.244 | 5.338 | |
| plot_marker_express_ALL | 24.686 | 0.855 | 25.892 | |
| plot_marker_express_List | 4.909 | 0.263 | 5.481 | |
| rse_bulk_test | 0.001 | 0.001 | 0.002 | |
| sce_ab | 0.001 | 0.001 | 0.002 | |