| Back to Multiple platform build/check report for BioC 3.22: simplified long |
|
This page was generated on 2025-11-10 12:51 -0500 (Mon, 10 Nov 2025).
| Hostname | OS | Arch (*) | R version | Installed pkgs |
|---|---|---|---|---|
| nebbiolo2 | Linux (Ubuntu 24.04.3 LTS) | x86_64 | 4.5.1 Patched (2025-08-23 r88802) -- "Great Square Root" | 4902 |
| kjohnson3 | macOS 13.7.7 Ventura | arm64 | 4.5.1 Patched (2025-09-10 r88807) -- "Great Square Root" | 4638 |
| Click on any hostname to see more info about the system (e.g. compilers) (*) as reported by 'uname -p', except on Windows and Mac OS X | ||||
| Package 539/2361 | Hostname | OS / Arch | INSTALL | BUILD | CHECK | BUILD BIN | ||||||||
| DeconvoBuddies 1.2.0 (landing page) Louise Huuki-Myers
| nebbiolo2 | Linux (Ubuntu 24.04.3 LTS) / x86_64 | OK | OK | OK | |||||||||
| kjohnson3 | macOS 13.7.7 Ventura / arm64 | OK | OK | OK | OK | |||||||||
|
To the developers/maintainers of the DeconvoBuddies package: - Allow up to 24 hours (and sometimes 48 hours) for your latest push to git@git.bioconductor.org:packages/DeconvoBuddies.git to reflect on this report. See Troubleshooting Build Report for more information. - Use the following Renviron settings to reproduce errors and warnings. - If 'R CMD check' started to fail recently on the Linux builder(s) over a missing dependency, add the missing dependency to 'Suggests:' in your DESCRIPTION file. See Renviron.bioc for more information. |
| Package: DeconvoBuddies |
| Version: 1.2.0 |
| Command: /Library/Frameworks/R.framework/Resources/bin/R CMD check --install=check:DeconvoBuddies.install-out.txt --library=/Library/Frameworks/R.framework/Resources/library --no-vignettes --timings DeconvoBuddies_1.2.0.tar.gz |
| StartedAt: 2025-11-09 19:23:49 -0500 (Sun, 09 Nov 2025) |
| EndedAt: 2025-11-09 19:26:51 -0500 (Sun, 09 Nov 2025) |
| EllapsedTime: 182.1 seconds |
| RetCode: 0 |
| Status: OK |
| CheckDir: DeconvoBuddies.Rcheck |
| Warnings: 0 |
##############################################################################
##############################################################################
###
### Running command:
###
### /Library/Frameworks/R.framework/Resources/bin/R CMD check --install=check:DeconvoBuddies.install-out.txt --library=/Library/Frameworks/R.framework/Resources/library --no-vignettes --timings DeconvoBuddies_1.2.0.tar.gz
###
##############################################################################
##############################################################################
* using log directory ‘/Users/biocbuild/bbs-3.22-bioc/meat/DeconvoBuddies.Rcheck’
* using R version 4.5.1 Patched (2025-09-10 r88807)
* using platform: aarch64-apple-darwin20
* R was compiled by
Apple clang version 16.0.0 (clang-1600.0.26.6)
GNU Fortran (GCC) 14.2.0
* running under: macOS Ventura 13.7.7
* using session charset: UTF-8
* using option ‘--no-vignettes’
* checking for file ‘DeconvoBuddies/DESCRIPTION’ ... OK
* this is package ‘DeconvoBuddies’ version ‘1.2.0’
* package encoding: UTF-8
* checking package namespace information ... OK
* checking package dependencies ... OK
* checking if this is a source package ... OK
* checking if there is a namespace ... OK
* checking for hidden files and directories ... OK
* checking for portable file names ... OK
* checking for sufficient/correct file permissions ... OK
* checking whether package ‘DeconvoBuddies’ can be installed ... OK
* checking installed package size ... OK
* checking package directory ... OK
* checking ‘build’ directory ... OK
* checking DESCRIPTION meta-information ... OK
* checking top-level files ... OK
* checking for left-over files ... OK
* checking index information ... OK
* checking package subdirectories ... OK
* checking code files for non-ASCII characters ... OK
* checking R files for syntax errors ... OK
* checking whether the package can be loaded ... OK
* checking whether the package can be loaded with stated dependencies ... OK
* checking whether the package can be unloaded cleanly ... OK
* checking whether the namespace can be loaded with stated dependencies ... OK
* checking whether the namespace can be unloaded cleanly ... OK
* checking dependencies in R code ... OK
* checking S3 generic/method consistency ... OK
* checking replacement functions ... OK
* checking foreign function calls ... OK
* checking R code for possible problems ... OK
* checking Rd files ... OK
* checking Rd metadata ... OK
* checking Rd cross-references ... OK
* checking for missing documentation entries ... OK
* checking for code/documentation mismatches ... OK
* checking Rd \usage sections ... OK
* checking Rd contents ... OK
* checking for unstated dependencies in examples ... OK
* checking contents of ‘data’ directory ... OK
* checking data for non-ASCII characters ... OK
* checking data for ASCII and uncompressed saves ... OK
* checking R/sysdata.rda ... OK
* checking files in ‘vignettes’ ... OK
* checking examples ... OK
Examples with CPU (user + system) or elapsed time > 5s
user system elapsed
plot_marker_express_ALL 8.761 0.497 9.636
* checking for unstated dependencies in ‘tests’ ... OK
* checking tests ...
Running ‘testthat.R’
OK
* checking for unstated dependencies in vignettes ... OK
* checking package vignettes ... OK
* checking running R code from vignettes ... SKIPPED
* checking re-building of vignette outputs ... SKIPPED
* checking PDF version of manual ... OK
* DONE
Status: OK
DeconvoBuddies.Rcheck/00install.out
############################################################################## ############################################################################## ### ### Running command: ### ### /Library/Frameworks/R.framework/Resources/bin/R CMD INSTALL DeconvoBuddies ### ############################################################################## ############################################################################## * installing to library ‘/Library/Frameworks/R.framework/Versions/4.5-arm64/Resources/library’ * installing *source* package ‘DeconvoBuddies’ ... ** this is package ‘DeconvoBuddies’ version ‘1.2.0’ ** using staged installation ** R ** data ** inst ** byte-compile and prepare package for lazy loading ** help *** installing help indices *** copying figures ** building package indices ** installing vignettes ** testing if installed package can be loaded from temporary location ** testing if installed package can be loaded from final location ** testing if installed package keeps a record of temporary installation path * DONE (DeconvoBuddies)
DeconvoBuddies.Rcheck/tests/testthat.Rout
R version 4.5.1 Patched (2025-09-10 r88807) -- "Great Square Root"
Copyright (C) 2025 The R Foundation for Statistical Computing
Platform: aarch64-apple-darwin20
R is free software and comes with ABSOLUTELY NO WARRANTY.
You are welcome to redistribute it under certain conditions.
Type 'license()' or 'licence()' for distribution details.
R is a collaborative project with many contributors.
Type 'contributors()' for more information and
'citation()' on how to cite R or R packages in publications.
Type 'demo()' for some demos, 'help()' for on-line help, or
'help.start()' for an HTML browser interface to help.
Type 'q()' to quit R.
> library(testthat)
> library(DeconvoBuddies)
>
> test_check("DeconvoBuddies")
2025-11-09 19:26:38.728318 Access ExperimentHub EH9626
see ?DeconvoBuddies and browseVignettes('DeconvoBuddies') for documentation
loading from cache
2025-11-09 19:26:42.694532 Access ExperimentHub EH9626
see ?DeconvoBuddies and browseVignettes('DeconvoBuddies') for documentation
loading from cache
2025-11-09 19:26:45.027005 Access ExperimentHub EH9626
see ?DeconvoBuddies and browseVignettes('DeconvoBuddies') for documentation
loading from cache
2025-11-09 19:26:46.002272 Access ExperimentHub EH9626
see ?DeconvoBuddies and browseVignettes('DeconvoBuddies') for documentation
loading from cache
2025-11-09 19:26:47.271272 Access ExperimentHub EH9626
see ?DeconvoBuddies and browseVignettes('DeconvoBuddies') for documentation
loading from cache
[ FAIL 0 | WARN 3 | SKIP 0 | PASS 33 ]
[ FAIL 0 | WARN 3 | SKIP 0 | PASS 33 ]
>
> proc.time()
user system elapsed
16.710 0.864 18.979
DeconvoBuddies.Rcheck/DeconvoBuddies-Ex.timings
| name | user | system | elapsed | |
| RNAScope_prop | 0.000 | 0.000 | 0.001 | |
| create_cell_colors | 0.010 | 0.003 | 0.014 | |
| est_prop | 0.002 | 0.001 | 0.004 | |
| est_prop_test | 0.001 | 0.001 | 0.002 | |
| fetch_deconvo_data | 2.210 | 0.146 | 3.265 | |
| findMarkers_1vAll | 4.167 | 0.094 | 4.463 | |
| get_mean_ratio | 1.529 | 0.093 | 1.777 | |
| make_test_sce | 0.044 | 0.001 | 0.045 | |
| marker_stats_1vAll | 0.000 | 0.001 | 0.001 | |
| marker_test | 0.001 | 0.000 | 0.001 | |
| plot_composition_bar | 0.643 | 0.034 | 0.699 | |
| plot_gene_express | 3.559 | 0.214 | 4.071 | |
| plot_marker_express | 1.429 | 0.117 | 1.749 | |
| plot_marker_express_ALL | 8.761 | 0.497 | 9.636 | |
| plot_marker_express_List | 1.513 | 0.109 | 1.887 | |
| rse_bulk_test | 0 | 0 | 0 | |
| sce_ab | 0 | 0 | 0 | |