Back to Multiple platform build/check report for BioC 3.22:   simplified   long
AB[C]DEFGHIJKLMNOPQRSTUVWXYZ

This page was generated on 2025-11-24 12:07 -0500 (Mon, 24 Nov 2025).

HostnameOSArch (*)R versionInstalled pkgs
nebbiolo2Linux (Ubuntu 24.04.3 LTS)x86_644.5.2 (2025-10-31) -- "[Not] Part in a Rumble" 4873
merida1macOS 12.7.6 Montereyx86_644.5.2 Patched (2025-11-05 r88990) -- "[Not] Part in a Rumble" 4654
kjohnson1macOS 13.7.5 Venturaarm644.5.2 Patched (2025-11-04 r88984) -- "[Not] Part in a Rumble" 4600
taishanLinux (openEuler 24.03 LTS)aarch644.5.0 (2025-04-11) -- "How About a Twenty-Six" 4668
Click on any hostname to see more info about the system (e.g. compilers)      (*) as reported by 'uname -p', except on Windows and Mac OS X

Package 289/2361HostnameOS / ArchINSTALLBUILDCHECKBUILD BIN
CatsCradle 1.4.1  (landing page)
Michael Shapiro
Snapshot Date: 2025-11-20 15:01 -0500 (Thu, 20 Nov 2025)
git_url: https://git.bioconductor.org/packages/CatsCradle
git_branch: RELEASE_3_22
git_last_commit: 87aae32
git_last_commit_date: 2025-11-04 07:20:10 -0500 (Tue, 04 Nov 2025)
nebbiolo2Linux (Ubuntu 24.04.3 LTS) / x86_64  OK    OK    OK  UNNEEDED, same version is already published
merida1macOS 12.7.6 Monterey / x86_64  OK    OK    OK    OK  UNNEEDED, same version is already published
kjohnson1macOS 13.7.5 Ventura / arm64  OK    OK    OK    OK  UNNEEDED, same version is already published
taishanLinux (openEuler 24.03 LTS) / aarch64  OK    OK    OK  


CHECK results for CatsCradle on taishan

To the developers/maintainers of the CatsCradle package:
- Allow up to 24 hours (and sometimes 48 hours) for your latest push to git@git.bioconductor.org:packages/CatsCradle.git to reflect on this report. See Troubleshooting Build Report for more information.
- Use the following Renviron settings to reproduce errors and warnings.
- If 'R CMD check' started to fail recently on the Linux builder(s) over a missing dependency, add the missing dependency to 'Suggests:' in your DESCRIPTION file. See Renviron.bioc for more information.
- See Martin Grigorov's blog post for how to debug Linux ARM64 related issues on a x86_64 host.

raw results


Summary

Package: CatsCradle
Version: 1.4.1
Command: /home/biocbuild/R/R/bin/R CMD check --install=check:CatsCradle.install-out.txt --library=/home/biocbuild/R/R/site-library --no-vignettes --timings CatsCradle_1.4.1.tar.gz
StartedAt: 2025-11-21 08:42:50 -0000 (Fri, 21 Nov 2025)
EndedAt: 2025-11-21 08:53:45 -0000 (Fri, 21 Nov 2025)
EllapsedTime: 655.5 seconds
RetCode: 0
Status:   OK  
CheckDir: CatsCradle.Rcheck
Warnings: 0

Command output

##############################################################################
##############################################################################
###
### Running command:
###
###   /home/biocbuild/R/R/bin/R CMD check --install=check:CatsCradle.install-out.txt --library=/home/biocbuild/R/R/site-library --no-vignettes --timings CatsCradle_1.4.1.tar.gz
###
##############################################################################
##############################################################################


* using log directory ‘/home/biocbuild/bbs-3.22-bioc/meat/CatsCradle.Rcheck’
* using R version 4.5.0 (2025-04-11)
* using platform: aarch64-unknown-linux-gnu
* R was compiled by
    aarch64-unknown-linux-gnu-gcc (GCC) 14.2.0
    GNU Fortran (GCC) 14.2.0
* running under: openEuler 24.03 (LTS)
* using session charset: UTF-8
* using option ‘--no-vignettes’
* checking for file ‘CatsCradle/DESCRIPTION’ ... OK
* this is package ‘CatsCradle’ version ‘1.4.1’
* package encoding: UTF-8
* checking package namespace information ... OK
* checking package dependencies ... INFO
Imports includes 21 non-default packages.
Importing from so many packages makes the package vulnerable to any of
them becoming unavailable.  Move as many as possible to Suggests and
use conditionally.
* checking if this is a source package ... OK
* checking if there is a namespace ... OK
* checking for hidden files and directories ... OK
* checking for portable file names ... OK
* checking for sufficient/correct file permissions ... OK
* checking whether package ‘CatsCradle’ can be installed ... OK
* checking installed package size ... OK
* checking package directory ... OK
* checking ‘build’ directory ... OK
* checking DESCRIPTION meta-information ... OK
* checking top-level files ... OK
* checking for left-over files ... OK
* checking index information ... OK
* checking package subdirectories ... OK
* checking code files for non-ASCII characters ... OK
* checking R files for syntax errors ... OK
* checking whether the package can be loaded ... OK
* checking whether the package can be loaded with stated dependencies ... OK
* checking whether the package can be unloaded cleanly ... OK
* checking whether the namespace can be loaded with stated dependencies ... OK
* checking whether the namespace can be unloaded cleanly ... OK
* checking loading without being on the library search path ... OK
* checking dependencies in R code ... OK
* checking S3 generic/method consistency ... OK
* checking replacement functions ... OK
* checking foreign function calls ... OK
* checking R code for possible problems ... NOTE
edgeLengthPlot: no visible binding for global variable ‘cellTypePair’
edgeLengthPlot: no visible binding for global variable ‘cutoff’
make.getExample : getExample: no visible binding for global variable
  ‘seuratGenes’
make.getExample : getExample: no visible binding for global variable
  ‘seuratCells’
make.getExample : getExample: no visible binding for global variable
  ‘xeniumCells’
make.getExample : getExample: no visible binding for global variable
  ‘moransI’
make.getExample : getExample: no visible binding for global variable
  ‘moransILigandReceptor’
make.getExample : getExample: no visible binding for global variable
  ‘humanLRN’
make.getExample : getExample: no visible binding for global variable
  ‘mouseLRN’
meanGeneClusterOnCellUMAP: no visible binding for global variable
  ‘UMAP_1’
meanGeneClusterOnCellUMAP: no visible binding for global variable
  ‘UMAP_2’
plotLRDotplot: no visible binding for global variable ‘sender’
plotLRDotplot: no visible binding for global variable ‘negLog10PValue’
plotLRDotplot: no visible binding for global variable ‘receiver’
Undefined global functions or variables:
  UMAP_1 UMAP_2 cellTypePair cutoff humanLRN moransI
  moransILigandReceptor mouseLRN negLog10PValue receiver sender
  seuratCells seuratGenes xeniumCells
* checking Rd files ... OK
* checking Rd metadata ... OK
* checking Rd cross-references ... OK
* checking for missing documentation entries ... OK
* checking for code/documentation mismatches ... OK
* checking Rd \usage sections ... OK
* checking Rd contents ... OK
* checking for unstated dependencies in examples ... OK
* checking contents of ‘data’ directory ... OK
* checking data for non-ASCII characters ... OK
* checking data for ASCII and uncompressed saves ... OK
* checking files in ‘vignettes’ ... OK
* checking examples ... OK
Examples with CPU (user + system) or elapsed time > 5s
                                      user system elapsed
annotateGeneAsVector                50.346  0.451  50.903
computeNBHDVsCTObject               22.416  0.128  22.584
randomiseNodeIndices                20.304  0.000  20.360
getObjectSubsetClusteringPValue     16.030  0.116  16.188
aggregateGeneExpression             12.845  0.259  13.124
transposeObject                     11.828  0.100  11.960
computeGraphEmbedding               11.457  0.052  11.530
predictAnnotation                   10.057  0.060  10.142
predictAnnotationAllGenes            9.376  0.016   9.427
predictGeneAnnotationImpl            8.115  0.027   8.168
runGeometricClusteringTrials         6.903  0.028   6.948
medianComplementPValue               6.859  0.060   6.939
combinatorialSpheres                 6.791  0.028   6.835
getObjectSubsetClusteringStatistics  6.604  0.048   6.670
tagRowAndColNames                    6.572  0.048   6.639
getNearbyGenes                       6.530  0.052   6.600
geneSetsVsGeneClustersPValueMatrix   6.494  0.056   6.567
getAverageExpressionMatrix           6.229  0.004   6.247
meanZPerClusterOnUMAP                6.201  0.024   6.243
symmetriseNN                         6.169  0.028   6.216
getGeneClusterAveragesPerCell        6.149  0.036   6.200
desymmetriseNN                       6.179  0.004   6.199
symmetryCheckNN                      6.133  0.048   6.198
meanZPerCluster                      6.176  0.003   6.199
getAverageExpressionDF               6.175  0.003   6.195
getGeneNeighbors                     6.004  0.044   6.063
getClusterOrder                      5.888  0.056   5.959
meanGeneClusterOnCellUMAP            5.911  0.000   5.928
getNearestNeighbourLists             5.881  0.008   5.904
* checking for unstated dependencies in vignettes ... OK
* checking package vignettes ... OK
* checking running R code from vignettes ... SKIPPED
* checking re-building of vignette outputs ... SKIPPED
* checking PDF version of manual ... OK
* DONE

Status: 1 NOTE
See
  ‘/home/biocbuild/bbs-3.22-bioc/meat/CatsCradle.Rcheck/00check.log’
for details.


Installation output

CatsCradle.Rcheck/00install.out

##############################################################################
##############################################################################
###
### Running command:
###
###   /home/biocbuild/R/R/bin/R CMD INSTALL CatsCradle
###
##############################################################################
##############################################################################


* installing to library ‘/home/biocbuild/R/R-4.5.0/site-library’
* installing *source* package ‘CatsCradle’ ...
** this is package ‘CatsCradle’ version ‘1.4.1’
** using staged installation
** R
** data
** inst
** byte-compile and prepare package for lazy loading
** help
*** installing help indices
** building package indices
** installing vignettes
** testing if installed package can be loaded from temporary location
** testing if installed package can be loaded from final location
** testing if installed package keeps a record of temporary installation path
* DONE (CatsCradle)

Tests output


Example timings

CatsCradle.Rcheck/CatsCradle-Ex.timings

nameusersystemelapsed
aggregateGeneExpression12.845 0.25913.124
annotateGeneAsVector50.346 0.45150.903
annotateGenesByGeneSet2.0480.1442.197
cellTypesPerCellTypeGraphFromCellMatrix0.2340.0080.243
collapseExtendedNBHDs3.7870.0033.772
combinatorialSpheres6.7910.0286.835
computeCellTypesPerCellTypeMatrix0.1360.0080.144
computeEdgeGraph0.1670.0120.168
computeEdgeObject1.2150.0081.226
computeGraphEmbedding11.457 0.05211.530
computeNBHDByCTMatrix0.1140.0040.118
computeNBHDVsCTObject22.416 0.12822.584
computeNeighbourEnrichment0.1400.0080.148
computeNeighboursDelaunay0.1070.0040.111
computeNeighboursEuclidean0.8790.0400.884
cullEdges0.7220.0160.739
desymmetriseNN6.1790.0046.199
directedHausdorfDistance0.0010.0000.001
edgeCutoffsByClustering0.5460.0000.548
edgeCutoffsByPercentile0.4020.0000.403
edgeCutoffsByWatershed0.4570.0000.458
edgeCutoffsByZScore0.5110.0000.512
edgeLengthPlot0.4740.0000.476
edgeLengthsAndCellTypePairs0.5000.0000.502
exampleObjects000
geneSetsVsGeneClustersPValueMatrix6.4940.0566.567
getAverageExpressionDF6.1750.0036.195
getAverageExpressionMatrix6.2290.0046.247
getClusterOrder5.8880.0565.959
getExtendedNBHDs0.9280.0040.821
getFeatureZScores0.2780.0000.279
getGeneClusterAveragesPerCell6.1490.0366.200
getGeneNeighbors6.0040.0446.063
getLigandReceptorNetwork0.0200.0000.019
getLigandReceptorPairsInPanel0.0890.0000.090
getNearbyGenes6.5300.0526.600
getNearestNeighbourLists5.8810.0085.904
getObjectSubsetClusteringPValue16.030 0.11616.188
getObjectSubsetClusteringStatistics6.6040.0486.670
make.getExample0.1040.0000.104
makeLRInteractionHeatmap0.2020.0000.203
makeSummedLRInteractionHeatmap0.1750.0000.175
meanGeneClusterOnCellUMAP5.9110.0005.928
meanZPerCluster6.1760.0036.199
meanZPerClusterOnUMAP6.2010.0246.243
medianComplementDistance0.0010.0000.001
medianComplementPValue6.8590.0606.939
nbhdsAsEdgesToNbhdsAsList1.0580.0121.072
neighbourhoodDiameter1.0850.0441.132
performLigandReceptorAnalysis1.3010.2671.574
performLigandReceptorAnalysisPermutation1.1890.1961.388
plotLRDotplot2.2870.0002.294
predictAnnotation10.057 0.06010.142
predictAnnotationAllGenes9.3760.0169.427
predictGeneAnnotationImpl8.1150.0278.168
randomiseNodeIndices20.304 0.00020.360
runGeometricClusteringTrials6.9030.0286.948
runMoransI1.8790.0101.893
sankeyFromMatrix0.0050.0000.005
symmetriseNN6.1690.0286.216
symmetryCheckNN6.1330.0486.198
tagRowAndColNames6.5720.0486.639
transposeObject11.828 0.10011.960