Back to Multiple platform build/check report for BioC 3.22:   simplified   long
AB[C]DEFGHIJKLMNOPQRSTUVWXYZ

This page was generated on 2025-11-05 12:40 -0500 (Wed, 05 Nov 2025).

HostnameOSArch (*)R versionInstalled pkgs
nebbiolo2Linux (Ubuntu 24.04.3 LTS)x86_644.5.1 Patched (2025-08-23 r88802) -- "Great Square Root" 4902
kjohnson3macOS 13.7.7 Venturaarm644.5.1 Patched (2025-09-10 r88807) -- "Great Square Root" 4638
Click on any hostname to see more info about the system (e.g. compilers)      (*) as reported by 'uname -p', except on Windows and Mac OS X

Package 289/2361HostnameOS / ArchINSTALLBUILDCHECKBUILD BIN
CatsCradle 1.4.1  (landing page)
Michael Shapiro
Snapshot Date: 2025-11-04 13:45 -0500 (Tue, 04 Nov 2025)
git_url: https://git.bioconductor.org/packages/CatsCradle
git_branch: RELEASE_3_22
git_last_commit: 87aae32
git_last_commit_date: 2025-11-04 07:20:10 -0500 (Tue, 04 Nov 2025)
nebbiolo2Linux (Ubuntu 24.04.3 LTS) / x86_64  OK    OK    OK  YES
kjohnson3macOS 13.7.7 Ventura / arm64  OK    OK    OK    OK  YES


CHECK results for CatsCradle on nebbiolo2

To the developers/maintainers of the CatsCradle package:
- Allow up to 24 hours (and sometimes 48 hours) for your latest push to git@git.bioconductor.org:packages/CatsCradle.git to reflect on this report. See Troubleshooting Build Report for more information.
- Use the following Renviron settings to reproduce errors and warnings.
- If 'R CMD check' started to fail recently on the Linux builder(s) over a missing dependency, add the missing dependency to 'Suggests:' in your DESCRIPTION file. See Renviron.bioc for more information.

raw results


Summary

Package: CatsCradle
Version: 1.4.1
Command: /home/biocbuild/bbs-3.22-bioc/R/bin/R CMD check --install=check:CatsCradle.install-out.txt --library=/home/biocbuild/bbs-3.22-bioc/R/site-library --timings CatsCradle_1.4.1.tar.gz
StartedAt: 2025-11-04 21:48:41 -0500 (Tue, 04 Nov 2025)
EndedAt: 2025-11-04 22:06:32 -0500 (Tue, 04 Nov 2025)
EllapsedTime: 1071.1 seconds
RetCode: 0
Status:   OK  
CheckDir: CatsCradle.Rcheck
Warnings: 0

Command output

##############################################################################
##############################################################################
###
### Running command:
###
###   /home/biocbuild/bbs-3.22-bioc/R/bin/R CMD check --install=check:CatsCradle.install-out.txt --library=/home/biocbuild/bbs-3.22-bioc/R/site-library --timings CatsCradle_1.4.1.tar.gz
###
##############################################################################
##############################################################################


* using log directory ‘/home/biocbuild/bbs-3.22-bioc/meat/CatsCradle.Rcheck’
* using R version 4.5.1 Patched (2025-08-23 r88802)
* using platform: x86_64-pc-linux-gnu
* R was compiled by
    gcc (Ubuntu 13.3.0-6ubuntu2~24.04) 13.3.0
    GNU Fortran (Ubuntu 13.3.0-6ubuntu2~24.04) 13.3.0
* running under: Ubuntu 24.04.3 LTS
* using session charset: UTF-8
* checking for file ‘CatsCradle/DESCRIPTION’ ... OK
* this is package ‘CatsCradle’ version ‘1.4.1’
* package encoding: UTF-8
* checking package namespace information ... OK
* checking package dependencies ... INFO
Imports includes 21 non-default packages.
Importing from so many packages makes the package vulnerable to any of
them becoming unavailable.  Move as many as possible to Suggests and
use conditionally.
* checking if this is a source package ... OK
* checking if there is a namespace ... OK
* checking for hidden files and directories ... OK
* checking for portable file names ... OK
* checking for sufficient/correct file permissions ... OK
* checking whether package ‘CatsCradle’ can be installed ... OK
* checking installed package size ... OK
* checking package directory ... OK
* checking ‘build’ directory ... OK
* checking DESCRIPTION meta-information ... OK
* checking top-level files ... OK
* checking for left-over files ... OK
* checking index information ... OK
* checking package subdirectories ... OK
* checking code files for non-ASCII characters ... OK
* checking R files for syntax errors ... OK
* checking whether the package can be loaded ... OK
* checking whether the package can be loaded with stated dependencies ... OK
* checking whether the package can be unloaded cleanly ... OK
* checking whether the namespace can be loaded with stated dependencies ... OK
* checking whether the namespace can be unloaded cleanly ... OK
* checking loading without being on the library search path ... OK
* checking dependencies in R code ... OK
* checking S3 generic/method consistency ... OK
* checking replacement functions ... OK
* checking foreign function calls ... OK
* checking R code for possible problems ... NOTE
edgeLengthPlot: no visible binding for global variable ‘cellTypePair’
edgeLengthPlot: no visible binding for global variable ‘cutoff’
make.getExample : getExample: no visible binding for global variable
  ‘seuratGenes’
make.getExample : getExample: no visible binding for global variable
  ‘seuratCells’
make.getExample : getExample: no visible binding for global variable
  ‘xeniumCells’
make.getExample : getExample: no visible binding for global variable
  ‘moransI’
make.getExample : getExample: no visible binding for global variable
  ‘moransILigandReceptor’
make.getExample : getExample: no visible binding for global variable
  ‘humanLRN’
make.getExample : getExample: no visible binding for global variable
  ‘mouseLRN’
meanGeneClusterOnCellUMAP: no visible binding for global variable
  ‘UMAP_1’
meanGeneClusterOnCellUMAP: no visible binding for global variable
  ‘UMAP_2’
plotLRDotplot: no visible binding for global variable ‘sender’
plotLRDotplot: no visible binding for global variable ‘negLog10PValue’
plotLRDotplot: no visible binding for global variable ‘receiver’
Undefined global functions or variables:
  UMAP_1 UMAP_2 cellTypePair cutoff humanLRN moransI
  moransILigandReceptor mouseLRN negLog10PValue receiver sender
  seuratCells seuratGenes xeniumCells
* checking Rd files ... OK
* checking Rd metadata ... OK
* checking Rd cross-references ... OK
* checking for missing documentation entries ... OK
* checking for code/documentation mismatches ... OK
* checking Rd \usage sections ... OK
* checking Rd contents ... OK
* checking for unstated dependencies in examples ... OK
* checking contents of ‘data’ directory ... OK
* checking data for non-ASCII characters ... OK
* checking data for ASCII and uncompressed saves ... OK
* checking files in ‘vignettes’ ... OK
* checking examples ... OK
Examples with CPU (user + system) or elapsed time > 5s
                                      user system elapsed
annotateGeneAsVector                45.029  0.950  46.037
computeNBHDVsCTObject               18.391  0.199  18.593
randomiseNodeIndices                15.208  0.004  15.216
getObjectSubsetClusteringPValue     12.756  0.138  12.898
aggregateGeneExpression             10.937  0.269  11.139
transposeObject                     10.909  0.133  11.045
computeGraphEmbedding                9.513  0.011   9.524
predictAnnotation                    8.350  0.110   8.461
predictAnnotationAllGenes            7.571  0.062   7.634
predictGeneAnnotationImpl            6.695  0.064   6.760
runGeometricClusteringTrials         6.530  0.056   6.588
getObjectSubsetClusteringStatistics  6.015  0.011   6.028
geneSetsVsGeneClustersPValueMatrix   5.880  0.089   5.970
getNearbyGenes                       5.700  0.103   5.804
medianComplementPValue               5.790  0.010   5.802
tagRowAndColNames                    5.666  0.053   5.721
symmetriseNN                         5.645  0.036   5.682
getAverageExpressionDF               5.654  0.006   5.662
getGeneClusterAveragesPerCell        5.553  0.061   5.615
meanGeneClusterOnCellUMAP            5.594  0.003   5.599
combinatorialSpheres                 5.558  0.027   5.587
getAverageExpressionMatrix           5.478  0.020   5.501
symmetryCheckNN                      5.489  0.001   5.491
getGeneNeighbors                     5.454  0.002   5.456
desymmetriseNN                       5.400  0.053   5.454
meanZPerClusterOnUMAP                5.428  0.001   5.438
getClusterOrder                      5.289  0.004   5.295
meanZPerCluster                      5.270  0.000   5.273
getNearestNeighbourLists             5.249  0.013   5.262
* checking for unstated dependencies in vignettes ... OK
* checking package vignettes ... OK
* checking re-building of vignette outputs ... OK
* checking PDF version of manual ... OK
* DONE

Status: 1 NOTE
See
  ‘/home/biocbuild/bbs-3.22-bioc/meat/CatsCradle.Rcheck/00check.log’
for details.


Installation output

CatsCradle.Rcheck/00install.out

##############################################################################
##############################################################################
###
### Running command:
###
###   /home/biocbuild/bbs-3.22-bioc/R/bin/R CMD INSTALL CatsCradle
###
##############################################################################
##############################################################################


* installing to library ‘/home/biocbuild/bbs-3.22-bioc/R/site-library’
* installing *source* package ‘CatsCradle’ ...
** this is package ‘CatsCradle’ version ‘1.4.1’
** using staged installation
** R
** data
** inst
** byte-compile and prepare package for lazy loading
** help
*** installing help indices
** building package indices
** installing vignettes
** testing if installed package can be loaded from temporary location
** testing if installed package can be loaded from final location
** testing if installed package keeps a record of temporary installation path
* DONE (CatsCradle)

Tests output


Example timings

CatsCradle.Rcheck/CatsCradle-Ex.timings

nameusersystemelapsed
aggregateGeneExpression10.937 0.26911.139
annotateGeneAsVector45.029 0.95046.037
annotateGenesByGeneSet1.5310.2221.754
cellTypesPerCellTypeGraphFromCellMatrix0.1880.0010.190
collapseExtendedNBHDs2.4250.0012.354
combinatorialSpheres5.5580.0275.587
computeCellTypesPerCellTypeMatrix0.1120.0140.125
computeEdgeGraph0.1610.0200.146
computeEdgeObject0.8500.0110.861
computeGraphEmbedding9.5130.0119.524
computeNBHDByCTMatrix0.1000.0000.101
computeNBHDVsCTObject18.391 0.19918.593
computeNeighbourEnrichment0.1220.0020.125
computeNeighboursDelaunay0.0910.0010.092
computeNeighboursEuclidean1.0450.0170.642
cullEdges0.5200.0040.524
desymmetriseNN5.4000.0535.454
directedHausdorfDistance0.0010.0000.000
edgeCutoffsByClustering0.3610.0010.361
edgeCutoffsByPercentile0.2690.0040.273
edgeCutoffsByWatershed0.3100.0010.311
edgeCutoffsByZScore0.3310.0010.332
edgeLengthPlot0.3300.0010.331
edgeLengthsAndCellTypePairs0.3250.0000.326
exampleObjects000
geneSetsVsGeneClustersPValueMatrix5.8800.0895.970
getAverageExpressionDF5.6540.0065.662
getAverageExpressionMatrix5.4780.0205.501
getClusterOrder5.2890.0045.295
getExtendedNBHDs0.9350.0170.774
getFeatureZScores0.1980.0020.201
getGeneClusterAveragesPerCell5.5530.0615.615
getGeneNeighbors5.4540.0025.456
getLigandReceptorNetwork0.0150.0010.016
getLigandReceptorPairsInPanel0.0810.0010.081
getNearbyGenes5.7000.1035.804
getNearestNeighbourLists5.2490.0135.262
getObjectSubsetClusteringPValue12.756 0.13812.898
getObjectSubsetClusteringStatistics6.0150.0116.028
make.getExample0.0910.0000.091
makeLRInteractionHeatmap0.1830.0030.186
makeSummedLRInteractionHeatmap0.1610.0020.163
meanGeneClusterOnCellUMAP5.5940.0035.599
meanZPerCluster5.2700.0005.273
meanZPerClusterOnUMAP5.4280.0015.438
medianComplementDistance000
medianComplementPValue5.7900.0105.802
nbhdsAsEdgesToNbhdsAsList0.7090.0100.719
neighbourhoodDiameter0.7240.0180.743
performLigandReceptorAnalysis0.9560.1331.090
performLigandReceptorAnalysisPermutation0.8520.1410.993
plotLRDotplot1.6010.0061.607
predictAnnotation8.3500.1108.461
predictAnnotationAllGenes7.5710.0627.634
predictGeneAnnotationImpl6.6950.0646.760
randomiseNodeIndices15.208 0.00415.216
runGeometricClusteringTrials6.5300.0566.588
runMoransI1.1360.0121.149
sankeyFromMatrix0.0020.0020.004
symmetriseNN5.6450.0365.682
symmetryCheckNN5.4890.0015.491
tagRowAndColNames5.6660.0535.721
transposeObject10.909 0.13311.045