Back to Multiple platform build/check report for BioC 3.22:   simplified   long
AB[C]DEFGHIJKLMNOPQRSTUVWXYZ

This page was generated on 2025-10-29 12:06 -0400 (Wed, 29 Oct 2025).

HostnameOSArch (*)R versionInstalled pkgs
nebbiolo2Linux (Ubuntu 24.04.3 LTS)x86_644.5.1 Patched (2025-08-23 r88802) -- "Great Square Root" 4901
lconwaymacOS 12.7.6 Montereyx86_644.5.1 Patched (2025-09-10 r88807) -- "Great Square Root" 4691
kjohnson3macOS 13.7.7 Venturaarm644.5.1 Patched (2025-09-10 r88807) -- "Great Square Root" 4637
Click on any hostname to see more info about the system (e.g. compilers)      (*) as reported by 'uname -p', except on Windows and Mac OS X

Package 289/2361HostnameOS / ArchINSTALLBUILDCHECKBUILD BIN
CatsCradle 1.3.3  (landing page)
Michael Shapiro
Snapshot Date: 2025-10-28 13:45 -0400 (Tue, 28 Oct 2025)
git_url: https://git.bioconductor.org/packages/CatsCradle
git_branch: devel
git_last_commit: 00cf5a4
git_last_commit_date: 2025-10-25 15:46:54 -0400 (Sat, 25 Oct 2025)
nebbiolo2Linux (Ubuntu 24.04.3 LTS) / x86_64  OK    OK    OK  UNNEEDED, same version is already published
lconwaymacOS 12.7.6 Monterey / x86_64  OK    OK    OK    OK  UNNEEDED, same version is already published
kjohnson3macOS 13.7.7 Ventura / arm64  OK    OK    OK    OK  UNNEEDED, same version is already published


CHECK results for CatsCradle on lconway

To the developers/maintainers of the CatsCradle package:
- Allow up to 24 hours (and sometimes 48 hours) for your latest push to git@git.bioconductor.org:packages/CatsCradle.git to reflect on this report. See Troubleshooting Build Report for more information.
- Use the following Renviron settings to reproduce errors and warnings.
- If 'R CMD check' started to fail recently on the Linux builder(s) over a missing dependency, add the missing dependency to 'Suggests:' in your DESCRIPTION file. See Renviron.bioc for more information.

raw results


Summary

Package: CatsCradle
Version: 1.3.3
Command: /Library/Frameworks/R.framework/Resources/bin/R CMD check --install=check:CatsCradle.install-out.txt --library=/Library/Frameworks/R.framework/Resources/library --no-vignettes --timings CatsCradle_1.3.3.tar.gz
StartedAt: 2025-10-28 19:57:47 -0400 (Tue, 28 Oct 2025)
EndedAt: 2025-10-28 20:08:00 -0400 (Tue, 28 Oct 2025)
EllapsedTime: 613.2 seconds
RetCode: 0
Status:   OK  
CheckDir: CatsCradle.Rcheck
Warnings: 0

Command output

##############################################################################
##############################################################################
###
### Running command:
###
###   /Library/Frameworks/R.framework/Resources/bin/R CMD check --install=check:CatsCradle.install-out.txt --library=/Library/Frameworks/R.framework/Resources/library --no-vignettes --timings CatsCradle_1.3.3.tar.gz
###
##############################################################################
##############################################################################


* using log directory ‘/Users/biocbuild/bbs-3.22-bioc/meat/CatsCradle.Rcheck’
* using R version 4.5.1 Patched (2025-09-10 r88807)
* using platform: x86_64-apple-darwin20
* R was compiled by
    Apple clang version 14.0.0 (clang-1400.0.29.202)
    GNU Fortran (GCC) 14.2.0
* running under: macOS Monterey 12.7.6
* using session charset: UTF-8
* using option ‘--no-vignettes’
* checking for file ‘CatsCradle/DESCRIPTION’ ... OK
* this is package ‘CatsCradle’ version ‘1.3.3’
* package encoding: UTF-8
* checking package namespace information ... OK
* checking package dependencies ... INFO
Imports includes 21 non-default packages.
Importing from so many packages makes the package vulnerable to any of
them becoming unavailable.  Move as many as possible to Suggests and
use conditionally.
* checking if this is a source package ... OK
* checking if there is a namespace ... OK
* checking for hidden files and directories ... OK
* checking for portable file names ... OK
* checking for sufficient/correct file permissions ... OK
* checking whether package ‘CatsCradle’ can be installed ... OK
* checking installed package size ... OK
* checking package directory ... OK
* checking ‘build’ directory ... OK
* checking DESCRIPTION meta-information ... OK
* checking top-level files ... OK
* checking for left-over files ... OK
* checking index information ... OK
* checking package subdirectories ... OK
* checking code files for non-ASCII characters ... OK
* checking R files for syntax errors ... OK
* checking whether the package can be loaded ... OK
* checking whether the package can be loaded with stated dependencies ... OK
* checking whether the package can be unloaded cleanly ... OK
* checking whether the namespace can be loaded with stated dependencies ... OK
* checking whether the namespace can be unloaded cleanly ... OK
* checking dependencies in R code ... OK
* checking S3 generic/method consistency ... OK
* checking replacement functions ... OK
* checking foreign function calls ... OK
* checking R code for possible problems ... NOTE
edgeLengthPlot: no visible binding for global variable ‘cellTypePair’
edgeLengthPlot: no visible binding for global variable ‘cutoff’
make.getExample : getExample: no visible binding for global variable
  ‘seuratGenes’
make.getExample : getExample: no visible binding for global variable
  ‘seuratCells’
make.getExample : getExample: no visible binding for global variable
  ‘xeniumCells’
make.getExample : getExample: no visible binding for global variable
  ‘moransI’
make.getExample : getExample: no visible binding for global variable
  ‘moransILigandReceptor’
make.getExample : getExample: no visible binding for global variable
  ‘humanLRN’
make.getExample : getExample: no visible binding for global variable
  ‘mouseLRN’
meanGeneClusterOnCellUMAP: no visible binding for global variable
  ‘UMAP_1’
meanGeneClusterOnCellUMAP: no visible binding for global variable
  ‘UMAP_2’
plotLRDotplot: no visible binding for global variable ‘sender’
plotLRDotplot: no visible binding for global variable ‘negLog10PValue’
plotLRDotplot: no visible binding for global variable ‘receiver’
Undefined global functions or variables:
  UMAP_1 UMAP_2 cellTypePair cutoff humanLRN moransI
  moransILigandReceptor mouseLRN negLog10PValue receiver sender
  seuratCells seuratGenes xeniumCells
* checking Rd files ... OK
* checking Rd metadata ... OK
* checking Rd cross-references ... OK
* checking for missing documentation entries ... OK
* checking for code/documentation mismatches ... OK
* checking Rd \usage sections ... OK
* checking Rd contents ... OK
* checking for unstated dependencies in examples ... OK
* checking contents of ‘data’ directory ... OK
* checking data for non-ASCII characters ... OK
* checking data for ASCII and uncompressed saves ... OK
* checking files in ‘vignettes’ ... OK
* checking examples ... OK
Examples with CPU (user + system) or elapsed time > 5s
                                      user system elapsed
annotateGeneAsVector                50.206  0.542  50.971
computeNBHDVsCTObject               20.614  0.193  20.912
randomiseNodeIndices                16.315  0.339  16.756
getObjectSubsetClusteringPValue     14.575  0.786  15.422
transposeObject                     12.351  0.128  12.537
aggregateGeneExpression             11.436  0.319  11.827
computeGraphEmbedding               10.433  0.117  10.617
predictAnnotation                    9.620  0.514  10.213
predictAnnotationAllGenes            8.813  0.456   9.326
predictGeneAnnotationImpl            7.858  0.461   8.373
runGeometricClusteringTrials         6.890  0.163   7.102
getObjectSubsetClusteringStatistics  6.590  0.148   6.770
medianComplementPValue               6.616  0.070   6.716
symmetriseNN                         6.388  0.157   6.581
tagRowAndColNames                    6.440  0.069   6.536
getNearbyGenes                       6.393  0.066   6.501
combinatorialSpheres                 6.370  0.085   6.483
geneSetsVsGeneClustersPValueMatrix   6.382  0.071   6.496
meanGeneClusterOnCellUMAP            6.244  0.137   6.412
symmetryCheckNN                      6.283  0.061   6.378
getAverageExpressionDF               6.162  0.109   6.314
getGeneClusterAveragesPerCell        6.169  0.096   6.308
getAverageExpressionMatrix           6.113  0.077   6.246
meanZPerCluster                      6.109  0.067   6.205
meanZPerClusterOnUMAP                6.109  0.062   6.196
desymmetriseNN                       6.003  0.137   6.171
getGeneNeighbors                     6.030  0.067   6.137
getNearestNeighbourLists             5.967  0.077   6.065
getClusterOrder                      5.791  0.064   5.900
* checking for unstated dependencies in vignettes ... OK
* checking package vignettes ... OK
* checking running R code from vignettes ... SKIPPED
* checking re-building of vignette outputs ... SKIPPED
* checking PDF version of manual ... OK
* DONE

Status: 1 NOTE
See
  ‘/Users/biocbuild/bbs-3.22-bioc/meat/CatsCradle.Rcheck/00check.log’
for details.


Installation output

CatsCradle.Rcheck/00install.out

##############################################################################
##############################################################################
###
### Running command:
###
###   /Library/Frameworks/R.framework/Resources/bin/R CMD INSTALL CatsCradle
###
##############################################################################
##############################################################################


* installing to library ‘/Library/Frameworks/R.framework/Versions/4.5-x86_64/Resources/library’
* installing *source* package ‘CatsCradle’ ...
** this is package ‘CatsCradle’ version ‘1.3.3’
** using staged installation
** R
** data
** inst
** byte-compile and prepare package for lazy loading
** help
*** installing help indices
** building package indices
** installing vignettes
** testing if installed package can be loaded from temporary location
** testing if installed package can be loaded from final location
** testing if installed package keeps a record of temporary installation path
* DONE (CatsCradle)

Tests output


Example timings

CatsCradle.Rcheck/CatsCradle-Ex.timings

nameusersystemelapsed
aggregateGeneExpression11.436 0.31911.827
annotateGeneAsVector50.206 0.54250.971
annotateGenesByGeneSet1.9340.2832.233
cellTypesPerCellTypeGraphFromCellMatrix0.2120.0090.222
collapseExtendedNBHDs2.6960.0632.776
combinatorialSpheres6.3700.0856.483
computeCellTypesPerCellTypeMatrix0.1120.0050.120
computeEdgeGraph0.1480.0060.155
computeEdgeObject1.1710.0471.225
computeGraphEmbedding10.433 0.11710.617
computeNBHDByCTMatrix0.1070.0040.112
computeNBHDVsCTObject20.614 0.19320.912
computeNeighbourEnrichment0.1390.0070.147
computeNeighboursDelaunay0.1850.0230.210
computeNeighboursEuclidean0.5820.0140.602
cullEdges0.5850.0260.621
desymmetriseNN6.0030.1376.171
directedHausdorfDistance0.0000.0000.001
edgeCutoffsByClustering0.4520.0160.471
edgeCutoffsByPercentile0.3160.0050.325
edgeCutoffsByWatershed0.3940.0060.403
edgeCutoffsByZScore0.4160.0220.445
edgeLengthPlot0.4060.0070.417
edgeLengthsAndCellTypePairs0.4110.0120.429
exampleObjects000
geneSetsVsGeneClustersPValueMatrix6.3820.0716.496
getAverageExpressionDF6.1620.1096.314
getAverageExpressionMatrix6.1130.0776.246
getClusterOrder5.7910.0645.900
getExtendedNBHDs0.9330.0160.954
getFeatureZScores0.2360.0110.249
getGeneClusterAveragesPerCell6.1690.0966.308
getGeneNeighbors6.0300.0676.137
getLigandReceptorNetwork0.0300.0040.035
getLigandReceptorPairsInPanel0.1050.0070.113
getNearbyGenes6.3930.0666.501
getNearestNeighbourLists5.9670.0776.065
getObjectSubsetClusteringPValue14.575 0.78615.422
getObjectSubsetClusteringStatistics6.5900.1486.770
make.getExample0.0920.0030.096
makeLRInteractionHeatmap0.2600.0130.273
makeSummedLRInteractionHeatmap0.2480.0100.260
meanGeneClusterOnCellUMAP6.2440.1376.412
meanZPerCluster6.1090.0676.205
meanZPerClusterOnUMAP6.1090.0626.196
medianComplementDistance0.0010.0000.001
medianComplementPValue6.6160.0706.716
nbhdsAsEdgesToNbhdsAsList0.9700.1071.082
neighbourhoodDiameter0.9170.1311.054
performLigandReceptorAnalysis1.2881.0792.392
performLigandReceptorAnalysisPermutation1.1731.0622.246
plotLRDotplot1.9170.0391.969
predictAnnotation 9.620 0.51410.213
predictAnnotationAllGenes8.8130.4569.326
predictGeneAnnotationImpl7.8580.4618.373
randomiseNodeIndices16.315 0.33916.756
runGeometricClusteringTrials6.8900.1637.102
runMoransI1.2820.1011.396
sankeyFromMatrix0.0030.0000.004
symmetriseNN6.3880.1576.581
symmetryCheckNN6.2830.0616.378
tagRowAndColNames6.4400.0696.536
transposeObject12.351 0.12812.537