| Back to Multiple platform build/check report for BioC 3.22: simplified long |
|
This page was generated on 2025-11-07 12:00 -0500 (Fri, 07 Nov 2025).
| Hostname | OS | Arch (*) | R version | Installed pkgs |
|---|---|---|---|---|
| nebbiolo2 | Linux (Ubuntu 24.04.3 LTS) | x86_64 | 4.5.1 Patched (2025-08-23 r88802) -- "Great Square Root" | 4902 |
| kjohnson3 | macOS 13.7.7 Ventura | arm64 | 4.5.1 Patched (2025-09-10 r88807) -- "Great Square Root" | 4638 |
| Click on any hostname to see more info about the system (e.g. compilers) (*) as reported by 'uname -p', except on Windows and Mac OS X | ||||
| Package 289/2361 | Hostname | OS / Arch | INSTALL | BUILD | CHECK | BUILD BIN | ||||||||
| CatsCradle 1.4.1 (landing page) Michael Shapiro
| nebbiolo2 | Linux (Ubuntu 24.04.3 LTS) / x86_64 | OK | OK | OK | |||||||||
| kjohnson3 | macOS 13.7.7 Ventura / arm64 | OK | OK | OK | OK | |||||||||
|
To the developers/maintainers of the CatsCradle package: - Allow up to 24 hours (and sometimes 48 hours) for your latest push to git@git.bioconductor.org:packages/CatsCradle.git to reflect on this report. See Troubleshooting Build Report for more information. - Use the following Renviron settings to reproduce errors and warnings. - If 'R CMD check' started to fail recently on the Linux builder(s) over a missing dependency, add the missing dependency to 'Suggests:' in your DESCRIPTION file. See Renviron.bioc for more information. |
| Package: CatsCradle |
| Version: 1.4.1 |
| Command: /Library/Frameworks/R.framework/Resources/bin/R CMD check --install=check:CatsCradle.install-out.txt --library=/Library/Frameworks/R.framework/Resources/library --no-vignettes --timings CatsCradle_1.4.1.tar.gz |
| StartedAt: 2025-11-06 18:50:50 -0500 (Thu, 06 Nov 2025) |
| EndedAt: 2025-11-06 18:54:40 -0500 (Thu, 06 Nov 2025) |
| EllapsedTime: 229.8 seconds |
| RetCode: 0 |
| Status: OK |
| CheckDir: CatsCradle.Rcheck |
| Warnings: 0 |
##############################################################################
##############################################################################
###
### Running command:
###
### /Library/Frameworks/R.framework/Resources/bin/R CMD check --install=check:CatsCradle.install-out.txt --library=/Library/Frameworks/R.framework/Resources/library --no-vignettes --timings CatsCradle_1.4.1.tar.gz
###
##############################################################################
##############################################################################
* using log directory ‘/Users/biocbuild/bbs-3.22-bioc/meat/CatsCradle.Rcheck’
* using R version 4.5.1 Patched (2025-09-10 r88807)
* using platform: aarch64-apple-darwin20
* R was compiled by
Apple clang version 16.0.0 (clang-1600.0.26.6)
GNU Fortran (GCC) 14.2.0
* running under: macOS Ventura 13.7.7
* using session charset: UTF-8
* using option ‘--no-vignettes’
* checking for file ‘CatsCradle/DESCRIPTION’ ... OK
* this is package ‘CatsCradle’ version ‘1.4.1’
* package encoding: UTF-8
* checking package namespace information ... OK
* checking package dependencies ... INFO
Imports includes 21 non-default packages.
Importing from so many packages makes the package vulnerable to any of
them becoming unavailable. Move as many as possible to Suggests and
use conditionally.
* checking if this is a source package ... OK
* checking if there is a namespace ... OK
* checking for hidden files and directories ... OK
* checking for portable file names ... OK
* checking for sufficient/correct file permissions ... OK
* checking whether package ‘CatsCradle’ can be installed ... OK
* checking installed package size ... OK
* checking package directory ... OK
* checking ‘build’ directory ... OK
* checking DESCRIPTION meta-information ... OK
* checking top-level files ... OK
* checking for left-over files ... OK
* checking index information ... OK
* checking package subdirectories ... OK
* checking code files for non-ASCII characters ... OK
* checking R files for syntax errors ... OK
* checking whether the package can be loaded ... OK
* checking whether the package can be loaded with stated dependencies ... OK
* checking whether the package can be unloaded cleanly ... OK
* checking whether the namespace can be loaded with stated dependencies ... OK
* checking whether the namespace can be unloaded cleanly ... OK
* checking dependencies in R code ... OK
* checking S3 generic/method consistency ... OK
* checking replacement functions ... OK
* checking foreign function calls ... OK
* checking R code for possible problems ... NOTE
edgeLengthPlot: no visible binding for global variable ‘cellTypePair’
edgeLengthPlot: no visible binding for global variable ‘cutoff’
make.getExample : getExample: no visible binding for global variable
‘seuratGenes’
make.getExample : getExample: no visible binding for global variable
‘seuratCells’
make.getExample : getExample: no visible binding for global variable
‘xeniumCells’
make.getExample : getExample: no visible binding for global variable
‘moransI’
make.getExample : getExample: no visible binding for global variable
‘moransILigandReceptor’
make.getExample : getExample: no visible binding for global variable
‘humanLRN’
make.getExample : getExample: no visible binding for global variable
‘mouseLRN’
meanGeneClusterOnCellUMAP: no visible binding for global variable
‘UMAP_1’
meanGeneClusterOnCellUMAP: no visible binding for global variable
‘UMAP_2’
plotLRDotplot: no visible binding for global variable ‘sender’
plotLRDotplot: no visible binding for global variable ‘negLog10PValue’
plotLRDotplot: no visible binding for global variable ‘receiver’
Undefined global functions or variables:
UMAP_1 UMAP_2 cellTypePair cutoff humanLRN moransI
moransILigandReceptor mouseLRN negLog10PValue receiver sender
seuratCells seuratGenes xeniumCells
* checking Rd files ... OK
* checking Rd metadata ... OK
* checking Rd cross-references ... OK
* checking for missing documentation entries ... OK
* checking for code/documentation mismatches ... OK
* checking Rd \usage sections ... OK
* checking Rd contents ... OK
* checking for unstated dependencies in examples ... OK
* checking contents of ‘data’ directory ... OK
* checking data for non-ASCII characters ... OK
* checking data for ASCII and uncompressed saves ... OK
* checking files in ‘vignettes’ ... OK
* checking examples ... OK
Examples with CPU (user + system) or elapsed time > 5s
user system elapsed
annotateGeneAsVector 17.977 0.157 18.161
computeNBHDVsCTObject 9.275 0.070 9.347
randomiseNodeIndices 6.890 0.121 7.187
getObjectSubsetClusteringPValue 6.022 0.331 6.383
transposeObject 4.869 0.064 5.010
* checking for unstated dependencies in vignettes ... OK
* checking package vignettes ... OK
* checking running R code from vignettes ... SKIPPED
* checking re-building of vignette outputs ... SKIPPED
* checking PDF version of manual ... OK
* DONE
Status: 1 NOTE
See
‘/Users/biocbuild/bbs-3.22-bioc/meat/CatsCradle.Rcheck/00check.log’
for details.
CatsCradle.Rcheck/00install.out
############################################################################## ############################################################################## ### ### Running command: ### ### /Library/Frameworks/R.framework/Resources/bin/R CMD INSTALL CatsCradle ### ############################################################################## ############################################################################## * installing to library ‘/Library/Frameworks/R.framework/Versions/4.5-arm64/Resources/library’ * installing *source* package ‘CatsCradle’ ... ** this is package ‘CatsCradle’ version ‘1.4.1’ ** using staged installation ** R ** data ** inst ** byte-compile and prepare package for lazy loading ** help *** installing help indices ** building package indices ** installing vignettes ** testing if installed package can be loaded from temporary location ** testing if installed package can be loaded from final location ** testing if installed package keeps a record of temporary installation path * DONE (CatsCradle)
CatsCradle.Rcheck/CatsCradle-Ex.timings
| name | user | system | elapsed | |
| aggregateGeneExpression | 4.867 | 0.129 | 4.995 | |
| annotateGeneAsVector | 17.977 | 0.157 | 18.161 | |
| annotateGenesByGeneSet | 0.709 | 0.103 | 0.822 | |
| cellTypesPerCellTypeGraphFromCellMatrix | 0.105 | 0.021 | 0.127 | |
| collapseExtendedNBHDs | 0.945 | 0.020 | 0.956 | |
| combinatorialSpheres | 2.617 | 0.026 | 2.643 | |
| computeCellTypesPerCellTypeMatrix | 0.047 | 0.004 | 0.051 | |
| computeEdgeGraph | 0.082 | 0.004 | 0.072 | |
| computeEdgeObject | 0.293 | 0.025 | 0.317 | |
| computeGraphEmbedding | 4.785 | 0.084 | 4.890 | |
| computeNBHDByCTMatrix | 0.043 | 0.003 | 0.046 | |
| computeNBHDVsCTObject | 9.275 | 0.070 | 9.347 | |
| computeNeighbourEnrichment | 0.050 | 0.006 | 0.055 | |
| computeNeighboursDelaunay | 0.037 | 0.003 | 0.039 | |
| computeNeighboursEuclidean | 0.257 | 0.029 | 0.294 | |
| cullEdges | 0.197 | 0.015 | 0.216 | |
| desymmetriseNN | 2.588 | 0.036 | 2.633 | |
| directedHausdorfDistance | 0.000 | 0.000 | 0.001 | |
| edgeCutoffsByClustering | 0.115 | 0.014 | 0.128 | |
| edgeCutoffsByPercentile | 0.108 | 0.014 | 0.123 | |
| edgeCutoffsByWatershed | 0.152 | 0.017 | 0.178 | |
| edgeCutoffsByZScore | 0.104 | 0.008 | 0.121 | |
| edgeLengthPlot | 0.130 | 0.006 | 0.169 | |
| edgeLengthsAndCellTypePairs | 0.099 | 0.007 | 0.120 | |
| exampleObjects | 0 | 0 | 0 | |
| geneSetsVsGeneClustersPValueMatrix | 2.637 | 0.047 | 2.774 | |
| getAverageExpressionDF | 2.530 | 0.040 | 2.584 | |
| getAverageExpressionMatrix | 2.503 | 0.034 | 2.538 | |
| getClusterOrder | 2.437 | 0.041 | 2.542 | |
| getExtendedNBHDs | 0.372 | 0.023 | 0.343 | |
| getFeatureZScores | 0.080 | 0.005 | 0.087 | |
| getGeneClusterAveragesPerCell | 2.473 | 0.037 | 2.516 | |
| getGeneNeighbors | 2.455 | 0.030 | 2.516 | |
| getLigandReceptorNetwork | 0.009 | 0.001 | 0.010 | |
| getLigandReceptorPairsInPanel | 0.037 | 0.004 | 0.041 | |
| getNearbyGenes | 2.532 | 0.040 | 2.594 | |
| getNearestNeighbourLists | 2.426 | 0.035 | 2.476 | |
| getObjectSubsetClusteringPValue | 6.022 | 0.331 | 6.383 | |
| getObjectSubsetClusteringStatistics | 2.568 | 0.054 | 2.660 | |
| make.getExample | 0.036 | 0.003 | 0.040 | |
| makeLRInteractionHeatmap | 0.084 | 0.006 | 0.090 | |
| makeSummedLRInteractionHeatmap | 0.071 | 0.004 | 0.074 | |
| meanGeneClusterOnCellUMAP | 2.419 | 0.040 | 2.469 | |
| meanZPerCluster | 2.546 | 0.026 | 2.580 | |
| meanZPerClusterOnUMAP | 2.544 | 0.030 | 2.582 | |
| medianComplementDistance | 0.000 | 0.000 | 0.001 | |
| medianComplementPValue | 2.697 | 0.050 | 2.750 | |
| nbhdsAsEdgesToNbhdsAsList | 0.378 | 0.087 | 0.468 | |
| neighbourhoodDiameter | 0.350 | 0.064 | 0.413 | |
| performLigandReceptorAnalysis | 0.430 | 0.321 | 0.762 | |
| performLigandReceptorAnalysisPermutation | 0.425 | 0.305 | 0.733 | |
| plotLRDotplot | 0.539 | 0.029 | 0.570 | |
| predictAnnotation | 3.873 | 0.274 | 4.328 | |
| predictAnnotationAllGenes | 3.574 | 0.166 | 3.867 | |
| predictGeneAnnotationImpl | 3.147 | 0.127 | 3.399 | |
| randomiseNodeIndices | 6.890 | 0.121 | 7.187 | |
| runGeometricClusteringTrials | 2.692 | 0.046 | 2.742 | |
| runMoransI | 0.444 | 0.098 | 0.543 | |
| sankeyFromMatrix | 0.001 | 0.000 | 0.001 | |
| symmetriseNN | 2.589 | 0.044 | 2.718 | |
| symmetryCheckNN | 2.543 | 0.023 | 2.615 | |
| tagRowAndColNames | 2.635 | 0.024 | 2.687 | |
| transposeObject | 4.869 | 0.064 | 5.010 | |