| Back to Multiple platform build/check report for BioC 3.22: simplified long |
|
This page was generated on 2025-11-04 12:03 -0500 (Tue, 04 Nov 2025).
| Hostname | OS | Arch (*) | R version | Installed pkgs |
|---|---|---|---|---|
| nebbiolo2 | Linux (Ubuntu 24.04.3 LTS) | x86_64 | 4.5.1 Patched (2025-08-23 r88802) -- "Great Square Root" | 4902 |
| lconway | macOS 12.7.6 Monterey | x86_64 | 4.5.1 Patched (2025-09-10 r88807) -- "Great Square Root" | 4692 |
| kjohnson3 | macOS 13.7.7 Ventura | arm64 | 4.5.1 Patched (2025-09-10 r88807) -- "Great Square Root" | 4638 |
| Click on any hostname to see more info about the system (e.g. compilers) (*) as reported by 'uname -p', except on Windows and Mac OS X | ||||
| Package 260/2361 | Hostname | OS / Arch | INSTALL | BUILD | CHECK | BUILD BIN | ||||||||
| BulkSignalR 1.2.0 (landing page) Jean-Philippe Villemin
| nebbiolo2 | Linux (Ubuntu 24.04.3 LTS) / x86_64 | OK | OK | OK | |||||||||
| lconway | macOS 12.7.6 Monterey / x86_64 | OK | OK | OK | OK | |||||||||
| kjohnson3 | macOS 13.7.7 Ventura / arm64 | OK | OK | OK | OK | |||||||||
|
To the developers/maintainers of the BulkSignalR package: - Allow up to 24 hours (and sometimes 48 hours) for your latest push to git@git.bioconductor.org:packages/BulkSignalR.git to reflect on this report. See Troubleshooting Build Report for more information. - Use the following Renviron settings to reproduce errors and warnings. - If 'R CMD check' started to fail recently on the Linux builder(s) over a missing dependency, add the missing dependency to 'Suggests:' in your DESCRIPTION file. See Renviron.bioc for more information. |
| Package: BulkSignalR |
| Version: 1.2.0 |
| Command: /Library/Frameworks/R.framework/Resources/bin/R CMD check --install=check:BulkSignalR.install-out.txt --library=/Library/Frameworks/R.framework/Resources/library --no-vignettes --timings BulkSignalR_1.2.0.tar.gz |
| StartedAt: 2025-11-03 19:56:27 -0500 (Mon, 03 Nov 2025) |
| EndedAt: 2025-11-03 20:04:18 -0500 (Mon, 03 Nov 2025) |
| EllapsedTime: 471.5 seconds |
| RetCode: 0 |
| Status: OK |
| CheckDir: BulkSignalR.Rcheck |
| Warnings: 0 |
##############################################################################
##############################################################################
###
### Running command:
###
### /Library/Frameworks/R.framework/Resources/bin/R CMD check --install=check:BulkSignalR.install-out.txt --library=/Library/Frameworks/R.framework/Resources/library --no-vignettes --timings BulkSignalR_1.2.0.tar.gz
###
##############################################################################
##############################################################################
* using log directory ‘/Users/biocbuild/bbs-3.22-bioc/meat/BulkSignalR.Rcheck’
* using R version 4.5.1 Patched (2025-09-10 r88807)
* using platform: x86_64-apple-darwin20
* R was compiled by
Apple clang version 14.0.0 (clang-1400.0.29.202)
GNU Fortran (GCC) 14.2.0
* running under: macOS Monterey 12.7.6
* using session charset: UTF-8
* using option ‘--no-vignettes’
* checking for file ‘BulkSignalR/DESCRIPTION’ ... OK
* checking extension type ... Package
* this is package ‘BulkSignalR’ version ‘1.2.0’
* package encoding: UTF-8
* checking package namespace information ... OK
* checking package dependencies ... INFO
Imports includes 26 non-default packages.
Importing from so many packages makes the package vulnerable to any of
them becoming unavailable. Move as many as possible to Suggests and
use conditionally.
* checking if this is a source package ... OK
* checking if there is a namespace ... OK
* checking for hidden files and directories ... OK
* checking for portable file names ... OK
* checking for sufficient/correct file permissions ... OK
* checking whether package ‘BulkSignalR’ can be installed ... OK
* checking installed package size ... OK
* checking package directory ... OK
* checking ‘build’ directory ... OK
* checking DESCRIPTION meta-information ... OK
* checking top-level files ... OK
* checking for left-over files ... OK
* checking index information ... OK
* checking package subdirectories ... OK
* checking code files for non-ASCII characters ... OK
* checking R files for syntax errors ... OK
* checking whether the package can be loaded ... OK
* checking whether the package can be loaded with stated dependencies ... OK
* checking whether the package can be unloaded cleanly ... OK
* checking whether the namespace can be loaded with stated dependencies ... OK
* checking whether the namespace can be unloaded cleanly ... OK
* checking whether startup messages can be suppressed ... OK
* checking dependencies in R code ... OK
* checking S3 generic/method consistency ... OK
* checking replacement functions ... OK
* checking foreign function calls ... OK
* checking R code for possible problems ... OK
* checking Rd files ... OK
* checking Rd metadata ... OK
* checking Rd cross-references ... OK
* checking for missing documentation entries ... OK
* checking for code/documentation mismatches ... OK
* checking Rd \usage sections ... OK
* checking Rd contents ... OK
* checking for unstated dependencies in examples ... OK
* checking contents of ‘data’ directory ... OK
* checking data for non-ASCII characters ... OK
* checking data for ASCII and uncompressed saves ... OK
* checking files in ‘vignettes’ ... OK
* checking examples ... OK
Examples with CPU (user + system) or elapsed time > 5s
user system elapsed
simpleHeatmap 7.193 0.409 7.676
cacheClear 3.833 0.265 7.653
convertToHuman 0.199 0.011 7.996
* checking for unstated dependencies in ‘tests’ ... OK
* checking tests ...
Running ‘testthat.R’
OK
* checking for unstated dependencies in vignettes ... OK
* checking package vignettes ... OK
* checking running R code from vignettes ... SKIPPED
* checking re-building of vignette outputs ... SKIPPED
* checking PDF version of manual ... OK
* DONE
Status: OK
BulkSignalR.Rcheck/00install.out
############################################################################## ############################################################################## ### ### Running command: ### ### /Library/Frameworks/R.framework/Resources/bin/R CMD INSTALL BulkSignalR ### ############################################################################## ############################################################################## * installing to library ‘/Library/Frameworks/R.framework/Versions/4.5-x86_64/Resources/library’ * installing *source* package ‘BulkSignalR’ ... ** this is package ‘BulkSignalR’ version ‘1.2.0’ ** using staged installation ** R ** data ** inst ** byte-compile and prepare package for lazy loading ** help *** installing help indices *** copying figures ** building package indices ** installing vignettes ** testing if installed package can be loaded from temporary location ** testing if installed package can be loaded from final location ** testing if installed package keeps a record of temporary installation path * DONE (BulkSignalR)
BulkSignalR.Rcheck/tests/testthat.Rout
R version 4.5.1 Patched (2025-09-10 r88807) -- "Great Square Root"
Copyright (C) 2025 The R Foundation for Statistical Computing
Platform: x86_64-apple-darwin20
R is free software and comes with ABSOLUTELY NO WARRANTY.
You are welcome to redistribute it under certain conditions.
Type 'license()' or 'licence()' for distribution details.
R is a collaborative project with many contributors.
Type 'contributors()' for more information and
'citation()' on how to cite R or R packages in publications.
Type 'demo()' for some demos, 'help()' for on-line help, or
'help.start()' for an HTML browser interface to help.
Type 'q()' to quit R.
> library(testthat)
> library(BulkSignalR)
Local "resources" are up to date.
> test_check("BulkSignalR")
[ FAIL 0 | WARN 0 | SKIP 0 | PASS 1 ]
>
> proc.time()
user system elapsed
15.796 0.900 17.758
BulkSignalR.Rcheck/BulkSignalR-Ex.timings
| name | user | system | elapsed | |
| BSRClusterComp-class | 0.003 | 0.001 | 0.005 | |
| BSRClusterComp | 0.357 | 0.019 | 0.378 | |
| BSRDataModel-class | 0.054 | 0.007 | 0.061 | |
| BSRDataModel | 0.259 | 0.007 | 0.267 | |
| BSRDataModelComp-class | 0.006 | 0.000 | 0.007 | |
| BSRDataModelComp | 0.288 | 0.006 | 0.297 | |
| BSRInference-class | 0.005 | 0.000 | 0.005 | |
| BSRInference | 3.503 | 0.100 | 3.627 | |
| BSRInferenceComp-class | 0.009 | 0.001 | 0.009 | |
| BSRInferenceComp | 1.312 | 0.092 | 1.415 | |
| BSRSignature-class | 0.002 | 0.000 | 0.003 | |
| BSRSignature | 0.030 | 0.002 | 0.031 | |
| BSRSignatureComp-class | 0.004 | 0.000 | 0.004 | |
| BSRSignatureComp | 0.015 | 0.001 | 0.016 | |
| LRinter | 0.001 | 0.001 | 0.002 | |
| LRinterScore | 0.003 | 0.001 | 0.004 | |
| LRinterShort | 0.003 | 0.001 | 0.004 | |
| addClusterComp | 0.331 | 0.014 | 0.347 | |
| alluvialPlot | 0.646 | 0.022 | 0.672 | |
| assignCellTypesToInteractions | 0.742 | 0.034 | 0.782 | |
| bubblePlotPathwaysLR | 0.553 | 0.007 | 0.564 | |
| cacheClear | 3.833 | 0.265 | 7.653 | |
| cacheInfo | 0.114 | 0.009 | 0.126 | |
| cacheVersion | 0.326 | 0.039 | 0.711 | |
| cellTypeFrequency | 0.779 | 0.027 | 0.809 | |
| cellularNetwork | 0.655 | 0.017 | 0.674 | |
| cellularNetworkTable | 0.641 | 0.009 | 0.654 | |
| chordDiagramLR | 1.379 | 0.024 | 1.408 | |
| coerce | 0.001 | 0.000 | 0.002 | |
| colClusterA | 0 | 0 | 0 | |
| colClusterB | 0 | 0 | 0 | |
| comparison | 0.000 | 0.000 | 0.001 | |
| comparisonName | 0.001 | 0.000 | 0.000 | |
| convertToHuman | 0.199 | 0.011 | 7.996 | |
| createResources | 0.294 | 0.040 | 0.947 | |
| differentialStats | 0.001 | 0.000 | 0.001 | |
| findOrthoGenes | 0.151 | 0.003 | 0.429 | |
| generateSpatialPlots | 1.969 | 0.041 | 2.021 | |
| getLRIntracellNetwork | 2.114 | 0.179 | 2.307 | |
| getLRNetwork | 0.032 | 0.001 | 0.033 | |
| getPathwayStats | 0.015 | 0.001 | 0.016 | |
| getResource | 0.286 | 0.025 | 0.312 | |
| inferenceParameters | 0.001 | 0.001 | 0.001 | |
| initialOrganism | 0.002 | 0.000 | 0.001 | |
| initialOrthologs | 0.002 | 0.000 | 0.002 | |
| learnParameters | 2.642 | 0.024 | 2.678 | |
| ligands | 0.000 | 0.001 | 0.000 | |
| logTransformed | 0.002 | 0.000 | 0.002 | |
| maxLigandSpatialCounts | 0.049 | 0.002 | 0.051 | |
| mu | 0.000 | 0.001 | 0.001 | |
| ncounts | 0.001 | 0.000 | 0.002 | |
| normalization | 0.001 | 0.001 | 0.001 | |
| parameters | 0.001 | 0.000 | 0.001 | |
| pathways | 0.000 | 0.001 | 0.000 | |
| receptors | 0.001 | 0.000 | 0.001 | |
| reduceToBestPathway | 0.109 | 0.004 | 0.114 | |
| reduceToLigand | 0.038 | 0.001 | 0.040 | |
| reduceToPathway | 0.067 | 0.002 | 0.070 | |
| reduceToReceptor | 0.018 | 0.002 | 0.020 | |
| relateToGeneSet | 0.071 | 0.003 | 0.075 | |
| removeClusterComp | 0.296 | 0.007 | 0.303 | |
| rescoreInference | 0.029 | 0.003 | 0.032 | |
| resetLRdb | 0.029 | 0.001 | 0.029 | |
| resetNetwork | 0.006 | 0.000 | 0.006 | |
| resetPathways | 0.288 | 0.015 | 0.304 | |
| resetToInitialOrganism | 1.048 | 0.029 | 1.084 | |
| scoreLRGeneSignatures | 0.409 | 0.007 | 0.420 | |
| scoreSignatures | 0.395 | 0.009 | 0.409 | |
| separatedLRPlot | 1.945 | 0.044 | 2.002 | |
| signatureHeatmaps | 0.020 | 0.002 | 0.022 | |
| simpleHeatmap | 7.193 | 0.409 | 7.676 | |
| smoothSpatialCounts | 0.058 | 0.015 | 0.073 | |
| sourceComparisonName | 0.000 | 0.000 | 0.001 | |
| spatialAssociation | 0.067 | 0.022 | 0.089 | |
| spatialAssociationPlot | 3.922 | 0.072 | 4.014 | |
| spatialDiversityPlot | 1.034 | 0.025 | 1.064 | |
| spatialIndexPlot | 1.529 | 0.021 | 1.556 | |
| spatialPlot | 1.210 | 0.026 | 1.239 | |
| summarizedCellularNetwork | 0.623 | 0.014 | 0.639 | |
| tgCorr | 0.000 | 0.001 | 0.001 | |
| tgExpr | 0.000 | 0.000 | 0.001 | |
| tgGenes | 0 | 0 | 0 | |
| tgLogFC | 0.001 | 0.000 | 0.000 | |
| tgPval | 0 | 0 | 0 | |
| updateInference | 0.084 | 0.002 | 0.086 | |