Back to Multiple platform build/check report for BioC 3.22:   simplified   long
A[B]CDEFGHIJKLMNOPQRSTUVWXYZ

This page was generated on 2025-11-01 12:04 -0400 (Sat, 01 Nov 2025).

HostnameOSArch (*)R versionInstalled pkgs
nebbiolo2Linux (Ubuntu 24.04.3 LTS)x86_644.5.1 Patched (2025-08-23 r88802) -- "Great Square Root" 4901
lconwaymacOS 12.7.6 Montereyx86_644.5.1 Patched (2025-09-10 r88807) -- "Great Square Root" 4691
kjohnson3macOS 13.7.7 Venturaarm644.5.1 Patched (2025-09-10 r88807) -- "Great Square Root" 4637
Click on any hostname to see more info about the system (e.g. compilers)      (*) as reported by 'uname -p', except on Windows and Mac OS X

Package 260/2361HostnameOS / ArchINSTALLBUILDCHECKBUILD BIN
BulkSignalR 1.2.0  (landing page)
Jean-Philippe Villemin
Snapshot Date: 2025-10-31 13:45 -0400 (Fri, 31 Oct 2025)
git_url: https://git.bioconductor.org/packages/BulkSignalR
git_branch: RELEASE_3_22
git_last_commit: 4e95251
git_last_commit_date: 2025-10-29 11:33:26 -0400 (Wed, 29 Oct 2025)
nebbiolo2Linux (Ubuntu 24.04.3 LTS) / x86_64  OK    OK    OK  UNNEEDED, same version is already published
lconwaymacOS 12.7.6 Monterey / x86_64  OK    OK    OK    OK  UNNEEDED, same version is already published
kjohnson3macOS 13.7.7 Ventura / arm64  OK    OK    OK    OK  UNNEEDED, same version is already published


CHECK results for BulkSignalR on kjohnson3

To the developers/maintainers of the BulkSignalR package:
- Allow up to 24 hours (and sometimes 48 hours) for your latest push to git@git.bioconductor.org:packages/BulkSignalR.git to reflect on this report. See Troubleshooting Build Report for more information.
- Use the following Renviron settings to reproduce errors and warnings.
- If 'R CMD check' started to fail recently on the Linux builder(s) over a missing dependency, add the missing dependency to 'Suggests:' in your DESCRIPTION file. See Renviron.bioc for more information.

raw results


Summary

Package: BulkSignalR
Version: 1.2.0
Command: /Library/Frameworks/R.framework/Resources/bin/R CMD check --install=check:BulkSignalR.install-out.txt --library=/Library/Frameworks/R.framework/Resources/library --no-vignettes --timings BulkSignalR_1.2.0.tar.gz
StartedAt: 2025-10-31 18:51:07 -0400 (Fri, 31 Oct 2025)
EndedAt: 2025-10-31 18:54:08 -0400 (Fri, 31 Oct 2025)
EllapsedTime: 181.0 seconds
RetCode: 0
Status:   OK  
CheckDir: BulkSignalR.Rcheck
Warnings: 0

Command output

##############################################################################
##############################################################################
###
### Running command:
###
###   /Library/Frameworks/R.framework/Resources/bin/R CMD check --install=check:BulkSignalR.install-out.txt --library=/Library/Frameworks/R.framework/Resources/library --no-vignettes --timings BulkSignalR_1.2.0.tar.gz
###
##############################################################################
##############################################################################


* using log directory ‘/Users/biocbuild/bbs-3.22-bioc/meat/BulkSignalR.Rcheck’
* using R version 4.5.1 Patched (2025-09-10 r88807)
* using platform: aarch64-apple-darwin20
* R was compiled by
    Apple clang version 16.0.0 (clang-1600.0.26.6)
    GNU Fortran (GCC) 14.2.0
* running under: macOS Ventura 13.7.7
* using session charset: UTF-8
* using option ‘--no-vignettes’
* checking for file ‘BulkSignalR/DESCRIPTION’ ... OK
* checking extension type ... Package
* this is package ‘BulkSignalR’ version ‘1.2.0’
* package encoding: UTF-8
* checking package namespace information ... OK
* checking package dependencies ... INFO
Imports includes 26 non-default packages.
Importing from so many packages makes the package vulnerable to any of
them becoming unavailable.  Move as many as possible to Suggests and
use conditionally.
* checking if this is a source package ... OK
* checking if there is a namespace ... OK
* checking for hidden files and directories ... OK
* checking for portable file names ... OK
* checking for sufficient/correct file permissions ... OK
* checking whether package ‘BulkSignalR’ can be installed ... OK
* checking installed package size ... OK
* checking package directory ... OK
* checking ‘build’ directory ... OK
* checking DESCRIPTION meta-information ... OK
* checking top-level files ... OK
* checking for left-over files ... OK
* checking index information ... OK
* checking package subdirectories ... OK
* checking code files for non-ASCII characters ... OK
* checking R files for syntax errors ... OK
* checking whether the package can be loaded ... OK
* checking whether the package can be loaded with stated dependencies ... OK
* checking whether the package can be unloaded cleanly ... OK
* checking whether the namespace can be loaded with stated dependencies ... OK
* checking whether the namespace can be unloaded cleanly ... OK
* checking whether startup messages can be suppressed ... OK
* checking dependencies in R code ... OK
* checking S3 generic/method consistency ... OK
* checking replacement functions ... OK
* checking foreign function calls ... OK
* checking R code for possible problems ... OK
* checking Rd files ... OK
* checking Rd metadata ... OK
* checking Rd cross-references ... OK
* checking for missing documentation entries ... OK
* checking for code/documentation mismatches ... OK
* checking Rd \usage sections ... OK
* checking Rd contents ... OK
* checking for unstated dependencies in examples ... OK
* checking contents of ‘data’ directory ... OK
* checking data for non-ASCII characters ... OK
* checking data for ASCII and uncompressed saves ... OK
* checking files in ‘vignettes’ ... OK
* checking examples ... OK
Examples with CPU (user + system) or elapsed time > 5s
           user system elapsed
cacheClear 1.37  0.075   5.107
* checking for unstated dependencies in ‘tests’ ... OK
* checking tests ...
  Running ‘testthat.R’
 OK
* checking for unstated dependencies in vignettes ... OK
* checking package vignettes ... OK
* checking running R code from vignettes ... SKIPPED
* checking re-building of vignette outputs ... SKIPPED
* checking PDF version of manual ... OK
* DONE

Status: OK


Installation output

BulkSignalR.Rcheck/00install.out

##############################################################################
##############################################################################
###
### Running command:
###
###   /Library/Frameworks/R.framework/Resources/bin/R CMD INSTALL BulkSignalR
###
##############################################################################
##############################################################################


* installing to library ‘/Library/Frameworks/R.framework/Versions/4.5-arm64/Resources/library’
* installing *source* package ‘BulkSignalR’ ...
** this is package ‘BulkSignalR’ version ‘1.2.0’
** using staged installation
** R
** data
** inst
** byte-compile and prepare package for lazy loading
** help
*** installing help indices
*** copying figures
** building package indices
** installing vignettes
** testing if installed package can be loaded from temporary location
** testing if installed package can be loaded from final location
** testing if installed package keeps a record of temporary installation path
* DONE (BulkSignalR)

Tests output

BulkSignalR.Rcheck/tests/testthat.Rout


R version 4.5.1 Patched (2025-09-10 r88807) -- "Great Square Root"
Copyright (C) 2025 The R Foundation for Statistical Computing
Platform: aarch64-apple-darwin20

R is free software and comes with ABSOLUTELY NO WARRANTY.
You are welcome to redistribute it under certain conditions.
Type 'license()' or 'licence()' for distribution details.

R is a collaborative project with many contributors.
Type 'contributors()' for more information and
'citation()' on how to cite R or R packages in publications.

Type 'demo()' for some demos, 'help()' for on-line help, or
'help.start()' for an HTML browser interface to help.
Type 'q()' to quit R.

> library(testthat)
> library(BulkSignalR)
Local "resources" are up to date.

> test_check("BulkSignalR")
[ FAIL 0 | WARN 0 | SKIP 0 | PASS 1 ]
> 
> proc.time()
   user  system elapsed 
  5.747   0.304   7.128 

Example timings

BulkSignalR.Rcheck/BulkSignalR-Ex.timings

nameusersystemelapsed
BSRClusterComp-class0.0010.0000.001
BSRClusterComp0.1030.0080.111
BSRDataModel-class0.0210.0020.023
BSRDataModel0.0700.0040.077
BSRDataModelComp-class0.0020.0000.002
BSRDataModelComp0.0690.0030.071
BSRInference-class0.0020.0000.002
BSRInference1.0120.0321.046
BSRInferenceComp-class0.0020.0000.003
BSRInferenceComp0.4050.0610.466
BSRSignature-class0.0010.0000.001
BSRSignature0.0080.0010.009
BSRSignatureComp-class0.0010.0000.001
BSRSignatureComp0.0040.0000.005
LRinter0.0010.0000.000
LRinterScore0.0010.0000.001
LRinterShort0.0010.0000.001
addClusterComp0.0870.0060.093
alluvialPlot0.1810.0070.188
assignCellTypesToInteractions0.2230.0120.235
bubblePlotPathwaysLR0.1510.0020.153
cacheClear1.3700.0755.107
cacheInfo0.0310.0020.033
cacheVersion0.0860.0130.445
cellTypeFrequency0.2170.0130.231
cellularNetwork0.1920.0080.199
cellularNetworkTable0.1840.0070.191
chordDiagramLR0.3490.0100.359
coerce000
colClusterA0.0010.0000.000
colClusterB000
comparison000
comparisonName0.0000.0000.001
convertToHuman0.0690.0041.542
createResources0.0820.0100.435
differentialStats000
findOrthoGenes0.0500.0010.330
generateSpatialPlots0.5750.0280.605
getLRIntracellNetwork0.6320.1050.737
getLRNetwork0.010.000.01
getPathwayStats0.0050.0010.005
getResource0.0920.0040.096
inferenceParameters0.0010.0000.000
initialOrganism0.0000.0000.001
initialOrthologs0.0010.0000.001
learnParameters0.7040.0050.708
ligands000
logTransformed0.0010.0000.001
maxLigandSpatialCounts0.0200.0010.022
mu0.0010.0000.000
ncounts000
normalization0.0010.0000.001
parameters0.0000.0000.001
pathways000
receptors0.0000.0010.000
reduceToBestPathway0.0340.0010.036
reduceToLigand0.0110.0010.012
reduceToPathway0.0250.0010.026
reduceToReceptor0.0050.0000.005
relateToGeneSet0.0260.0010.027
removeClusterComp0.0930.0070.101
rescoreInference0.0130.0000.014
resetLRdb0.0080.0000.008
resetNetwork0.0020.0000.002
resetPathways0.1000.0080.112
resetToInitialOrganism0.4550.0140.474
scoreLRGeneSignatures0.1360.0060.142
scoreSignatures0.1100.0050.115
separatedLRPlot0.5490.0180.567
signatureHeatmaps0.0100.0010.011
simpleHeatmap2.7580.1052.868
smoothSpatialCounts0.0170.0010.018
sourceComparisonName000
spatialAssociation0.0210.0020.022
spatialAssociationPlot1.2610.0301.293
spatialDiversityPlot0.3060.0230.330
spatialIndexPlot0.4430.0210.465
spatialPlot0.3590.0230.381
summarizedCellularNetwork0.1950.0120.209
tgCorr000
tgExpr000
tgGenes000
tgLogFC0.0000.0000.001
tgPval000
updateInference0.0340.0040.039