| Back to Multiple platform build/check report for BioC 3.22: simplified long | 
  | 
This page was generated on 2025-11-03 12:03 -0500 (Mon, 03 Nov 2025).
| Hostname | OS | Arch (*) | R version | Installed pkgs | 
|---|---|---|---|---|
| nebbiolo2 | Linux (Ubuntu 24.04.3 LTS) | x86_64 | 4.5.1 Patched (2025-08-23 r88802) -- "Great Square Root" | 4902 | 
| lconway | macOS 12.7.6 Monterey | x86_64 | 4.5.1 Patched (2025-09-10 r88807) -- "Great Square Root" | 4692 | 
| kjohnson3 | macOS 13.7.7 Ventura | arm64 | 4.5.1 Patched (2025-09-10 r88807) -- "Great Square Root" | 4638 | 
| Click on any hostname to see more info about the system (e.g. compilers) (*) as reported by 'uname -p', except on Windows and Mac OS X | ||||
| Package 59/2361 | Hostname | OS / Arch | INSTALL | BUILD | CHECK | BUILD BIN | ||||||||
| AlpsNMR 4.12.0  (landing page) Sergio Oller Moreno 
  | nebbiolo2 | Linux (Ubuntu 24.04.3 LTS) / x86_64 | OK | OK | OK | |||||||||
| lconway | macOS 12.7.6 Monterey / x86_64 | OK | OK | OK | OK | |||||||||
| kjohnson3 | macOS 13.7.7 Ventura / arm64 | OK | OK | OK | OK | |||||||||
| 
To the developers/maintainers of the AlpsNMR package: - Allow up to 24 hours (and sometimes 48 hours) for your latest push to git@git.bioconductor.org:packages/AlpsNMR.git to reflect on this report. See Troubleshooting Build Report for more information. - Use the following Renviron settings to reproduce errors and warnings. - If 'R CMD check' started to fail recently on the Linux builder(s) over a missing dependency, add the missing dependency to 'Suggests:' in your DESCRIPTION file. See Renviron.bioc for more information.  | 
| Package: AlpsNMR | 
| Version: 4.12.0 | 
| Command: /Library/Frameworks/R.framework/Resources/bin/R CMD check --install=check:AlpsNMR.install-out.txt --library=/Library/Frameworks/R.framework/Resources/library --no-vignettes --timings AlpsNMR_4.12.0.tar.gz | 
| StartedAt: 2025-11-02 19:29:30 -0500 (Sun, 02 Nov 2025) | 
| EndedAt: 2025-11-02 19:33:10 -0500 (Sun, 02 Nov 2025) | 
| EllapsedTime: 219.7 seconds | 
| RetCode: 0 | 
| Status: OK | 
| CheckDir: AlpsNMR.Rcheck | 
| Warnings: 0 | 
##############################################################################
##############################################################################
###
### Running command:
###
###   /Library/Frameworks/R.framework/Resources/bin/R CMD check --install=check:AlpsNMR.install-out.txt --library=/Library/Frameworks/R.framework/Resources/library --no-vignettes --timings AlpsNMR_4.12.0.tar.gz
###
##############################################################################
##############################################################################
* using log directory ‘/Users/biocbuild/bbs-3.22-bioc/meat/AlpsNMR.Rcheck’
* using R version 4.5.1 Patched (2025-09-10 r88807)
* using platform: x86_64-apple-darwin20
* R was compiled by
    Apple clang version 14.0.0 (clang-1400.0.29.202)
    GNU Fortran (GCC) 14.2.0
* running under: macOS Monterey 12.7.6
* using session charset: UTF-8
* using option ‘--no-vignettes’
* checking for file ‘AlpsNMR/DESCRIPTION’ ... OK
* checking extension type ... Package
* this is package ‘AlpsNMR’ version ‘4.12.0’
* package encoding: UTF-8
* checking package namespace information ... OK
* checking package dependencies ... INFO
Imports includes 26 non-default packages.
Importing from so many packages makes the package vulnerable to any of
them becoming unavailable.  Move as many as possible to Suggests and
use conditionally.
* checking if this is a source package ... OK
* checking if there is a namespace ... OK
* checking for hidden files and directories ... OK
* checking for portable file names ... OK
* checking for sufficient/correct file permissions ... OK
* checking whether package ‘AlpsNMR’ can be installed ... OK
* checking installed package size ... OK
* checking package directory ... OK
* checking ‘build’ directory ... OK
* checking DESCRIPTION meta-information ... OK
* checking top-level files ... OK
* checking for left-over files ... OK
* checking index information ... OK
* checking package subdirectories ... OK
* checking code files for non-ASCII characters ... OK
* checking R files for syntax errors ... OK
* checking whether the package can be loaded ... OK
* checking whether the package can be loaded with stated dependencies ... OK
* checking whether the package can be unloaded cleanly ... OK
* checking whether the namespace can be loaded with stated dependencies ... OK
* checking whether the namespace can be unloaded cleanly ... OK
* checking dependencies in R code ... OK
* checking S3 generic/method consistency ... OK
* checking replacement functions ... OK
* checking foreign function calls ... OK
* checking R code for possible problems ... OK
* checking Rd files ... OK
* checking Rd metadata ... OK
* checking Rd cross-references ... NOTE
Non-topic package-anchored link(s) in Rd file 'reexports.Rd':
  ‘[magrittr:pipe]{%>%}’
See section 'Cross-references' in the 'Writing R Extensions' manual.
Found the following Rd file(s) with Rd \link{} targets missing package
anchors:
  filter.nmr_dataset_family.Rd: dplyr
Please provide package anchors for all Rd \link{} targets not in the
package itself and the base packages.
* checking for missing documentation entries ... OK
* checking for code/documentation mismatches ... OK
* checking Rd \usage sections ... OK
* checking Rd contents ... OK
* checking for unstated dependencies in examples ... OK
* checking contents of ‘data’ directory ... OK
* checking data for non-ASCII characters ... OK
* checking data for ASCII and uncompressed saves ... OK
* checking sizes of PDF files under ‘inst/doc’ ... OK
* checking files in ‘vignettes’ ... OK
* checking examples ... OK
Examples with CPU (user + system) or elapsed time > 5s
                                     user system elapsed
Peak_detection                      9.970  3.202   9.493
SummarizedExperiment_to_nmr_data_1r 7.353  1.038   7.352
permutation_test_plot               5.373  2.979   2.249
filter.nmr_dataset_family           4.341  3.510   3.658
nmr_pca_outliers_robust             5.012  0.718   4.947
* checking for unstated dependencies in ‘tests’ ... OK
* checking tests ...
  Running ‘testthat.R’
 OK
* checking for unstated dependencies in vignettes ... OK
* checking package vignettes ... OK
* checking running R code from vignettes ... SKIPPED
* checking re-building of vignette outputs ... SKIPPED
* checking PDF version of manual ... OK
* DONE
Status: 1 NOTE
See
  ‘/Users/biocbuild/bbs-3.22-bioc/meat/AlpsNMR.Rcheck/00check.log’
for details.
AlpsNMR.Rcheck/00install.out
############################################################################## ############################################################################## ### ### Running command: ### ### /Library/Frameworks/R.framework/Resources/bin/R CMD INSTALL AlpsNMR ### ############################################################################## ############################################################################## * installing to library ‘/Library/Frameworks/R.framework/Versions/4.5-x86_64/Resources/library’ * installing *source* package ‘AlpsNMR’ ... ** this is package ‘AlpsNMR’ version ‘4.12.0’ ** using staged installation ** R ** data ** inst ** byte-compile and prepare package for lazy loading ** help *** installing help indices *** copying figures ** building package indices ** installing vignettes ** testing if installed package can be loaded from temporary location ** testing if installed package can be loaded from final location ** testing if installed package keeps a record of temporary installation path * DONE (AlpsNMR)
AlpsNMR.Rcheck/tests/testthat.Rout
R version 4.5.1 Patched (2025-09-10 r88807) -- "Great Square Root"
Copyright (C) 2025 The R Foundation for Statistical Computing
Platform: x86_64-apple-darwin20
R is free software and comes with ABSOLUTELY NO WARRANTY.
You are welcome to redistribute it under certain conditions.
Type 'license()' or 'licence()' for distribution details.
R is a collaborative project with many contributors.
Type 'contributors()' for more information and
'citation()' on how to cite R or R packages in publications.
Type 'demo()' for some demos, 'help()' for on-line help, or
'help.start()' for an HTML browser interface to help.
Type 'q()' to quit R.
> library(testthat)
> library(AlpsNMR)
Attaching package: 'AlpsNMR'
The following object is masked from 'package:stats':
    filter
> 
> test_check("AlpsNMR")
[ FAIL 0 | WARN 0 | SKIP 1 | PASS 93 ]
══ Skipped tests (1) ═══════════════════════════════════════════════════════════
• On Bioconductor (1): 'test_rDolphin.R:2:5'
[ FAIL 0 | WARN 0 | SKIP 1 | PASS 93 ]
> 
> proc.time()
   user  system elapsed 
 26.920  10.748  26.073 
AlpsNMR.Rcheck/AlpsNMR-Ex.timings
| name | user | system | elapsed | |
| AlpsNMR-package | 2.110 | 0.509 | 1.978 | |
| HMDB_blood | 0.007 | 0.003 | 0.010 | |
| HMDB_cell | 0.003 | 0.001 | 0.003 | |
| HMDB_urine | 0.004 | 0.001 | 0.004 | |
| Parameters_blood | 0.002 | 0.002 | 0.003 | |
| Parameters_cell | 0.001 | 0.001 | 0.002 | |
| Parameters_urine | 0.001 | 0.001 | 0.002 | |
| Peak_detection | 9.970 | 3.202 | 9.493 | |
| Pipelines | 0.002 | 0.002 | 0.003 | |
| ROI_blood | 0.004 | 0.002 | 0.006 | |
| ROI_cell | 0.002 | 0.001 | 0.004 | |
| ROI_urine | 0.004 | 0.002 | 0.006 | |
| SummarizedExperiment_to_nmr_data_1r | 7.353 | 1.038 | 7.352 | |
| SummarizedExperiment_to_nmr_dataset_peak_table | 1.256 | 0.787 | 1.431 | |
| bp_VIP_analysis | 2.219 | 1.477 | 1.259 | |
| bp_kfold_VIP_analysis | 1.245 | 0.760 | 0.891 | |
| download_MTBLS242 | 0 | 0 | 0 | |
| file_lister | 0.068 | 0.017 | 0.086 | |
| files_to_rDolphin | 0.000 | 0.001 | 0.001 | |
| filter.nmr_dataset_family | 4.341 | 3.510 | 3.658 | |
| format.nmr_dataset | 0.921 | 0.779 | 0.792 | |
| format.nmr_dataset_1D | 1.046 | 0.734 | 0.837 | |
| format.nmr_dataset_peak_table | 0.892 | 0.611 | 1.015 | |
| get_integration_with_metadata | 0.039 | 0.020 | 0.060 | |
| hmdb | 0.066 | 0.023 | 0.089 | |
| is.nmr_dataset | 1.302 | 1.088 | 0.840 | |
| is.nmr_dataset_1D | 0.971 | 0.667 | 0.810 | |
| is.nmr_dataset_peak_table | 1.113 | 0.714 | 0.911 | |
| load_and_save_functions | 0.721 | 0.505 | 0.865 | |
| models_stability_plot_bootstrap | 0.002 | 0.002 | 0.003 | |
| models_stability_plot_plsda | 0.492 | 0.376 | 0.420 | |
| new_nmr_dataset | 0.002 | 0.001 | 0.003 | |
| new_nmr_dataset_1D | 0.001 | 0.002 | 0.003 | |
| new_nmr_dataset_peak_table | 1.365 | 1.021 | 1.007 | |
| nmr_autophase | 0.284 | 0.165 | 0.438 | |
| nmr_baseline_estimation | 0.012 | 0.008 | 0.020 | |
| nmr_baseline_removal | 0.006 | 0.002 | 0.008 | |
| nmr_baseline_threshold | 0.001 | 0.001 | 0.002 | |
| nmr_baseline_threshold_plot | 0.377 | 0.049 | 0.428 | |
| nmr_batman | 0.004 | 0.001 | 0.005 | |
| nmr_batman_options | 0.001 | 0.000 | 0.001 | |
| nmr_build_peak_table | 0.037 | 0.004 | 0.041 | |
| nmr_data | 0.044 | 0.006 | 0.050 | |
| nmr_data_1r_to_SummarizedExperiment | 1.257 | 0.770 | 1.105 | |
| nmr_data_analysis | 0.519 | 0.500 | 0.514 | |
| nmr_dataset | 0.001 | 0.001 | 0.002 | |
| nmr_dataset_1D | 0.001 | 0.000 | 0.001 | |
| nmr_dataset_peak_table_to_SummarizedExperiment | 1.261 | 0.726 | 1.130 | |
| nmr_exclude_region | 0.006 | 0.002 | 0.008 | |
| nmr_export_data_1r | 0.928 | 0.562 | 0.746 | |
| nmr_get_peak_distances | 0.010 | 0.005 | 0.016 | |
| nmr_identify_regions_blood | 0.014 | 0.004 | 0.018 | |
| nmr_identify_regions_cell | 0.010 | 0.002 | 0.012 | |
| nmr_identify_regions_urine | 0.017 | 0.003 | 0.020 | |
| nmr_integrate_regions | 0.008 | 0.001 | 0.009 | |
| nmr_interpolate_1D | 2.182 | 1.596 | 1.895 | |
| nmr_meta_add | 2.291 | 1.441 | 1.995 | |
| nmr_meta_export | 0.918 | 0.712 | 0.736 | |
| nmr_meta_get | 1.021 | 0.783 | 0.819 | |
| nmr_meta_get_column | 0.992 | 0.728 | 0.794 | |
| nmr_meta_groups | 1.042 | 0.844 | 0.849 | |
| nmr_normalize | 0.405 | 0.045 | 0.456 | |
| nmr_pca_build_model | 3.071 | 1.770 | 3.023 | |
| nmr_pca_outliers | 1.064 | 0.625 | 0.899 | |
| nmr_pca_outliers_filter | 1.083 | 0.595 | 0.924 | |
| nmr_pca_outliers_plot | 0.000 | 0.000 | 0.001 | |
| nmr_pca_outliers_robust | 5.012 | 0.718 | 4.947 | |
| nmr_pca_plots | 0.564 | 0.017 | 0.582 | |
| nmr_peak_clustering | 0.080 | 0.001 | 0.081 | |
| nmr_ppm_resolution | 0.007 | 0.002 | 0.009 | |
| nmr_read_bruker_fid | 0 | 0 | 0 | |
| nmr_read_samples | 1.832 | 1.285 | 1.504 | |
| nmr_zip_bruker_samples | 0.221 | 0.045 | 0.285 | |
| peaklist_accept_peaks | 0.004 | 0.001 | 0.006 | |
| permutation_test_model | 2.013 | 1.366 | 2.162 | |
| permutation_test_plot | 5.373 | 2.979 | 2.249 | |
| plot.nmr_dataset_1D | 0.001 | 0.001 | 0.003 | |
| plot_bootstrap_multimodel | 0.002 | 0.001 | 0.003 | |
| plot_interactive | 2.267 | 1.551 | 0.965 | |
| plot_plsda_multimodel | 0.329 | 0.448 | 0.416 | |
| plot_plsda_samples | 0.159 | 0.204 | 0.351 | |
| plot_vip_scores | 0.002 | 0.001 | 0.003 | |
| plot_webgl | 0.002 | 0.001 | 0.003 | |
| plsda_auroc_vip_compare | 0.697 | 0.506 | 1.167 | |
| plsda_auroc_vip_method | 0.000 | 0.000 | 0.001 | |
| ppm_resolution | 0.003 | 0.001 | 0.004 | |
| print.nmr_dataset | 0.818 | 0.694 | 0.917 | |
| print.nmr_dataset_1D | 0.983 | 0.655 | 0.881 | |
| print.nmr_dataset_peak_table | 1.366 | 1.082 | 1.081 | |
| random_subsampling | 0.002 | 0.005 | 0.006 | |
| save_files_to_rDolphin | 0.000 | 0.001 | 0.001 | |
| save_profiling_output | 0 | 0 | 0 | |
| sub-.nmr_dataset | 0.959 | 0.838 | 0.826 | |
| sub-.nmr_dataset_1D | 0.955 | 0.653 | 0.831 | |
| sub-.nmr_dataset_peak_table | 1.161 | 0.875 | 1.016 | |
| tidy.nmr_dataset_1D | 1.216 | 0.863 | 1.059 | |
| to_ASICS | 1.060 | 0.180 | 1.247 | |
| to_ChemoSpec | 1.500 | 1.181 | 1.363 | |
| validate_nmr_dataset | 1.972 | 1.466 | 1.666 | |
| validate_nmr_dataset_family | 1.053 | 0.816 | 0.916 | |
| validate_nmr_dataset_peak_table | 0.001 | 0.000 | 0.002 | |
| zzz | 0.000 | 0.000 | 2.129 | |