Back to Books build report for BioC 3.23

This page was generated on 2025-11-19 14:30 -0500 (Wed, 19 Nov 2025).

HostnameOSArch (*)R versionInstalled pkgs
nebbiolo1Linux (Ubuntu 24.04.3 LTS)x86_64R Under development (unstable) (2025-10-20 r88955) -- "Unsuffered Consequences" 4827
lconwaymacOS 12.7.6 Montereyx86_64R Under development (unstable) (2025-10-21 r88958) -- "Unsuffered Consequences" 4600
kjohnson3macOS 13.7.7 Venturaarm64R Under development (unstable) (2025-11-04 r88984) -- "Unsuffered Consequences" 4564
Click on any hostname to see more info about the system (e.g. compilers)      (*) as reported by 'uname -p', except on Windows and Mac OS X

Package 2/11HostnameOS / ArchINSTALLBUILDCHECK
csawBook 1.19.0  (landing page)
Aaron Lun
Snapshot Date: 2025-11-19 06:30 -0500 (Wed, 19 Nov 2025)
git_url: https://git.bioconductor.org/packages/csawBook
git_branch: devel
git_last_commit: 8f3f934
git_last_commit_date: 2025-10-29 10:12:51 -0500 (Wed, 29 Oct 2025)
nebbiolo1Linux (Ubuntu 24.04.3 LTS) / x86_64  OK    OK    OK  UNNEEDED, same version is already published
lconwaymacOS 12.7.6 Monterey / x86_64  OK    OK    OK  
kjohnson3macOS 13.7.7 Ventura / arm64  OK    OK    OK  


CHECK results for csawBook on nebbiolo1

To the developers/maintainers of the csawBook package:
- Use the following Renviron settings to reproduce errors and warnings.
- If 'R CMD check' started to fail recently on the Linux builder(s) over a missing dependency, add the missing dependency to 'Suggests:' in your DESCRIPTION file. See Renviron.bioc for more information.

raw results


Summary

Package: csawBook
Version: 1.19.0
Command: rm -rf csawBook.book && mkdir csawBook.book && /home/biocbuild/BBS/utils/deploy_book.py csawBook_1.19.0.tar.gz csawBook.book
StartedAt: 2025-11-19 11:51:31 -0500 (Wed, 19 Nov 2025)
EndedAt: 2025-11-19 11:51:32 -0500 (Wed, 19 Nov 2025)
EllapsedTime: 1.0 seconds
RetCode: 0
Status:   OK  
DeployDestDir: csawBook.book
Warnings: 0

Command output

##############################################################################
##############################################################################
###
### Running command:
###
###   rm -rf csawBook.book && mkdir csawBook.book && /home/biocbuild/BBS/utils/deploy_book.py csawBook_1.19.0.tar.gz csawBook.book
###
##############################################################################
##############################################################################


Deploying content from book tarball 'csawBook_1.19.0.tar.gz' to 'csawBook.book/csawBook/' ... OK