| Back to Books build report for BioC 3.22 |
This page was generated on 2025-10-22 14:30 -0400 (Wed, 22 Oct 2025).
| Hostname | OS | Arch (*) | R version | Installed pkgs |
|---|---|---|---|---|
| nebbiolo2 | Linux (Ubuntu 24.04.3 LTS) | x86_64 | 4.5.1 Patched (2025-08-23 r88802) -- "Great Square Root" | 4891 |
| lconway | macOS 12.7.6 Monterey | x86_64 | 4.5.1 Patched (2025-09-10 r88807) -- "Great Square Root" | 4681 |
| kjohnson3 | macOS 13.7.7 Ventura | arm64 | 4.5.1 Patched (2025-09-10 r88807) -- "Great Square Root" | 4626 |
| Click on any hostname to see more info about the system (e.g. compilers) (*) as reported by 'uname -p', except on Windows and Mac OS X | ||||
| Package 4/11 | Hostname | OS / Arch | INSTALL | BUILD | CHECK | ||||||||
| OSCA 1.19.0 (landing page) Alan O'Callaghan
| nebbiolo2 | Linux (Ubuntu 24.04.3 LTS) / x86_64 | OK | NA | NA | ||||||||
| lconway | macOS 12.7.6 Monterey / x86_64 | OK | OK | OK | |||||||||
| kjohnson3 | macOS 13.7.7 Ventura / arm64 | OK | OK | OK | |||||||||
|
To the developers/maintainers of the OSCA package: - Use the following Renviron settings to reproduce errors and warnings. - If 'R CMD check' started to fail recently on the Linux builder(s) over a missing dependency, add the missing dependency to 'Suggests:' in your DESCRIPTION file. See Renviron.bioc for more information. |
| Package: OSCA |
| Version: 1.19.0 |
| Command: /Library/Frameworks/R.framework/Resources/bin/R CMD build --keep-empty-dirs --no-resave-data OSCA |
| StartedAt: 2025-10-22 06:16:02 -0400 (Wed, 22 Oct 2025) |
| EndedAt: 2025-10-22 06:16:08 -0400 (Wed, 22 Oct 2025) |
| EllapsedTime: 6.1 seconds |
| RetCode: 0 |
| Status: OK |
| PackageFile: OSCA_1.19.0.tar.gz |
| PackageFileSize: 432.4 KiB |
############################################################################## ############################################################################## ### ### Running command: ### ### /Library/Frameworks/R.framework/Resources/bin/R CMD build --keep-empty-dirs --no-resave-data OSCA ### ############################################################################## ############################################################################## * checking for file ‘OSCA/DESCRIPTION’ ... OK * preparing ‘OSCA’: * checking DESCRIPTION meta-information ... OK * installing the package to build vignettes * creating vignettes ... OK * checking for LF line-endings in source and make files and shell scripts * checking for empty or unneeded directories * creating default NAMESPACE file * building ‘OSCA_1.19.0.tar.gz’