Back to Books build report for BioC 3.23

This page was generated on 2025-11-19 14:30 -0500 (Wed, 19 Nov 2025).

HostnameOSArch (*)R versionInstalled pkgs
nebbiolo1Linux (Ubuntu 24.04.3 LTS)x86_64R Under development (unstable) (2025-10-20 r88955) -- "Unsuffered Consequences" 4827
lconwaymacOS 12.7.6 Montereyx86_64R Under development (unstable) (2025-10-21 r88958) -- "Unsuffered Consequences" 4600
kjohnson3macOS 13.7.7 Venturaarm64R Under development (unstable) (2025-11-04 r88984) -- "Unsuffered Consequences" 4564
Click on any hostname to see more info about the system (e.g. compilers)      (*) as reported by 'uname -p', except on Windows and Mac OS X

Package 9/11HostnameOS / ArchINSTALLBUILDCHECK
OSCA.workflows 1.19.0  (landing page)
Peter Hickey
Snapshot Date: 2025-11-19 06:30 -0500 (Wed, 19 Nov 2025)
git_url: https://git.bioconductor.org/packages/OSCA.workflows
git_branch: devel
git_last_commit: e45c85f
git_last_commit_date: 2025-10-29 10:12:59 -0500 (Wed, 29 Oct 2025)
nebbiolo1Linux (Ubuntu 24.04.3 LTS) / x86_64  OK    OK    OK  UNNEEDED, same version is already published
lconwaymacOS 12.7.6 Monterey / x86_64  OK    ERROR  skipped
kjohnson3macOS 13.7.7 Ventura / arm64  OK    OK    OK  


BUILD results for OSCA.workflows on kjohnson3

To the developers/maintainers of the OSCA.workflows package:
- Use the following Renviron settings to reproduce errors and warnings.
- If 'R CMD check' started to fail recently on the Linux builder(s) over a missing dependency, add the missing dependency to 'Suggests:' in your DESCRIPTION file. See Renviron.bioc for more information.

raw results


Summary

Package: OSCA.workflows
Version: 1.19.0
Command: /Library/Frameworks/R.framework/Resources/bin/R CMD build --keep-empty-dirs --no-resave-data OSCA.workflows
StartedAt: 2025-11-19 06:47:55 -0500 (Wed, 19 Nov 2025)
EndedAt: 2025-11-19 07:15:35 -0500 (Wed, 19 Nov 2025)
EllapsedTime: 1659.2 seconds
RetCode: 0
Status:   OK  
PackageFile: OSCA.workflows_1.19.0.tar.gz
PackageFileSize: 22.48 MiB

Command output

##############################################################################
##############################################################################
###
### Running command:
###
###   /Library/Frameworks/R.framework/Resources/bin/R CMD build --keep-empty-dirs --no-resave-data OSCA.workflows
###
##############################################################################
##############################################################################


* checking for file ‘OSCA.workflows/DESCRIPTION’ ... OK
* preparing ‘OSCA.workflows’:
* checking DESCRIPTION meta-information ... OK
* installing the package (it is needed to build vignettes)
* creating vignettes ... OK
* checking for LF line-endings in source and make files and shell scripts
* checking for empty or unneeded directories
* creating default NAMESPACE file
* building ‘OSCA.workflows_1.19.0.tar.gz’
Warning in utils::tar(filepath, pkgname, compression = compression, compression_level = 9L,  :
  storing paths of more than 100 bytes is not portable:
  ‘OSCA.workflows/inst/doc/book/tenx-unfiltered-pbmc4k_files/figure-html/unref-unfiltered-pbmc-mito-1.png’
Warning in utils::tar(filepath, pkgname, compression = compression, compression_level = 9L,  :
  storing paths of more than 100 bytes is not portable:
  ‘OSCA.workflows/inst/doc/book/tenx-unfiltered-pbmc4k_files/figure-html/unref-unfiltered-pbmc-norm-1.png’
Warning in utils::tar(filepath, pkgname, compression = compression, compression_level = 9L,  :
  storing paths of more than 100 bytes is not portable:
  ‘OSCA.workflows/inst/doc/book/tenx-unfiltered-pbmc4k_files/figure-html/unref-unfiltered-pbmc-tsne-1.png’
Warning in utils::tar(filepath, pkgname, compression = compression, compression_level = 9L,  :
  storing paths of more than 100 bytes is not portable:
  ‘OSCA.workflows/inst/doc/book/tenx-unfiltered-pbmc4k_files/figure-html/unref-unfiltered-pbmc-var-1.png’