Back to Books build report for BioC 3.23

This page was generated on 2025-11-19 14:30 -0500 (Wed, 19 Nov 2025).

HostnameOSArch (*)R versionInstalled pkgs
nebbiolo1Linux (Ubuntu 24.04.3 LTS)x86_64R Under development (unstable) (2025-10-20 r88955) -- "Unsuffered Consequences" 4827
lconwaymacOS 12.7.6 Montereyx86_64R Under development (unstable) (2025-10-21 r88958) -- "Unsuffered Consequences" 4600
kjohnson3macOS 13.7.7 Venturaarm64R Under development (unstable) (2025-11-04 r88984) -- "Unsuffered Consequences" 4564
Click on any hostname to see more info about the system (e.g. compilers)      (*) as reported by 'uname -p', except on Windows and Mac OS X

Package 5/11HostnameOS / ArchINSTALLBUILDCHECK
OSCA.advanced 1.19.1  (landing page)
Ludwig Geistlinger
Snapshot Date: 2025-11-19 06:30 -0500 (Wed, 19 Nov 2025)
git_url: https://git.bioconductor.org/packages/OSCA.advanced
git_branch: devel
git_last_commit: 55de68d
git_last_commit_date: 2025-11-18 20:18:19 -0500 (Tue, 18 Nov 2025)
nebbiolo1Linux (Ubuntu 24.04.3 LTS) / x86_64  OK    ERROR  skipped
lconwaymacOS 12.7.6 Monterey / x86_64  ERROR    ERROR  skipped
kjohnson3macOS 13.7.7 Ventura / arm64  OK    ERROR  skipped


INSTALL results for OSCA.advanced on kjohnson3

To the developers/maintainers of the OSCA.advanced package:
- Use the following Renviron settings to reproduce errors and warnings.
- If 'R CMD check' started to fail recently on the Linux builder(s) over a missing dependency, add the missing dependency to 'Suggests:' in your DESCRIPTION file. See Renviron.bioc for more information.

raw results


Summary

Package: OSCA.advanced
Version: 1.19.1
Command: /Library/Frameworks/R.framework/Resources/bin/R CMD INSTALL OSCA.advanced
StartedAt: 2025-11-19 06:45:40 -0500 (Wed, 19 Nov 2025)
EndedAt: 2025-11-19 06:45:55 -0500 (Wed, 19 Nov 2025)
EllapsedTime: 14.9 seconds
RetCode: 0
Status:   OK  

Command output

##############################################################################
##############################################################################
###
### Running command:
###
###   /Library/Frameworks/R.framework/Resources/bin/R CMD INSTALL OSCA.advanced
###
##############################################################################
##############################################################################


* installing to library ‘/Library/Frameworks/R.framework/Versions/4.6-arm64/Resources/library’
* installing *source* package ‘OSCA.advanced’ ...
** this is package ‘OSCA.advanced’ version ‘1.19.1’
** using staged installation
** inst
** help
No man pages found in package  ‘OSCA.advanced’ 
*** installing help indices
** building package indices
** installing vignettes
** testing if installed package can be loaded from temporary location
** testing if installed package can be loaded from final location
** testing if installed package keeps a record of temporary installation path
* DONE (OSCA.advanced)