Back to Books build report for BioC 3.23

This page was generated on 2025-11-19 14:30 -0500 (Wed, 19 Nov 2025).

HostnameOSArch (*)R versionInstalled pkgs
nebbiolo1Linux (Ubuntu 24.04.3 LTS)x86_64R Under development (unstable) (2025-10-20 r88955) -- "Unsuffered Consequences" 4827
lconwaymacOS 12.7.6 Montereyx86_64R Under development (unstable) (2025-10-21 r88958) -- "Unsuffered Consequences" 4600
kjohnson3macOS 13.7.7 Venturaarm64R Under development (unstable) (2025-11-04 r88984) -- "Unsuffered Consequences" 4564
Click on any hostname to see more info about the system (e.g. compilers)      (*) as reported by 'uname -p', except on Windows and Mac OS X

Package 5/11HostnameOS / ArchINSTALLBUILDCHECK
OSCA.advanced 1.19.1  (landing page)
Ludwig Geistlinger
Snapshot Date: 2025-11-19 06:30 -0500 (Wed, 19 Nov 2025)
git_url: https://git.bioconductor.org/packages/OSCA.advanced
git_branch: devel
git_last_commit: 55de68d
git_last_commit_date: 2025-11-18 20:18:19 -0500 (Tue, 18 Nov 2025)
nebbiolo1Linux (Ubuntu 24.04.3 LTS) / x86_64  OK    ERROR  skipped
lconwaymacOS 12.7.6 Monterey / x86_64  ERROR    ERROR  skipped
kjohnson3macOS 13.7.7 Ventura / arm64  OK    ERROR  skipped


BUILD results for OSCA.advanced on lconway

To the developers/maintainers of the OSCA.advanced package:
- Use the following Renviron settings to reproduce errors and warnings.
- If 'R CMD check' started to fail recently on the Linux builder(s) over a missing dependency, add the missing dependency to 'Suggests:' in your DESCRIPTION file. See Renviron.bioc for more information.

raw results


Summary

Package: OSCA.advanced
Version: 1.19.1
Command: /Library/Frameworks/R.framework/Resources/bin/R CMD build --keep-empty-dirs --no-resave-data OSCA.advanced
StartedAt: 2025-11-19 06:46:27 -0500 (Wed, 19 Nov 2025)
EndedAt: 2025-11-19 06:46:28 -0500 (Wed, 19 Nov 2025)
EllapsedTime: 1.2 seconds
RetCode: 1
Status:   ERROR  
PackageFile: None
PackageFileSize: NA

Command output

##############################################################################
##############################################################################
###
### Running command:
###
###   /Library/Frameworks/R.framework/Resources/bin/R CMD build --keep-empty-dirs --no-resave-data OSCA.advanced
###
##############################################################################
##############################################################################


* checking for file ‘OSCA.advanced/DESCRIPTION’ ... OK
* preparing ‘OSCA.advanced’:
* checking DESCRIPTION meta-information ... OK
* installing the package (it is needed to build vignettes)
      -----------------------------------
ERROR: dependencies ‘scrapper’, ‘OSCA.basic’ are not available for package ‘OSCA.advanced’
Perhaps try a variation of:
install.packages(c('scrapper', 'OSCA.basic'))
* removing ‘/private/tmp/RtmpJP2w7r/Rinst134c44cef9704/OSCA.advanced’
      -----------------------------------
ERROR: package installation failed