| Back to Rapid builds (Linux only) of a subset of BioC 3.23 Report updated every 6 hours |
This page was generated on 2025-11-01 09:43 -0400 (Sat, 01 Nov 2025).
| Hostname | OS | Arch (*) | R version | Installed pkgs |
|---|---|---|---|---|
| teran2 | Linux (Ubuntu 24.04.3 LTS) | x86_64 | R Under development (unstable) (2025-10-28 r88973) -- "Unsuffered Consequences" | 917 |
| Click on any hostname to see more info about the system (e.g. compilers) (*) as reported by 'uname -p', except on Windows and Mac OS X | ||||
| Package 169/230 | Hostname | OS / Arch | INSTALL | BUILD | CHECK | |||||||
| QFeatures 1.21.0 (landing page) Laurent Gatto
| teran2 | Linux (Ubuntu 24.04.3 LTS) / x86_64 | OK | OK | OK | |||||||
|
To the developers/maintainers of the QFeatures package: - Use the following Renviron settings to reproduce errors and warnings. - If 'R CMD check' started to fail recently on the Linux builder(s) over a missing dependency, add the missing dependency to 'Suggests:' in your DESCRIPTION file. See Renviron.bioc for more information. |
| Package: QFeatures |
| Version: 1.21.0 |
| Command: /home/rapidbuild/bbs-3.23-bioc-rapid/R/bin/R CMD check --install=check:QFeatures.install-out.txt --library=/home/rapidbuild/bbs-3.23-bioc-rapid/R/site-library --timings QFeatures_1.21.0.tar.gz |
| StartedAt: 2025-11-01 08:56:22 -0400 (Sat, 01 Nov 2025) |
| EndedAt: 2025-11-01 09:02:49 -0400 (Sat, 01 Nov 2025) |
| EllapsedTime: 386.8 seconds |
| RetCode: 0 |
| Status: OK |
| CheckDir: QFeatures.Rcheck |
| Warnings: 0 |
##############################################################################
##############################################################################
###
### Running command:
###
### /home/rapidbuild/bbs-3.23-bioc-rapid/R/bin/R CMD check --install=check:QFeatures.install-out.txt --library=/home/rapidbuild/bbs-3.23-bioc-rapid/R/site-library --timings QFeatures_1.21.0.tar.gz
###
##############################################################################
##############################################################################
* using log directory ‘/media/volume/teran2_disk/rapidbuild/bbs-3.23-bioc-rapid/meat/QFeatures.Rcheck’
* using R Under development (unstable) (2025-10-28 r88973)
* using platform: x86_64-pc-linux-gnu
* R was compiled by
gcc (Ubuntu 13.3.0-6ubuntu2~24.04) 13.3.0
GNU Fortran (Ubuntu 13.3.0-6ubuntu2~24.04) 13.3.0
* running under: Ubuntu 24.04.3 LTS
* using session charset: UTF-8
* checking for file ‘QFeatures/DESCRIPTION’ ... OK
* this is package ‘QFeatures’ version ‘1.21.0’
* package encoding: UTF-8
* checking CRAN incoming feasibility ... NOTE
Maintainer: ‘Laurent Gatto <laurent.gatto@uclouvain.be>’
Unknown, possibly misspelled, fields in DESCRIPTION:
‘git_url’ ‘git_branch’ ‘git_last_commit’ ‘git_last_commit_date’
The Title field should be in title case. Current version is:
‘Quantitative features for mass spectrometry data’
In title case that is:
‘Quantitative Features for Mass Spectrometry Data’
Found the following URLs which should use \doi (with the DOI name only):
File ‘readQFeaturesFromDIANN.Rd’:
http://dx.doi.org/10.1038/s41587-022-01389-w
* checking package namespace information ... OK
* checking package dependencies ... OK
* checking if this is a source package ... OK
* checking if there is a namespace ... OK
* checking for hidden files and directories ... OK
* checking for portable file names ... OK
* checking for sufficient/correct file permissions ... OK
* checking whether package ‘QFeatures’ can be installed ... OK
* checking installed package size ... OK
* checking package directory ... OK
* checking ‘build’ directory ... OK
* checking DESCRIPTION meta-information ... OK
* checking top-level files ... OK
* checking for left-over files ... OK
* checking index information ... OK
* checking package subdirectories ... OK
* checking code files for non-ASCII characters ... OK
* checking R files for syntax errors ... OK
* checking whether the package can be loaded ... OK
* checking whether the package can be loaded with stated dependencies ... OK
* checking whether the package can be unloaded cleanly ... OK
* checking whether the namespace can be loaded with stated dependencies ... OK
* checking whether the namespace can be unloaded cleanly ... OK
* checking loading without being on the library search path ... OK
* checking use of S3 registration ... OK
* checking dependencies in R code ... NOTE
Unexported objects imported by ':::' calls:
‘BiocGenerics:::replaceSlots’
‘MultiAssayExperiment:::.sampleMapFromData’
See the note in ?`:::` about the use of this operator.
* checking S3 generic/method consistency ... OK
* checking replacement functions ... OK
* checking foreign function calls ... OK
* checking R code for possible problems ... OK
* checking Rd files ... OK
* checking Rd metadata ... OK
* checking Rd cross-references ... NOTE
Non-topic package-anchored link(s) in Rd file 'QFeatures-processing.Rd':
‘[MsCoreUtils:normalize]{MsCoreUtils::normalizeMethods()}’
‘[MsCoreUtils:normalize]{MsCoreUtils::normalize_matrix()}’
Non-topic package-anchored link(s) in Rd file 'impute.Rd':
‘[MsCoreUtils:imputation]{MsCoreUtils::impute_matrix()}’
See section 'Cross-references' in the 'Writing R Extensions' manual.
Found the following Rd file(s) with Rd \link{} targets missing package
anchors:
QFeatures-aggregate.Rd: sparseMatrix, adjacencyMatrix
QFeatures-filtering.Rd: AnnotationFilter
QFeatures-longForm.Rd: SummarizedExperiment, DataFrame
readQFeatures.Rd: SummarizedExperiment
Please provide package anchors for all Rd \link{} targets not in the
package itself and the base packages.
* checking for missing documentation entries ... OK
* checking for code/documentation mismatches ... OK
* checking Rd \usage sections ... OK
* checking Rd contents ... OK
* checking for unstated dependencies in examples ... OK
* checking contents of ‘data’ directory ... OK
* checking data for non-ASCII characters ... OK
* checking data for ASCII and uncompressed saves ... OK
* checking files in ‘vignettes’ ... OK
* checking examples ... NOTE
Examples with CPU (user + system) or elapsed time > 5s
user system elapsed
readQFeaturesFromDIANN 115.378 2.046 119.591
* checking for unstated dependencies in ‘tests’ ... OK
* checking tests ...
Running ‘testthat.R’
OK
* checking for unstated dependencies in vignettes ... OK
* checking package vignettes ... OK
* checking re-building of vignette outputs ... OK
* checking PDF version of manual ... OK
* DONE
Status: 4 NOTEs
See
‘/media/volume/teran2_disk/rapidbuild/bbs-3.23-bioc-rapid/meat/QFeatures.Rcheck/00check.log’
for details.
QFeatures.Rcheck/00install.out
############################################################################## ############################################################################## ### ### Running command: ### ### /home/rapidbuild/bbs-3.23-bioc-rapid/R/bin/R CMD INSTALL QFeatures ### ############################################################################## ############################################################################## * installing to library ‘/media/volume/teran2_disk/rapidbuild/bbs-3.23-bioc-rapid/R/site-library’ * installing *source* package ‘QFeatures’ ... ** this is package ‘QFeatures’ version ‘1.21.0’ ** using staged installation ** R ** data ** inst ** byte-compile and prepare package for lazy loading Creating a new generic function for ‘sweep’ in package ‘QFeatures’ ** help *** installing help indices *** copying figures ** building package indices ** installing vignettes ** testing if installed package can be loaded from temporary location ** testing if installed package can be loaded from final location ** testing if installed package keeps a record of temporary installation path * DONE (QFeatures)
QFeatures.Rcheck/tests/testthat.Rout
R Under development (unstable) (2025-10-28 r88973) -- "Unsuffered Consequences"
Copyright (C) 2025 The R Foundation for Statistical Computing
Platform: x86_64-pc-linux-gnu
R is free software and comes with ABSOLUTELY NO WARRANTY.
You are welcome to redistribute it under certain conditions.
Type 'license()' or 'licence()' for distribution details.
R is a collaborative project with many contributors.
Type 'contributors()' for more information and
'citation()' on how to cite R or R packages in publications.
Type 'demo()' for some demos, 'help()' for on-line help, or
'help.start()' for an HTML browser interface to help.
Type 'q()' to quit R.
> # setting R_TESTS to empty string because of
> # https://github.com/hadley/testthat/issues/144
> # revert this when that issue in R is fixed.
> Sys.setenv("R_TESTS" = "")
>
> library("testthat")
> library("QFeatures")
Loading required package: MultiAssayExperiment
Loading required package: SummarizedExperiment
Loading required package: MatrixGenerics
Loading required package: matrixStats
Attaching package: 'MatrixGenerics'
The following objects are masked from 'package:matrixStats':
colAlls, colAnyNAs, colAnys, colAvgsPerRowSet, colCollapse,
colCounts, colCummaxs, colCummins, colCumprods, colCumsums,
colDiffs, colIQRDiffs, colIQRs, colLogSumExps, colMadDiffs,
colMads, colMaxs, colMeans2, colMedians, colMins, colOrderStats,
colProds, colQuantiles, colRanges, colRanks, colSdDiffs, colSds,
colSums2, colTabulates, colVarDiffs, colVars, colWeightedMads,
colWeightedMeans, colWeightedMedians, colWeightedSds,
colWeightedVars, rowAlls, rowAnyNAs, rowAnys, rowAvgsPerColSet,
rowCollapse, rowCounts, rowCummaxs, rowCummins, rowCumprods,
rowCumsums, rowDiffs, rowIQRDiffs, rowIQRs, rowLogSumExps,
rowMadDiffs, rowMads, rowMaxs, rowMeans2, rowMedians, rowMins,
rowOrderStats, rowProds, rowQuantiles, rowRanges, rowRanks,
rowSdDiffs, rowSds, rowSums2, rowTabulates, rowVarDiffs, rowVars,
rowWeightedMads, rowWeightedMeans, rowWeightedMedians,
rowWeightedSds, rowWeightedVars
Loading required package: GenomicRanges
Loading required package: stats4
Loading required package: BiocGenerics
Loading required package: generics
Attaching package: 'generics'
The following objects are masked from 'package:base':
as.difftime, as.factor, as.ordered, intersect, is.element, setdiff,
setequal, union
Attaching package: 'BiocGenerics'
The following objects are masked from 'package:stats':
IQR, mad, sd, var, xtabs
The following objects are masked from 'package:base':
Filter, Find, Map, Position, Reduce, anyDuplicated, aperm, append,
as.data.frame, basename, cbind, colnames, dirname, do.call,
duplicated, eval, evalq, get, grep, grepl, is.unsorted, lapply,
mapply, match, mget, order, paste, pmax, pmax.int, pmin, pmin.int,
rank, rbind, rownames, sapply, saveRDS, table, tapply, unique,
unsplit, which.max, which.min
Loading required package: S4Vectors
Attaching package: 'S4Vectors'
The following object is masked from 'package:utils':
findMatches
The following objects are masked from 'package:base':
I, expand.grid, unname
Loading required package: IRanges
Loading required package: Seqinfo
Loading required package: Biobase
Welcome to Bioconductor
Vignettes contain introductory material; view with
'browseVignettes()'. To cite Bioconductor, see
'citation("Biobase")', and for packages 'citation("pkgname")'.
Attaching package: 'Biobase'
The following object is masked from 'package:MatrixGenerics':
rowMedians
The following objects are masked from 'package:matrixStats':
anyMissing, rowMedians
Attaching package: 'QFeatures'
The following object is masked from 'package:base':
sweep
>
> test_check("QFeatures")
AssayLink for assay <foo>
[from:NA|fcol:NA|hits:0]
AssayLinks of length 0
names(0):
An empty instance of class QFeatures (type: bulk)
An instance of class QFeatures (type: bulk) with 1 set:
[1] psms: SummarizedExperiment with 10 rows and 2 columns
[ FAIL 0 | WARN 2 | SKIP 0 | PASS 825 ]
[ FAIL 0 | WARN 2 | SKIP 0 | PASS 825 ]
>
> proc.time()
user system elapsed
46.640 0.679 47.314
QFeatures.Rcheck/QFeatures-Ex.timings
| name | user | system | elapsed | |
| AssayLinks | 0.403 | 0.002 | 0.404 | |
| QFeatures-aggregate | 1.171 | 0.043 | 1.215 | |
| QFeatures-class | 0.320 | 0.001 | 0.321 | |
| QFeatures-filtering | 2.510 | 0.005 | 2.515 | |
| QFeatures-longForm | 0.344 | 0.002 | 0.346 | |
| QFeatures-missing-data | 0.180 | 0.001 | 0.182 | |
| QFeatures-processing | 0 | 0 | 0 | |
| QFeatures-subsetBy | 1.088 | 0.003 | 1.092 | |
| countUniqueFeatures | 0.079 | 0.003 | 0.082 | |
| createPrecursorId | 0.224 | 0.001 | 0.225 | |
| display | 0 | 0 | 0 | |
| feat3 | 0.041 | 0.002 | 0.043 | |
| feat4 | 0.002 | 0.001 | 0.003 | |
| impute | 0.731 | 0.026 | 0.758 | |
| joinAssays | 0.182 | 0.001 | 0.183 | |
| readQFeatures | 0.543 | 0.002 | 0.544 | |
| readQFeaturesFromDIANN | 115.378 | 2.046 | 119.591 | |
| reduceDataFrame | 1.779 | 0.004 | 1.784 | |
| unfoldDataFrame | 0.067 | 0.000 | 0.068 | |