Back to Build/check report for BioC 3.23:   simplified   long
ABCDEFGHIJKLMNOPQRSTU[V]WXYZ

This page was generated on 2025-11-05 11:32 -0500 (Wed, 05 Nov 2025).

HostnameOSArch (*)R versionInstalled pkgs
nebbiolo1Linux (Ubuntu 24.04.3 LTS)x86_64R Under development (unstable) (2025-10-20 r88955) -- "Unsuffered Consequences" 4818
Click on any hostname to see more info about the system (e.g. compilers)      (*) as reported by 'uname -p', except on Windows and Mac OS X

All results for package vsn


To the developers/maintainers of the vsn package:
- Allow up to 24 hours (and sometimes 48 hours) for your latest push to git@git.bioconductor.org:packages/vsn.git to reflect on this report. See Troubleshooting Build Report for more information.
- Use the following Renviron settings to reproduce errors and warnings.
- If 'R CMD check' started to fail recently on the Linux builder(s) over a missing dependency, add the missing dependency to 'Suggests:' in your DESCRIPTION file. See Renviron.bioc for more information.

raw results

Package 2290/2323HostnameOS / ArchINSTALLBUILDCHECKBUILD BIN
vsn 3.79.0  (landing page)
Wolfgang Huber
Snapshot Date: 2025-11-04 13:40 -0500 (Tue, 04 Nov 2025)
git_url: https://git.bioconductor.org/packages/vsn
git_branch: devel
git_last_commit: c1fc26a
git_last_commit_date: 2025-10-29 09:42:11 -0500 (Wed, 29 Oct 2025)
nebbiolo1Linux (Ubuntu 24.04.3 LTS) / x86_64  OK    OK    OK  UNNEEDED, same version is already published



Results for Bioconductor software packages that depend directly on package vsn

QUICK STATSOS / ArchINSTALLBUILDCHECKBUILD BIN
nebbiolo1Linux (Ubuntu 24.04.3 LTS) / x86_64
0014
0014
00113
Package 1/14HostnameOS / ArchINSTALLBUILDCHECKBUILD BIN
arrayQualityMetrics 3.67.0  (landing page)
Mike Smith
git_last_commit: 39eac6d
git_last_commit_date: 2025-10-29 09:59:44 -0500
nebbiolo1Linux (Ubuntu 24.04.3 LTS) / x86_64  OK    OK    OK  NO, package depends on 'beadarray' which is not available
Package 2/14HostnameOS / ArchINSTALLBUILDCHECKBUILD BIN
autonomics 1.19.0  (landing page)
Aditya Bhagwat
git_last_commit: 9fc1276
git_last_commit_date: 2025-10-29 11:06:51 -0500
nebbiolo1Linux (Ubuntu 24.04.3 LTS) / x86_64  OK    OK    OK  UNNEEDED, same version is already published
Package 3/14HostnameOS / ArchINSTALLBUILDCHECKBUILD BIN
bnem 1.19.0  (landing page)
Martin Pirkl
git_last_commit: c656bcb
git_last_commit_date: 2025-10-29 11:04:57 -0500
nebbiolo1Linux (Ubuntu 24.04.3 LTS) / x86_64  OK    OK    OK  UNNEEDED, same version is already published
Package 4/14HostnameOS / ArchINSTALLBUILDCHECKBUILD BIN
Doscheda 1.33.0  (landing page)
Bruno Contrino
git_last_commit: 3ce1c92
git_last_commit_date: 2025-10-29 10:40:19 -0500
nebbiolo1Linux (Ubuntu 24.04.3 LTS) / x86_64  OK    OK    OK  UNNEEDED, same version is already published
Package 5/14HostnameOS / ArchINSTALLBUILDCHECKBUILD BIN
MatrixQCvis 1.19.0  (landing page)
Thomas Naake
git_last_commit: 0b99d49
git_last_commit_date: 2025-10-29 11:09:24 -0500
nebbiolo1Linux (Ubuntu 24.04.3 LTS) / x86_64  OK    OK    OK  NO, package depends on 'proDA' which is not available
Package 6/14HostnameOS / ArchINSTALLBUILDCHECKBUILD BIN
metaseqR2 1.23.0  (landing page)
Panagiotis Moulos
git_last_commit: 25b9df1
git_last_commit_date: 2025-10-29 10:59:18 -0500
nebbiolo1Linux (Ubuntu 24.04.3 LTS) / x86_64  OK    OK    OK  YES
Package 7/14HostnameOS / ArchINSTALLBUILDCHECKBUILD BIN
MSnbase 2.37.0  (landing page)
Laurent Gatto
git_last_commit: 3ca1ea4
git_last_commit_date: 2025-10-29 10:06:57 -0500
nebbiolo1Linux (Ubuntu 24.04.3 LTS) / x86_64  OK    OK    OK  UNNEEDED, same version is already published
Package 8/14HostnameOS / ArchINSTALLBUILDCHECKBUILD BIN
NormalyzerDE 1.29.0  (landing page)
Jakob Willforss
git_last_commit: 1b37592
git_last_commit_date: 2025-10-29 10:47:24 -0500
nebbiolo1Linux (Ubuntu 24.04.3 LTS) / x86_64  OK    OK    WARNINGS  UNNEEDED, same version is already published
Package 9/14HostnameOS / ArchINSTALLBUILDCHECKBUILD BIN
PRONE 1.5.0  (landing page)
Lis Arend
git_last_commit: cfe6a55
git_last_commit_date: 2025-10-29 11:32:38 -0500
nebbiolo1Linux (Ubuntu 24.04.3 LTS) / x86_64  OK    OK    OK  UNNEEDED, same version is already published
Package 10/14HostnameOS / ArchINSTALLBUILDCHECKBUILD BIN
protGear 1.15.0  (landing page)
Kennedy Mwai
git_last_commit: 1c28da5
git_last_commit_date: 2025-10-29 11:15:59 -0500
nebbiolo1Linux (Ubuntu 24.04.3 LTS) / x86_64  OK    OK    OK  UNNEEDED, same version is already published
Package 11/14HostnameOS / ArchINSTALLBUILDCHECKBUILD BIN
pvca 1.51.0  (landing page)
Jianying LI
git_last_commit: 1b417dc
git_last_commit_date: 2025-10-29 10:12:53 -0500
nebbiolo1Linux (Ubuntu 24.04.3 LTS) / x86_64  OK    OK    OK  UNNEEDED, same version is already published
Package 12/14HostnameOS / ArchINSTALLBUILDCHECKBUILD BIN
SmartPhos 1.1.0  (landing page)
Shubham Agrawal
git_last_commit: 9abaf07
git_last_commit_date: 2025-10-29 11:38:54 -0500
nebbiolo1Linux (Ubuntu 24.04.3 LTS) / x86_64  OK    OK    OK  NO, package depends on 'proDA' which is not available
Package 13/14HostnameOS / ArchINSTALLBUILDCHECKBUILD BIN
tilingArray 1.89.0  (landing page)
Zhenyu Xu
git_last_commit: 1959ceb
git_last_commit_date: 2025-10-29 09:56:07 -0500
nebbiolo1Linux (Ubuntu 24.04.3 LTS) / x86_64  OK    OK    OK  UNNEEDED, same version is already published
Package 14/14HostnameOS / ArchINSTALLBUILDCHECKBUILD BIN
webbioc 1.83.0  (landing page)
Colin A. Smith
git_last_commit: 8bbf95c
git_last_commit_date: 2025-10-29 09:54:04 -0500
nebbiolo1Linux (Ubuntu 24.04.3 LTS) / x86_64  OK    OK    OK  UNNEEDED, same version is already published