| Back to Multiple platform build/check report for BioC 3.22: simplified long |
|
This page was generated on 2025-10-21 12:08 -0400 (Tue, 21 Oct 2025).
| Hostname | OS | Arch (*) | R version | Installed pkgs |
|---|---|---|---|---|
| nebbiolo2 | Linux (Ubuntu 24.04.3 LTS) | x86_64 | 4.5.1 Patched (2025-08-23 r88802) -- "Great Square Root" | 4887 |
| lconway | macOS 12.7.6 Monterey | x86_64 | 4.5.1 Patched (2025-09-10 r88807) -- "Great Square Root" | 4677 |
| kjohnson3 | macOS 13.7.7 Ventura | arm64 | 4.5.1 Patched (2025-09-10 r88807) -- "Great Square Root" | 4622 |
| taishan | Linux (openEuler 24.03 LTS) | aarch64 | 4.5.0 (2025-04-11) -- "How About a Twenty-Six" | 4642 |
| Click on any hostname to see more info about the system (e.g. compilers) (*) as reported by 'uname -p', except on Windows and Mac OS X | ||||
| Package 2259/2353 | Hostname | OS / Arch | INSTALL | BUILD | CHECK | BUILD BIN | ||||||||
| trio 3.47.0 (landing page) Holger Schwender
| nebbiolo2 | Linux (Ubuntu 24.04.3 LTS) / x86_64 | OK | OK | OK | |||||||||
| lconway | macOS 12.7.6 Monterey / x86_64 | OK | OK | OK | OK | |||||||||
| kjohnson3 | macOS 13.7.7 Ventura / arm64 | OK | OK | OK | OK | |||||||||
| taishan | Linux (openEuler 24.03 LTS) / aarch64 | OK | OK | OK | ||||||||||
|
To the developers/maintainers of the trio package: - Allow up to 24 hours (and sometimes 48 hours) for your latest push to git@git.bioconductor.org:packages/trio.git to reflect on this report. See Troubleshooting Build Report for more information. - Use the following Renviron settings to reproduce errors and warnings. - If 'R CMD check' started to fail recently on the Linux builder(s) over a missing dependency, add the missing dependency to 'Suggests:' in your DESCRIPTION file. See Renviron.bioc for more information. - See Martin Grigorov's blog post for how to debug Linux ARM64 related issues on a x86_64 host. |
| Package: trio |
| Version: 3.47.0 |
| Command: /home/biocbuild/R/R/bin/R CMD check --install=check:trio.install-out.txt --library=/home/biocbuild/R/R/site-library --no-vignettes --timings trio_3.47.0.tar.gz |
| StartedAt: 2025-10-17 14:41:47 -0000 (Fri, 17 Oct 2025) |
| EndedAt: 2025-10-17 14:44:45 -0000 (Fri, 17 Oct 2025) |
| EllapsedTime: 178.2 seconds |
| RetCode: 0 |
| Status: OK |
| CheckDir: trio.Rcheck |
| Warnings: 0 |
##############################################################################
##############################################################################
###
### Running command:
###
### /home/biocbuild/R/R/bin/R CMD check --install=check:trio.install-out.txt --library=/home/biocbuild/R/R/site-library --no-vignettes --timings trio_3.47.0.tar.gz
###
##############################################################################
##############################################################################
* using log directory ‘/home/biocbuild/bbs-3.22-bioc/meat/trio.Rcheck’
* using R version 4.5.0 (2025-04-11)
* using platform: aarch64-unknown-linux-gnu
* R was compiled by
aarch64-unknown-linux-gnu-gcc (GCC) 14.2.0
GNU Fortran (GCC) 14.2.0
* running under: openEuler 24.03 (LTS)
* using session charset: UTF-8
* using option ‘--no-vignettes’
* checking for file ‘trio/DESCRIPTION’ ... OK
* checking extension type ... Package
* this is package ‘trio’ version ‘3.47.0’
* checking package namespace information ... OK
* checking package dependencies ... OK
* checking if this is a source package ... OK
* checking if there is a namespace ... OK
* checking for hidden files and directories ... OK
* checking for portable file names ... OK
* checking for sufficient/correct file permissions ... OK
* checking whether package ‘trio’ can be installed ... OK
* checking installed package size ... OK
* checking package directory ... OK
* checking ‘build’ directory ... OK
* checking DESCRIPTION meta-information ... OK
* checking top-level files ... OK
* checking for left-over files ... OK
* checking index information ... OK
* checking package subdirectories ... OK
* checking code files for non-ASCII characters ... OK
* checking R files for syntax errors ... OK
* checking whether the package can be loaded ... OK
* checking whether the package can be loaded with stated dependencies ... OK
* checking whether the package can be unloaded cleanly ... OK
* checking whether the namespace can be loaded with stated dependencies ... OK
* checking whether the namespace can be unloaded cleanly ... OK
* checking loading without being on the library search path ... OK
* checking whether startup messages can be suppressed ... OK
* checking dependencies in R code ... OK
* checking S3 generic/method consistency ... OK
* checking replacement functions ... OK
* checking foreign function calls ... NOTE
Foreign function call to a different package:
.C("clogreg", ..., PACKAGE = "LogicReg")
See chapter ‘System and foreign language interfaces’ in the ‘Writing R
Extensions’ manual.
* checking R code for possible problems ... NOTE
read.pedfile: no visible binding for global variable ‘..ids.select’
Undefined global functions or variables:
..ids.select
* checking Rd files ... OK
* checking Rd metadata ... OK
* checking Rd cross-references ... OK
* checking for missing documentation entries ... OK
* checking for code/documentation mismatches ... OK
* checking Rd \usage sections ... OK
* checking Rd contents ... OK
* checking for unstated dependencies in examples ... OK
* checking contents of ‘data’ directory ... OK
* checking data for non-ASCII characters ... OK
* checking data for ASCII and uncompressed saves ... OK
* checking installed files from ‘inst/doc’ ... OK
* checking files in ‘vignettes’ ... OK
* checking examples ... OK
Examples with CPU (user + system) or elapsed time > 5s
user system elapsed
print.trioFS 6.525 0.091 6.635
trioFS 6.135 0.020 6.173
trio.permTest 5.722 0.084 5.824
colGxGPerms 5.574 0.024 5.616
plot.trioLR 5.288 0.096 5.449
* checking for unstated dependencies in vignettes ... OK
* checking package vignettes ... OK
* checking running R code from vignettes ... SKIPPED
* checking re-building of vignette outputs ... SKIPPED
* checking PDF version of manual ... OK
* DONE
Status: 2 NOTEs
See
‘/home/biocbuild/bbs-3.22-bioc/meat/trio.Rcheck/00check.log’
for details.
trio.Rcheck/00install.out
############################################################################## ############################################################################## ### ### Running command: ### ### /home/biocbuild/R/R/bin/R CMD INSTALL trio ### ############################################################################## ############################################################################## * installing to library ‘/home/biocbuild/R/R-4.5.0/site-library’ * installing *source* package ‘trio’ ... ** this is package ‘trio’ version ‘3.47.0’ ** using staged installation ** R ** data ** inst ** byte-compile and prepare package for lazy loading ** help *** installing help indices ** building package indices ** installing vignettes ** testing if installed package can be loaded from temporary location ** testing if installed package can be loaded from final location ** testing if installed package keeps a record of temporary installation path * DONE (trio)
trio.Rcheck/trio-Ex.timings
| name | user | system | elapsed | |
| allelicTDT | 0.030 | 0.000 | 0.031 | |
| colEMlrt | 0.143 | 0.008 | 0.151 | |
| colGxE | 0.005 | 0.004 | 0.009 | |
| colGxGPerms | 5.574 | 0.024 | 5.616 | |
| colNtrios | 0.019 | 0.000 | 0.019 | |
| colPOlrt | 0.013 | 0.004 | 0.018 | |
| colTDTmaxTest | 0.075 | 0.000 | 0.075 | |
| colTDTsam | 0.044 | 0.000 | 0.046 | |
| findLDblocks | 0.025 | 0.000 | 0.026 | |
| getLD | 0.024 | 0.000 | 0.024 | |
| getMatPseudo | 0.008 | 0.000 | 0.008 | |
| lrControl | 0.001 | 0.000 | 0.001 | |
| ntrios2Dom | 0.003 | 0.004 | 0.006 | |
| ped2geno | 0.001 | 0.000 | 0.000 | |
| plot.LDblocks | 0.062 | 0.000 | 0.062 | |
| plot.getLD | 0.041 | 0.000 | 0.041 | |
| plot.trioLR | 5.288 | 0.096 | 5.449 | |
| poly4root | 0.001 | 0.000 | 0.001 | |
| print.colGxE | 0.061 | 0.000 | 0.062 | |
| print.trioFS | 6.525 | 0.091 | 6.635 | |
| print.trioLR | 3.259 | 0.048 | 3.316 | |
| probTDT | 0.032 | 0.016 | 0.048 | |
| read.pedfile | 0.000 | 0.000 | 0.001 | |
| removeSNPs | 0.007 | 0.000 | 0.007 | |
| scoreTDT | 0.013 | 0.000 | 0.012 | |
| tdt | 0.036 | 0.012 | 0.049 | |
| tdtGxG | 1.397 | 0.004 | 1.405 | |
| trio.check | 0.944 | 0.012 | 0.959 | |
| trio.data | 0.005 | 0.000 | 0.005 | |
| trio.permTest | 5.722 | 0.084 | 5.824 | |
| trio.power | 0.014 | 0.000 | 0.014 | |
| trio.prepare | 3.382 | 0.000 | 3.395 | |
| trio.sim | 0.442 | 0.012 | 0.456 | |
| trioFS | 6.135 | 0.020 | 6.173 | |
| trioLR | 3.625 | 0.000 | 3.637 | |