| Back to Multiple platform build/check report for BioC 3.22: simplified long | 
 | 
This page was generated on 2025-10-21 12:07 -0400 (Tue, 21 Oct 2025).
| Hostname | OS | Arch (*) | R version | Installed pkgs | 
|---|---|---|---|---|
| nebbiolo2 | Linux (Ubuntu 24.04.3 LTS) | x86_64 | 4.5.1 Patched (2025-08-23 r88802) -- "Great Square Root" | 4887 | 
| lconway | macOS 12.7.6 Monterey | x86_64 | 4.5.1 Patched (2025-09-10 r88807) -- "Great Square Root" | 4677 | 
| kjohnson3 | macOS 13.7.7 Ventura | arm64 | 4.5.1 Patched (2025-09-10 r88807) -- "Great Square Root" | 4622 | 
| taishan | Linux (openEuler 24.03 LTS) | aarch64 | 4.5.0 (2025-04-11) -- "How About a Twenty-Six" | 4642 | 
| Click on any hostname to see more info about the system (e.g. compilers) (*) as reported by 'uname -p', except on Windows and Mac OS X | ||||
| Package 2259/2353 | Hostname | OS / Arch | INSTALL | BUILD | CHECK | BUILD BIN | ||||||||
| trio 3.47.0  (landing page) Holger Schwender 
 | nebbiolo2 | Linux (Ubuntu 24.04.3 LTS) / x86_64 | OK | OK | OK |  | ||||||||
| lconway | macOS 12.7.6 Monterey / x86_64 | OK | OK | OK | OK |  | ||||||||
| kjohnson3 | macOS 13.7.7 Ventura / arm64 | OK | OK | OK | OK |  | ||||||||
| taishan | Linux (openEuler 24.03 LTS) / aarch64 | OK | OK | OK | ||||||||||
| To the developers/maintainers of the trio package: - Allow up to 24 hours (and sometimes 48 hours) for your latest push to git@git.bioconductor.org:packages/trio.git to reflect on this report. See Troubleshooting Build Report for more information. - Use the following Renviron settings to reproduce errors and warnings. - If 'R CMD check' started to fail recently on the Linux builder(s) over a missing dependency, add the missing dependency to 'Suggests:' in your DESCRIPTION file. See Renviron.bioc for more information. | 
| Package: trio | 
| Version: 3.47.0 | 
| Command: /Library/Frameworks/R.framework/Resources/bin/R CMD check --install=check:trio.install-out.txt --library=/Library/Frameworks/R.framework/Resources/library --no-vignettes --timings trio_3.47.0.tar.gz | 
| StartedAt: 2025-10-20 22:34:39 -0400 (Mon, 20 Oct 2025) | 
| EndedAt: 2025-10-20 22:35:31 -0400 (Mon, 20 Oct 2025) | 
| EllapsedTime: 51.6 seconds | 
| RetCode: 0 | 
| Status: OK | 
| CheckDir: trio.Rcheck | 
| Warnings: 0 | 
##############################################################################
##############################################################################
###
### Running command:
###
###   /Library/Frameworks/R.framework/Resources/bin/R CMD check --install=check:trio.install-out.txt --library=/Library/Frameworks/R.framework/Resources/library --no-vignettes --timings trio_3.47.0.tar.gz
###
##############################################################################
##############################################################################
* using log directory ‘/Users/biocbuild/bbs-3.22-bioc/meat/trio.Rcheck’
* using R version 4.5.1 Patched (2025-09-10 r88807)
* using platform: aarch64-apple-darwin20
* R was compiled by
    Apple clang version 16.0.0 (clang-1600.0.26.6)
    GNU Fortran (GCC) 14.2.0
* running under: macOS Ventura 13.7.7
* using session charset: UTF-8
* using option ‘--no-vignettes’
* checking for file ‘trio/DESCRIPTION’ ... OK
* checking extension type ... Package
* this is package ‘trio’ version ‘3.47.0’
* checking package namespace information ... OK
* checking package dependencies ... OK
* checking if this is a source package ... OK
* checking if there is a namespace ... OK
* checking for hidden files and directories ... OK
* checking for portable file names ... OK
* checking for sufficient/correct file permissions ... OK
* checking whether package ‘trio’ can be installed ... OK
* checking installed package size ... OK
* checking package directory ... OK
* checking ‘build’ directory ... OK
* checking DESCRIPTION meta-information ... OK
* checking top-level files ... OK
* checking for left-over files ... OK
* checking index information ... OK
* checking package subdirectories ... OK
* checking code files for non-ASCII characters ... OK
* checking R files for syntax errors ... OK
* checking whether the package can be loaded ... OK
* checking whether the package can be loaded with stated dependencies ... OK
* checking whether the package can be unloaded cleanly ... OK
* checking whether the namespace can be loaded with stated dependencies ... OK
* checking whether the namespace can be unloaded cleanly ... OK
* checking whether startup messages can be suppressed ... OK
* checking dependencies in R code ... OK
* checking S3 generic/method consistency ... OK
* checking replacement functions ... OK
* checking foreign function calls ... NOTE
Foreign function call to a different package:
  .C("clogreg", ..., PACKAGE = "LogicReg")
See chapter ‘System and foreign language interfaces’ in the ‘Writing R
Extensions’ manual.
* checking R code for possible problems ... NOTE
read.pedfile: no visible binding for global variable ‘..ids.select’
Undefined global functions or variables:
  ..ids.select
* checking Rd files ... OK
* checking Rd metadata ... OK
* checking Rd cross-references ... OK
* checking for missing documentation entries ... OK
* checking for code/documentation mismatches ... OK
* checking Rd \usage sections ... OK
* checking Rd contents ... OK
* checking for unstated dependencies in examples ... OK
* checking contents of ‘data’ directory ... OK
* checking data for non-ASCII characters ... OK
* checking data for ASCII and uncompressed saves ... OK
* checking sizes of PDF files under ‘inst/doc’ ... OK
* checking installed files from ‘inst/doc’ ... OK
* checking files in ‘vignettes’ ... OK
* checking examples ... OK
* checking for unstated dependencies in vignettes ... OK
* checking package vignettes ... OK
* checking running R code from vignettes ... SKIPPED
* checking re-building of vignette outputs ... SKIPPED
* checking PDF version of manual ... OK
* DONE
Status: 2 NOTEs
See
  ‘/Users/biocbuild/bbs-3.22-bioc/meat/trio.Rcheck/00check.log’
for details.
trio.Rcheck/00install.out
############################################################################## ############################################################################## ### ### Running command: ### ### /Library/Frameworks/R.framework/Resources/bin/R CMD INSTALL trio ### ############################################################################## ############################################################################## * installing to library ‘/Library/Frameworks/R.framework/Versions/4.5-arm64/Resources/library’ * installing *source* package ‘trio’ ... ** this is package ‘trio’ version ‘3.47.0’ ** using staged installation ** R ** data ** inst ** byte-compile and prepare package for lazy loading ** help *** installing help indices ** building package indices ** installing vignettes ** testing if installed package can be loaded from temporary location ** testing if installed package can be loaded from final location ** testing if installed package keeps a record of temporary installation path * DONE (trio)
trio.Rcheck/trio-Ex.timings
| name | user | system | elapsed | |
| allelicTDT | 0.009 | 0.002 | 0.011 | |
| colEMlrt | 0.030 | 0.002 | 0.032 | |
| colGxE | 0.004 | 0.000 | 0.004 | |
| colGxGPerms | 1.532 | 0.123 | 1.683 | |
| colNtrios | 0.005 | 0.001 | 0.007 | |
| colPOlrt | 0.006 | 0.001 | 0.006 | |
| colTDTmaxTest | 0.022 | 0.003 | 0.025 | |
| colTDTsam | 0.013 | 0.002 | 0.015 | |
| findLDblocks | 0.011 | 0.003 | 0.014 | |
| getLD | 0.006 | 0.001 | 0.007 | |
| getMatPseudo | 0.002 | 0.001 | 0.003 | |
| lrControl | 0 | 0 | 0 | |
| ntrios2Dom | 0.002 | 0.001 | 0.003 | |
| ped2geno | 0 | 0 | 0 | |
| plot.LDblocks | 0.019 | 0.003 | 0.023 | |
| plot.getLD | 0.010 | 0.003 | 0.013 | |
| plot.trioLR | 1.332 | 0.065 | 1.419 | |
| poly4root | 0 | 0 | 0 | |
| print.colGxE | 0.014 | 0.002 | 0.016 | |
| print.trioFS | 1.618 | 0.024 | 1.642 | |
| print.trioLR | 0.713 | 0.013 | 0.729 | |
| probTDT | 0.016 | 0.006 | 0.022 | |
| read.pedfile | 0 | 0 | 0 | |
| removeSNPs | 0.003 | 0.000 | 0.003 | |
| scoreTDT | 0.004 | 0.001 | 0.005 | |
| tdt | 0.007 | 0.001 | 0.007 | |
| tdtGxG | 0.395 | 0.033 | 0.431 | |
| trio.check | 0.218 | 0.004 | 0.223 | |
| trio.data | 0.002 | 0.001 | 0.003 | |
| trio.permTest | 1.484 | 0.018 | 1.524 | |
| trio.power | 0.005 | 0.000 | 0.005 | |
| trio.prepare | 0.677 | 0.015 | 0.703 | |
| trio.sim | 0.184 | 0.009 | 0.200 | |
| trioFS | 1.706 | 0.018 | 1.736 | |
| trioLR | 0.695 | 0.011 | 0.707 | |