Back to Multiple platform build/check report for BioC 3.22:   simplified   long
ABCDEFGHIJKLMNOPQRS[T]UVWXYZ

This page was generated on 2025-07-16 12:09 -0400 (Wed, 16 Jul 2025).

HostnameOSArch (*)R versionInstalled pkgs
nebbiolo2Linux (Ubuntu 24.04.2 LTS)x86_644.5.1 (2025-06-13) -- "Great Square Root" 4786
palomino8Windows Server 2022 Datacenterx644.5.1 (2025-06-13 ucrt) -- "Great Square Root" 4523
lconwaymacOS 12.7.1 Montereyx86_644.5.1 (2025-06-13) -- "Great Square Root" 4563
kjohnson3macOS 13.7.1 Venturaarm644.5.1 Patched (2025-06-14 r88325) -- "Great Square Root" 4509
taishanLinux (openEuler 24.03 LTS)aarch644.5.0 (2025-04-11) -- "How About a Twenty-Six" 4509
Click on any hostname to see more info about the system (e.g. compilers)      (*) as reported by 'uname -p', except on Windows and Mac OS X

Package 2160/2311HostnameOS / ArchINSTALLBUILDCHECKBUILD BIN
tidyFlowCore 1.3.0  (landing page)
Timothy Keyes
Snapshot Date: 2025-07-15 13:25 -0400 (Tue, 15 Jul 2025)
git_url: https://git.bioconductor.org/packages/tidyFlowCore
git_branch: devel
git_last_commit: 1000c1e
git_last_commit_date: 2025-04-15 13:36:05 -0400 (Tue, 15 Apr 2025)
nebbiolo2Linux (Ubuntu 24.04.2 LTS) / x86_64  OK    OK    OK  UNNEEDED, same version is already published
palomino8Windows Server 2022 Datacenter / x64  OK    OK    OK    OK  UNNEEDED, same version is already published
lconwaymacOS 12.7.1 Monterey / x86_64  OK    OK    OK    OK  NO, package depends on 'flowCore' which is only available as a source package that needs compilation
kjohnson3macOS 13.7.1 Ventura / arm64  OK    OK    OK    OK  NO, package depends on 'flowCore' which is only available as a source package that needs compilation
taishanLinux (openEuler 24.03 LTS) / aarch64  OK    OK    OK  


CHECK results for tidyFlowCore on lconway

To the developers/maintainers of the tidyFlowCore package:
- Allow up to 24 hours (and sometimes 48 hours) for your latest push to git@git.bioconductor.org:packages/tidyFlowCore.git to reflect on this report. See Troubleshooting Build Report for more information.
- Use the following Renviron settings to reproduce errors and warnings.
- If 'R CMD check' started to fail recently on the Linux builder(s) over a missing dependency, add the missing dependency to 'Suggests:' in your DESCRIPTION file. See Renviron.bioc for more information.

raw results


Summary

Package: tidyFlowCore
Version: 1.3.0
Command: /Library/Frameworks/R.framework/Resources/bin/R CMD check --install=check:tidyFlowCore.install-out.txt --library=/Library/Frameworks/R.framework/Resources/library --no-vignettes --timings tidyFlowCore_1.3.0.tar.gz
StartedAt: 2025-07-16 00:14:02 -0400 (Wed, 16 Jul 2025)
EndedAt: 2025-07-16 00:15:49 -0400 (Wed, 16 Jul 2025)
EllapsedTime: 107.4 seconds
RetCode: 0
Status:   OK  
CheckDir: tidyFlowCore.Rcheck
Warnings: 0

Command output

##############################################################################
##############################################################################
###
### Running command:
###
###   /Library/Frameworks/R.framework/Resources/bin/R CMD check --install=check:tidyFlowCore.install-out.txt --library=/Library/Frameworks/R.framework/Resources/library --no-vignettes --timings tidyFlowCore_1.3.0.tar.gz
###
##############################################################################
##############################################################################


* using log directory ‘/Users/biocbuild/bbs-3.22-bioc/meat/tidyFlowCore.Rcheck’
* using R version 4.5.1 (2025-06-13)
* using platform: x86_64-apple-darwin20
* R was compiled by
    Apple clang version 14.0.0 (clang-1400.0.29.202)
    GNU Fortran (GCC) 14.2.0
* running under: macOS Monterey 12.7.6
* using session charset: UTF-8
* using option ‘--no-vignettes’
* checking for file ‘tidyFlowCore/DESCRIPTION’ ... OK
* checking extension type ... Package
* this is package ‘tidyFlowCore’ version ‘1.3.0’
* package encoding: UTF-8
* checking package namespace information ... OK
* checking package dependencies ... OK
* checking if this is a source package ... OK
* checking if there is a namespace ... OK
* checking for hidden files and directories ... OK
* checking for portable file names ... OK
* checking for sufficient/correct file permissions ... OK
* checking whether package ‘tidyFlowCore’ can be installed ... OK
* checking installed package size ... OK
* checking package directory ... OK
* checking ‘build’ directory ... OK
* checking DESCRIPTION meta-information ... OK
* checking top-level files ... OK
* checking for left-over files ... OK
* checking index information ... OK
* checking package subdirectories ... OK
* checking code files for non-ASCII characters ... OK
* checking R files for syntax errors ... OK
* checking whether the package can be loaded ... OK
* checking whether the package can be loaded with stated dependencies ... OK
* checking whether the package can be unloaded cleanly ... OK
* checking whether the namespace can be loaded with stated dependencies ... OK
* checking whether the namespace can be unloaded cleanly ... OK
* checking dependencies in R code ... OK
* checking S3 generic/method consistency ... OK
* checking replacement functions ... OK
* checking foreign function calls ... OK
* checking R code for possible problems ... OK
* checking Rd files ... OK
* checking Rd metadata ... OK
* checking Rd cross-references ... OK
* checking for missing documentation entries ... OK
* checking for code/documentation mismatches ... OK
* checking Rd \usage sections ... OK
* checking Rd contents ... OK
* checking for unstated dependencies in examples ... OK
* checking contents of ‘data’ directory ... OK
* checking data for non-ASCII characters ... OK
* checking data for ASCII and uncompressed saves ... OK
* checking files in ‘vignettes’ ... OK
* checking examples ... OK
* checking for unstated dependencies in ‘tests’ ... OK
* checking tests ...
  Running ‘testthat.R’
 OK
* checking for unstated dependencies in vignettes ... OK
* checking package vignettes ... OK
* checking running R code from vignettes ... SKIPPED
* checking re-building of vignette outputs ... SKIPPED
* checking PDF version of manual ... OK
* DONE

Status: OK


Installation output

tidyFlowCore.Rcheck/00install.out

##############################################################################
##############################################################################
###
### Running command:
###
###   /Library/Frameworks/R.framework/Resources/bin/R CMD INSTALL tidyFlowCore
###
##############################################################################
##############################################################################


* installing to library ‘/Library/Frameworks/R.framework/Versions/4.5-x86_64/Resources/library’
* installing *source* package ‘tidyFlowCore’ ...
** this is package ‘tidyFlowCore’ version ‘1.3.0’
** using staged installation
** R
** data
** inst
** byte-compile and prepare package for lazy loading
** help
*** installing help indices
*** copying figures
** building package indices
** installing vignettes
** testing if installed package can be loaded from temporary location
** testing if installed package can be loaded from final location
** testing if installed package keeps a record of temporary installation path
* DONE (tidyFlowCore)

Tests output

tidyFlowCore.Rcheck/tests/testthat.Rout


R version 4.5.1 (2025-06-13) -- "Great Square Root"
Copyright (C) 2025 The R Foundation for Statistical Computing
Platform: x86_64-apple-darwin20

R is free software and comes with ABSOLUTELY NO WARRANTY.
You are welcome to redistribute it under certain conditions.
Type 'license()' or 'licence()' for distribution details.

R is a collaborative project with many contributors.
Type 'contributors()' for more information and
'citation()' on how to cite R or R packages in publications.

Type 'demo()' for some demos, 'help()' for on-line help, or
'help.start()' for an HTML browser interface to help.
Type 'q()' to quit R.

> # This file is part of the standard setup for testthat.
> # It is recommended that you do not modify it.
> #
> # Where should you do additional test configuration?
> # Learn more about the roles of various files in:
> # * https://r-pkgs.org/testing-design.html#sec-tests-files-overview
> # * https://testthat.r-lib.org/articles/special-files.html
> 
> library(testthat)
> library(tidyFlowCore)
> 
> test_check("tidyFlowCore")

Attaching package: 'dplyr'

The following object is masked from 'package:testthat':

    matches

The following objects are masked from 'package:stats':

    filter, lag

The following objects are masked from 'package:base':

    intersect, setdiff, setequal, union


Attaching package: 'tidyr'

The following object is masked from 'package:testthat':

    matches

[ FAIL 0 | WARN 0 | SKIP 0 | PASS 104 ]
> 
> proc.time()
   user  system elapsed 
 14.536   0.659  15.366 

Example timings

tidyFlowCore.Rcheck/tidyFlowCore-Ex.timings

nameusersystemelapsed
arrange.flowFrame0.3190.0120.336
arrange.flowSet0.4130.0120.433
as_flowFrame0.0000.0010.000
as_flowSet0.0000.0000.001
as_tof_tbl0.0260.0020.030
count.flowFrame0.3510.0140.371
count.flowSet0.1940.0080.204
filter.flowFrame0.1960.0070.206
filter.flowSet0.5000.0110.520
ggplot.flowFrame0.1280.0060.136
ggplot.flowSet0.1410.0060.151
group_by.flowFrame0.4330.0150.457
make_flowcore_annotated_data_frame000
mutate.flowFrame0.3680.0130.387
mutate.flowSet0.4510.0120.468
nest.flowFrame0.4390.0150.460
pull.flowFrame0.1220.0060.131
pull.flowSet0.1320.0090.144
reexports0.0000.0000.001
rename.flowFrame0.1940.0070.204
rename.flowSet0.4760.0130.499
rename_with.flowFrame0.1700.0070.182
rename_with.flowSet0.4520.0120.471
select.flowFrame0.2000.0070.212
select.flowSet0.4510.0110.470
simulate_cytometry_data0.1250.0050.134
slice.flowFrame0.2030.0070.214
slice.flowSet0.4950.0120.512
slice_head.flowFrame0.2080.0070.219
slice_head.flowSet0.4940.0120.512
slice_max.flowFrame0.1790.0070.189
slice_max.flowSet0.5110.0120.528
slice_min.flowFrame0.2040.0060.213
slice_min.flowSet0.4660.0120.483
slice_sample.flowFrame0.1760.0060.185
slice_sample.flowSet0.4870.0110.503
slice_tail.flowFrame0.1920.0060.200
slice_tail.flowSet0.4690.0120.487
summarise.flowFrame0.1430.0060.152
summarise.flowSet0.3930.0070.405
summarize.flowFrame0.1300.0050.145
summarize.flowSet0.1740.0130.190
tof_get_panel000
tof_set_panel000
transmute.flowFrame0.1630.0150.182
transmute.flowSet0.4220.0110.438
ungroup.flowSet0.2190.0080.229
unnest.flowSet0.3910.0120.406