| Back to Build/check report for BioC 3.23: simplified long |
|
This page was generated on 2025-11-01 11:33 -0400 (Sat, 01 Nov 2025).
| Hostname | OS | Arch (*) | R version | Installed pkgs |
|---|---|---|---|---|
| nebbiolo1 | Linux (Ubuntu 24.04.3 LTS) | x86_64 | R Under development (unstable) (2025-10-20 r88955) -- "Unsuffered Consequences" | 4774 |
| Click on any hostname to see more info about the system (e.g. compilers) (*) as reported by 'uname -p', except on Windows and Mac OS X | ||||
| Package 2174/2321 | Hostname | OS / Arch | INSTALL | BUILD | CHECK | BUILD BIN | ||||||||
| tidyFlowCore 1.5.0 (landing page) Timothy Keyes
| nebbiolo1 | Linux (Ubuntu 24.04.3 LTS) / x86_64 | OK | OK | OK | |||||||||
|
To the developers/maintainers of the tidyFlowCore package: - Allow up to 24 hours (and sometimes 48 hours) for your latest push to git@git.bioconductor.org:packages/tidyFlowCore.git to reflect on this report. See Troubleshooting Build Report for more information. - Use the following Renviron settings to reproduce errors and warnings. - If 'R CMD check' started to fail recently on the Linux builder(s) over a missing dependency, add the missing dependency to 'Suggests:' in your DESCRIPTION file. See Renviron.bioc for more information. |
| Package: tidyFlowCore |
| Version: 1.5.0 |
| Command: /home/biocbuild/bbs-3.23-bioc/R/bin/R CMD check --install=check:tidyFlowCore.install-out.txt --library=/home/biocbuild/bbs-3.23-bioc/R/site-library --timings tidyFlowCore_1.5.0.tar.gz |
| StartedAt: 2025-11-01 04:18:05 -0400 (Sat, 01 Nov 2025) |
| EndedAt: 2025-11-01 04:20:23 -0400 (Sat, 01 Nov 2025) |
| EllapsedTime: 138.2 seconds |
| RetCode: 0 |
| Status: OK |
| CheckDir: tidyFlowCore.Rcheck |
| Warnings: 0 |
##############################################################################
##############################################################################
###
### Running command:
###
### /home/biocbuild/bbs-3.23-bioc/R/bin/R CMD check --install=check:tidyFlowCore.install-out.txt --library=/home/biocbuild/bbs-3.23-bioc/R/site-library --timings tidyFlowCore_1.5.0.tar.gz
###
##############################################################################
##############################################################################
* using log directory ‘/home/biocbuild/bbs-3.23-bioc/meat/tidyFlowCore.Rcheck’
* using R Under development (unstable) (2025-10-20 r88955)
* using platform: x86_64-pc-linux-gnu
* R was compiled by
gcc (Ubuntu 13.3.0-6ubuntu2~24.04) 13.3.0
GNU Fortran (Ubuntu 13.3.0-6ubuntu2~24.04) 13.3.0
* running under: Ubuntu 24.04.3 LTS
* using session charset: UTF-8
* checking for file ‘tidyFlowCore/DESCRIPTION’ ... OK
* checking extension type ... Package
* this is package ‘tidyFlowCore’ version ‘1.5.0’
* package encoding: UTF-8
* checking package namespace information ... OK
* checking package dependencies ... OK
* checking if this is a source package ... OK
* checking if there is a namespace ... OK
* checking for hidden files and directories ... OK
* checking for portable file names ... OK
* checking for sufficient/correct file permissions ... OK
* checking whether package ‘tidyFlowCore’ can be installed ... OK
* checking installed package size ... OK
* checking package directory ... OK
* checking ‘build’ directory ... OK
* checking DESCRIPTION meta-information ... OK
* checking top-level files ... OK
* checking for left-over files ... OK
* checking index information ... OK
* checking package subdirectories ... OK
* checking code files for non-ASCII characters ... OK
* checking R files for syntax errors ... OK
* checking whether the package can be loaded ... OK
* checking whether the package can be loaded with stated dependencies ... OK
* checking whether the package can be unloaded cleanly ... OK
* checking whether the namespace can be loaded with stated dependencies ... OK
* checking whether the namespace can be unloaded cleanly ... OK
* checking loading without being on the library search path ... OK
* checking dependencies in R code ... OK
* checking S3 generic/method consistency ... OK
* checking replacement functions ... OK
* checking foreign function calls ... OK
* checking R code for possible problems ... OK
* checking Rd files ... OK
* checking Rd metadata ... OK
* checking Rd cross-references ... OK
* checking for missing documentation entries ... OK
* checking for code/documentation mismatches ... OK
* checking Rd \usage sections ... OK
* checking Rd contents ... OK
* checking for unstated dependencies in examples ... OK
* checking contents of ‘data’ directory ... OK
* checking data for non-ASCII characters ... OK
* checking data for ASCII and uncompressed saves ... OK
* checking files in ‘vignettes’ ... OK
* checking examples ... OK
* checking for unstated dependencies in ‘tests’ ... OK
* checking tests ...
Running ‘testthat.R’
OK
* checking for unstated dependencies in vignettes ... OK
* checking package vignettes ... OK
* checking re-building of vignette outputs ... OK
* checking PDF version of manual ... OK
* DONE
Status: OK
tidyFlowCore.Rcheck/00install.out
############################################################################## ############################################################################## ### ### Running command: ### ### /home/biocbuild/bbs-3.23-bioc/R/bin/R CMD INSTALL tidyFlowCore ### ############################################################################## ############################################################################## * installing to library ‘/home/biocbuild/bbs-3.23-bioc/R/site-library’ * installing *source* package ‘tidyFlowCore’ ... ** this is package ‘tidyFlowCore’ version ‘1.5.0’ ** using staged installation ** R ** data ** inst ** byte-compile and prepare package for lazy loading ** help *** installing help indices *** copying figures ** building package indices ** installing vignettes ** testing if installed package can be loaded from temporary location ** testing if installed package can be loaded from final location ** testing if installed package keeps a record of temporary installation path * DONE (tidyFlowCore)
tidyFlowCore.Rcheck/tests/testthat.Rout
R Under development (unstable) (2025-10-20 r88955) -- "Unsuffered Consequences"
Copyright (C) 2025 The R Foundation for Statistical Computing
Platform: x86_64-pc-linux-gnu
R is free software and comes with ABSOLUTELY NO WARRANTY.
You are welcome to redistribute it under certain conditions.
Type 'license()' or 'licence()' for distribution details.
R is a collaborative project with many contributors.
Type 'contributors()' for more information and
'citation()' on how to cite R or R packages in publications.
Type 'demo()' for some demos, 'help()' for on-line help, or
'help.start()' for an HTML browser interface to help.
Type 'q()' to quit R.
> # This file is part of the standard setup for testthat.
> # It is recommended that you do not modify it.
> #
> # Where should you do additional test configuration?
> # Learn more about the roles of various files in:
> # * https://r-pkgs.org/testing-design.html#sec-tests-files-overview
> # * https://testthat.r-lib.org/articles/special-files.html
>
> library(testthat)
> library(tidyFlowCore)
>
> test_check("tidyFlowCore")
Attaching package: 'dplyr'
The following object is masked from 'package:testthat':
matches
The following objects are masked from 'package:stats':
filter, lag
The following objects are masked from 'package:base':
intersect, setdiff, setequal, union
Attaching package: 'tidyr'
The following object is masked from 'package:testthat':
matches
[ FAIL 0 | WARN 0 | SKIP 0 | PASS 104 ]
>
> proc.time()
user system elapsed
12.494 0.425 12.906
tidyFlowCore.Rcheck/tidyFlowCore-Ex.timings
| name | user | system | elapsed | |
| arrange.flowFrame | 0.231 | 0.002 | 0.233 | |
| arrange.flowSet | 0.539 | 0.031 | 0.569 | |
| as_flowFrame | 0 | 0 | 0 | |
| as_flowSet | 0 | 0 | 0 | |
| as_tof_tbl | 0.029 | 0.006 | 0.035 | |
| count.flowFrame | 0.259 | 0.020 | 0.279 | |
| count.flowSet | 0.146 | 0.002 | 0.148 | |
| filter.flowFrame | 0.133 | 0.002 | 0.134 | |
| filter.flowSet | 0.349 | 0.004 | 0.353 | |
| ggplot.flowFrame | 0.127 | 0.002 | 0.129 | |
| ggplot.flowSet | 0.125 | 0.003 | 0.127 | |
| group_by.flowFrame | 0.317 | 0.002 | 0.318 | |
| make_flowcore_annotated_data_frame | 0.000 | 0.001 | 0.000 | |
| mutate.flowFrame | 0.283 | 0.002 | 0.286 | |
| mutate.flowSet | 0.352 | 0.004 | 0.357 | |
| nest.flowFrame | 0.309 | 0.004 | 0.313 | |
| pull.flowFrame | 0.093 | 0.003 | 0.096 | |
| pull.flowSet | 0.108 | 0.012 | 0.120 | |
| reexports | 0 | 0 | 0 | |
| rename.flowFrame | 0.152 | 0.022 | 0.175 | |
| rename.flowSet | 0.344 | 0.020 | 0.364 | |
| rename_with.flowFrame | 0.133 | 0.001 | 0.134 | |
| rename_with.flowSet | 0.337 | 0.004 | 0.341 | |
| select.flowFrame | 0.128 | 0.001 | 0.130 | |
| select.flowSet | 0.317 | 0.004 | 0.321 | |
| simulate_cytometry_data | 0.085 | 0.003 | 0.088 | |
| slice.flowFrame | 0.142 | 0.001 | 0.145 | |
| slice.flowSet | 0.349 | 0.003 | 0.352 | |
| slice_head.flowFrame | 0.130 | 0.003 | 0.133 | |
| slice_head.flowSet | 0.352 | 0.009 | 0.361 | |
| slice_max.flowFrame | 0.135 | 0.001 | 0.135 | |
| slice_max.flowSet | 0.363 | 0.000 | 0.364 | |
| slice_min.flowFrame | 0.144 | 0.001 | 0.144 | |
| slice_min.flowSet | 0.364 | 0.003 | 0.368 | |
| slice_sample.flowFrame | 0.143 | 0.003 | 0.145 | |
| slice_sample.flowSet | 0.352 | 0.001 | 0.352 | |
| slice_tail.flowFrame | 0.146 | 0.000 | 0.147 | |
| slice_tail.flowSet | 0.355 | 0.001 | 0.356 | |
| summarise.flowFrame | 0.101 | 0.001 | 0.101 | |
| summarise.flowSet | 0.157 | 0.015 | 0.172 | |
| summarize.flowFrame | 0.138 | 0.028 | 0.167 | |
| summarize.flowSet | 0.152 | 0.009 | 0.161 | |
| tof_get_panel | 0 | 0 | 0 | |
| tof_set_panel | 0 | 0 | 0 | |
| transmute.flowFrame | 0.136 | 0.005 | 0.140 | |
| transmute.flowSet | 0.339 | 0.002 | 0.341 | |
| ungroup.flowSet | 0.171 | 0.002 | 0.173 | |
| unnest.flowSet | 0.319 | 0.001 | 0.319 | |