Back to Multiple platform build/check report for BioC 3.23:   simplified   long
ABCDEFGHIJKLMNOPQR[S]TUVWXYZ

This page was generated on 2025-11-24 11:38 -0500 (Mon, 24 Nov 2025).

HostnameOSArch (*)R versionInstalled pkgs
nebbiolo1Linux (Ubuntu 24.04.3 LTS)x86_64R Under development (unstable) (2025-10-20 r88955) -- "Unsuffered Consequences" 4829
lconwaymacOS 12.7.6 Montereyx86_64R Under development (unstable) (2025-10-21 r88958) -- "Unsuffered Consequences" 4605
kjohnson3macOS 13.7.7 Venturaarm64R Under development (unstable) (2025-11-04 r88984) -- "Unsuffered Consequences" 4568
Click on any hostname to see more info about the system (e.g. compilers)      (*) as reported by 'uname -p', except on Windows and Mac OS X

Package 2116/2327HostnameOS / ArchINSTALLBUILDCHECKBUILD BIN
structToolbox 1.23.0  (landing page)
Gavin Rhys Lloyd
Snapshot Date: 2025-11-23 13:40 -0500 (Sun, 23 Nov 2025)
git_url: https://git.bioconductor.org/packages/structToolbox
git_branch: devel
git_last_commit: e5436a2
git_last_commit_date: 2025-10-29 10:56:35 -0500 (Wed, 29 Oct 2025)
nebbiolo1Linux (Ubuntu 24.04.3 LTS) / x86_64  OK    OK    OK  NO, package depends on 'struct' which is not available
lconwaymacOS 12.7.6 Monterey / x86_64  OK    OK    OK    OK  NO, package depends on 'struct' which is not available
kjohnson3macOS 13.7.7 Ventura / arm64  OK    OK    OK    OK  NO, package depends on 'struct' which is not available


CHECK results for structToolbox on nebbiolo1

To the developers/maintainers of the structToolbox package:
- Allow up to 24 hours (and sometimes 48 hours) for your latest push to git@git.bioconductor.org:packages/structToolbox.git to reflect on this report. See Troubleshooting Build Report for more information.
- Use the following Renviron settings to reproduce errors and warnings.
- If 'R CMD check' started to fail recently on the Linux builder(s) over a missing dependency, add the missing dependency to 'Suggests:' in your DESCRIPTION file. See Renviron.bioc for more information.

raw results


Summary

Package: structToolbox
Version: 1.23.0
Command: /home/biocbuild/bbs-3.23-bioc/R/bin/R CMD check --install=check:structToolbox.install-out.txt --library=/home/biocbuild/bbs-3.23-bioc/R/site-library --timings structToolbox_1.23.0.tar.gz
StartedAt: 2025-11-24 04:32:09 -0500 (Mon, 24 Nov 2025)
EndedAt: 2025-11-24 04:50:45 -0500 (Mon, 24 Nov 2025)
EllapsedTime: 1116.3 seconds
RetCode: 0
Status:   OK  
CheckDir: structToolbox.Rcheck
Warnings: 0

Command output

##############################################################################
##############################################################################
###
### Running command:
###
###   /home/biocbuild/bbs-3.23-bioc/R/bin/R CMD check --install=check:structToolbox.install-out.txt --library=/home/biocbuild/bbs-3.23-bioc/R/site-library --timings structToolbox_1.23.0.tar.gz
###
##############################################################################
##############################################################################


* using log directory ‘/home/biocbuild/bbs-3.23-bioc/meat/structToolbox.Rcheck’
* using R Under development (unstable) (2025-10-20 r88955)
* using platform: x86_64-pc-linux-gnu
* R was compiled by
    gcc (Ubuntu 13.3.0-6ubuntu2~24.04) 13.3.0
    GNU Fortran (Ubuntu 13.3.0-6ubuntu2~24.04) 13.3.0
* running under: Ubuntu 24.04.3 LTS
* using session charset: UTF-8
* checking for file ‘structToolbox/DESCRIPTION’ ... OK
* checking extension type ... Package
* this is package ‘structToolbox’ version ‘1.23.0’
* package encoding: UTF-8
* checking package namespace information ... OK
* checking package dependencies ... OK
* checking if this is a source package ... OK
* checking if there is a namespace ... OK
* checking for hidden files and directories ... OK
* checking for portable file names ... OK
* checking for sufficient/correct file permissions ... OK
* checking whether package ‘structToolbox’ can be installed ... OK
* checking installed package size ... OK
* checking package directory ... OK
* checking ‘build’ directory ... OK
* checking DESCRIPTION meta-information ... OK
* checking top-level files ... OK
* checking for left-over files ... OK
* checking index information ... OK
* checking package subdirectories ... OK
* checking code files for non-ASCII characters ... OK
* checking R files for syntax errors ... OK
* checking whether the package can be loaded ... OK
* checking whether the package can be loaded with stated dependencies ... OK
* checking whether the package can be unloaded cleanly ... OK
* checking whether the namespace can be loaded with stated dependencies ... OK
* checking whether the namespace can be unloaded cleanly ... OK
* checking loading without being on the library search path ... OK
* checking dependencies in R code ... OK
* checking S3 generic/method consistency ... OK
* checking replacement functions ... OK
* checking foreign function calls ... OK
* checking R code for possible problems ... OK
* checking Rd files ... OK
* checking Rd metadata ... OK
* checking Rd cross-references ... OK
* checking for missing documentation entries ... OK
* checking for code/documentation mismatches ... OK
* checking Rd \usage sections ... OK
* checking Rd contents ... OK
* checking for unstated dependencies in examples ... OK
* checking R/sysdata.rda ... OK
* checking files in ‘vignettes’ ... OK
* checking examples ... OK
Examples with CPU (user + system) or elapsed time > 5s
                            user system elapsed
fold_change_int           15.253  0.018  15.276
fold_change               10.679  0.030  10.720
fisher_exact               9.320  0.048   9.372
fs_line                    6.597  0.079   6.676
forward_selection_by_rank  5.722  0.045   5.767
compare_dist               5.156  0.079   5.238
* checking for unstated dependencies in ‘tests’ ... OK
* checking tests ...
  Running ‘testthat.R’
 OK
* checking for unstated dependencies in vignettes ... OK
* checking package vignettes ... OK
* checking re-building of vignette outputs ... OK
* checking PDF version of manual ... OK
* DONE

Status: OK


Installation output

structToolbox.Rcheck/00install.out

##############################################################################
##############################################################################
###
### Running command:
###
###   /home/biocbuild/bbs-3.23-bioc/R/bin/R CMD INSTALL structToolbox
###
##############################################################################
##############################################################################


* installing to library ‘/home/biocbuild/bbs-3.23-bioc/R/site-library’
* installing *source* package ‘structToolbox’ ...
** this is package ‘structToolbox’ version ‘1.23.0’
** using staged installation
** R
** inst
** byte-compile and prepare package for lazy loading
** help
*** installing help indices
** building package indices
** installing vignettes
** testing if installed package can be loaded from temporary location
** testing if installed package can be loaded from final location
** testing if installed package keeps a record of temporary installation path
* DONE (structToolbox)

Tests output

structToolbox.Rcheck/tests/testthat.Rout


R Under development (unstable) (2025-10-20 r88955) -- "Unsuffered Consequences"
Copyright (C) 2025 The R Foundation for Statistical Computing
Platform: x86_64-pc-linux-gnu

R is free software and comes with ABSOLUTELY NO WARRANTY.
You are welcome to redistribute it under certain conditions.
Type 'license()' or 'licence()' for distribution details.

R is a collaborative project with many contributors.
Type 'contributors()' for more information and
'citation()' on how to cite R or R packages in publications.

Type 'demo()' for some demos, 'help()' for on-line help, or
'help.start()' for an HTML browser interface to help.
Type 'q()' to quit R.

> library(testthat)
> library(ggplot2)
> library(structToolbox)
Loading required package: struct
> 
> test_check("structToolbox")
[ FAIL 0 | WARN 6 | SKIP 0 | PASS 166 ]

[ FAIL 0 | WARN 6 | SKIP 0 | PASS 166 ]
> 
> proc.time()
   user  system elapsed 
183.907   1.930 185.851 

Example timings

structToolbox.Rcheck/structToolbox-Ex.timings

nameusersystemelapsed
ANOVA0.2040.0010.205
AUC2.0230.0872.112
DFA0.1810.0000.181
DatasetExperiment_boxplot0.9880.0090.997
DatasetExperiment_dist1.3410.0301.370
DatasetExperiment_factor_boxplot0.3280.0010.328
DatasetExperiment_heatmap1.2600.0071.266
HCA0.0580.0000.057
HSD0.2780.0050.286
HSDEM0.2680.0030.271
MTBLS79_DatasetExperiment0.0010.0000.002
OPLSDA0.0110.0000.011
OPLSR0.0080.0000.008
PCA0.0050.0000.004
PLSDA0.0100.0020.012
PLSR0.0090.0000.009
SVM0.020.000.02
as_data_frame0.1150.0000.116
autoscale0.0680.0010.070
balanced_accuracy1.7110.0061.718
blank_filter0.4080.0060.414
blank_filter_hist0.0010.0000.001
bootstrap0.0110.0000.011
calculate0.0050.0000.006
chart_plot0.0300.0020.032
classical_lsq0.3210.0000.321
compare_dist5.1560.0795.238
confounders_clsq2.7520.0072.759
confounders_lsq_barchart3.0540.0083.062
confounders_lsq_boxplot3.1380.0303.168
constant_sum_norm0.0060.0010.007
corr_coef0.2400.0020.242
dfa_scores_plot0.9650.0020.966
dratio_filter0.2430.0000.243
equal_split0.1100.0010.111
feature_boxplot0.0260.0010.027
feature_profile0.5120.0020.514
feature_profile_array0.6420.0020.644
filter_by_name0.030.000.03
filter_na_count0.920.000.92
filter_smeta0.0550.0000.055
fisher_exact9.3200.0489.372
fold_change10.679 0.03010.720
fold_change_int15.253 0.01815.276
fold_change_plot0.0070.0000.007
forward_selection_by_rank5.7220.0455.767
fs_line6.5970.0796.676
glog_opt_plot0.5490.0000.550
glog_transform0.2860.0000.286
grid_search_1d3.2830.0083.290
gs_line0.0000.0000.001
hca_dendrogram0.0010.0000.001
kfold_xval3.2580.0063.264
kfoldxcv_grid3.7180.0363.754
kfoldxcv_metric0.0010.0000.001
knn_impute0.0110.0010.012
kw_p_hist0.0010.0000.001
kw_rank_sum0.0700.0010.071
linear_model0.0290.0000.030
log_transform0.0060.0000.007
mean_centre0.0030.0000.002
mean_of_medians0.1080.0030.111
mixed_effect0.1820.0030.185
model_apply0.0220.0000.023
model_predict0.0540.0000.053
model_reverse0.0240.0000.024
model_train0.0480.0000.048
mv_boxplot0.3980.0010.400
mv_feature_filter0.1140.0010.115
mv_feature_filter_hist0.0010.0000.000
mv_histogram0.3270.0010.328
mv_sample_filter0.0090.0000.009
mv_sample_filter_hist0.0010.0000.001
nroot_transform0.0060.0000.006
ontology_cache000
pairs_filter0.0080.0000.009
pareto_scale0.0550.0000.054
pca_biplot0.0130.0010.014
pca_correlation_plot0.0060.0000.006
pca_dstat_plot0.0080.0000.009
pca_loadings_plot0.0090.0000.008
pca_scores_plot0.7090.0010.710
pca_scree_plot0.0060.0000.007
permutation_test0.0080.0010.009
permutation_test_plot0.0030.0000.003
permute_sample_order0.0070.0000.006
pls_regcoeff_plot0.4560.0010.457
pls_scores_plot0.8400.0010.842
pls_vip_plot0.4640.0030.468
plsda_feature_importance_plot0.8460.0020.848
plsda_predicted_plot0.5720.0000.573
plsda_roc_plot1.1410.0061.147
plsr_cook_dist0.0060.0010.007
plsr_prediction_plot0.0040.0010.006
plsr_qq_plot0.0050.0010.006
plsr_residual_hist0.0060.0000.006
pqn_norm0.3360.0000.336
pqn_norm_hist0.0010.0000.001
prop_na0.0090.0000.009
r_squared0.0010.0000.000
resample0.0140.0010.015
resample_chart0.0020.0000.002
rsd_filter0.0130.0000.013
rsd_filter_hist0.0010.0000.000
run0.0280.0020.029
sb_corr0.0240.0000.025
scatter_chart0.5340.0000.534
split_data0.0070.0000.007
stratified_split0.1060.0010.107
svm_plot_2d0.7480.0070.755
tSNE0.0220.0010.024
tSNE_scatter0.0060.0010.007
tic_chart0.3350.0010.336
ttest0.0210.0010.022
vec_norm0.0010.0000.001
wilcox_p_hist0.0010.0010.001
wilcox_test0.0170.0000.017