Back to Build/check report for BioC 3.23:   simplified   long
ABCDEFGHIJKLMNOPQR[S]TUVWXYZ

This page was generated on 2025-11-13 11:32 -0500 (Thu, 13 Nov 2025).

HostnameOSArch (*)R versionInstalled pkgs
kjohnson3macOS 13.7.7 Venturaarm64R Under development (unstable) (2025-11-04 r88984) -- "Unsuffered Consequences" 4013
Click on any hostname to see more info about the system (e.g. compilers)      (*) as reported by 'uname -p', except on Windows and Mac OS X

Package 2114/2325HostnameOS / ArchINSTALLBUILDCHECKBUILD BIN
structToolbox 1.23.0  (landing page)
Gavin Rhys Lloyd
Snapshot Date: 2025-11-12 13:40 -0500 (Wed, 12 Nov 2025)
git_url: https://git.bioconductor.org/packages/structToolbox
git_branch: devel
git_last_commit: e5436a2
git_last_commit_date: 2025-10-29 10:56:35 -0500 (Wed, 29 Oct 2025)
kjohnson3macOS 13.7.7 Ventura / arm64  OK    OK    OK    OK  NO, package depends on 'struct' which is not available


CHECK results for structToolbox on kjohnson3

To the developers/maintainers of the structToolbox package:
- Allow up to 24 hours (and sometimes 48 hours) for your latest push to git@git.bioconductor.org:packages/structToolbox.git to reflect on this report. See Troubleshooting Build Report for more information.
- Use the following Renviron settings to reproduce errors and warnings.
- If 'R CMD check' started to fail recently on the Linux builder(s) over a missing dependency, add the missing dependency to 'Suggests:' in your DESCRIPTION file. See Renviron.bioc for more information.

raw results


Summary

Package: structToolbox
Version: 1.23.0
Command: /Library/Frameworks/R.framework/Resources/bin/R CMD check --install=check:structToolbox.install-out.txt --library=/Library/Frameworks/R.framework/Resources/library --no-vignettes --timings structToolbox_1.23.0.tar.gz
StartedAt: 2025-11-12 20:32:02 -0500 (Wed, 12 Nov 2025)
EndedAt: 2025-11-12 20:35:14 -0500 (Wed, 12 Nov 2025)
EllapsedTime: 191.5 seconds
RetCode: 0
Status:   OK  
CheckDir: structToolbox.Rcheck
Warnings: 0

Command output

##############################################################################
##############################################################################
###
### Running command:
###
###   /Library/Frameworks/R.framework/Resources/bin/R CMD check --install=check:structToolbox.install-out.txt --library=/Library/Frameworks/R.framework/Resources/library --no-vignettes --timings structToolbox_1.23.0.tar.gz
###
##############################################################################
##############################################################################


* using log directory ‘/Users/biocbuild/bbs-3.23-bioc/meat/structToolbox.Rcheck’
* using R Under development (unstable) (2025-11-04 r88984)
* using platform: aarch64-apple-darwin20
* R was compiled by
    Apple clang version 16.0.0 (clang-1600.0.26.6)
    GNU Fortran (GCC) 14.2.0
* running under: macOS Ventura 13.7.8
* using session charset: UTF-8
* using option ‘--no-vignettes’
* checking for file ‘structToolbox/DESCRIPTION’ ... OK
* checking extension type ... Package
* this is package ‘structToolbox’ version ‘1.23.0’
* package encoding: UTF-8
* checking package namespace information ... OK
* checking package dependencies ... OK
* checking if this is a source package ... OK
* checking if there is a namespace ... OK
* checking for hidden files and directories ... OK
* checking for portable file names ... OK
* checking for sufficient/correct file permissions ... OK
* checking whether package ‘structToolbox’ can be installed ... OK
* checking installed package size ... OK
* checking package directory ... OK
* checking ‘build’ directory ... OK
* checking DESCRIPTION meta-information ... OK
* checking top-level files ... OK
* checking for left-over files ... OK
* checking index information ... OK
* checking package subdirectories ... OK
* checking code files for non-ASCII characters ... OK
* checking R files for syntax errors ... OK
* checking whether the package can be loaded ... OK
* checking whether the package can be loaded with stated dependencies ... OK
* checking whether the package can be unloaded cleanly ... OK
* checking whether the namespace can be loaded with stated dependencies ... OK
* checking whether the namespace can be unloaded cleanly ... OK
* checking dependencies in R code ... OK
* checking S3 generic/method consistency ... OK
* checking replacement functions ... OK
* checking foreign function calls ... OK
* checking R code for possible problems ... OK
* checking Rd files ... OK
* checking Rd metadata ... OK
* checking Rd cross-references ... OK
* checking for missing documentation entries ... OK
* checking for code/documentation mismatches ... OK
* checking Rd \usage sections ... OK
* checking Rd contents ... OK
* checking for unstated dependencies in examples ... OK
* checking R/sysdata.rda ... OK
* checking files in ‘vignettes’ ... OK
* checking examples ... OK
Examples with CPU (user + system) or elapsed time > 5s
                 user system elapsed
fold_change_int 5.161  0.005   5.411
* checking for unstated dependencies in ‘tests’ ... OK
* checking tests ...
  Running ‘testthat.R’
 OK
* checking for unstated dependencies in vignettes ... OK
* checking package vignettes ... OK
* checking running R code from vignettes ... SKIPPED
* checking re-building of vignette outputs ... SKIPPED
* checking PDF version of manual ... OK
* DONE

Status: OK


Installation output

structToolbox.Rcheck/00install.out

##############################################################################
##############################################################################
###
### Running command:
###
###   /Library/Frameworks/R.framework/Resources/bin/R CMD INSTALL structToolbox
###
##############################################################################
##############################################################################


* installing to library ‘/Library/Frameworks/R.framework/Versions/4.6-arm64/Resources/library’
* installing *source* package ‘structToolbox’ ...
** this is package ‘structToolbox’ version ‘1.23.0’
** using staged installation
** R
** inst
** byte-compile and prepare package for lazy loading
** help
*** installing help indices
** building package indices
** installing vignettes
** testing if installed package can be loaded from temporary location
** testing if installed package can be loaded from final location
** testing if installed package keeps a record of temporary installation path
* DONE (structToolbox)

Tests output

structToolbox.Rcheck/tests/testthat.Rout


R Under development (unstable) (2025-11-04 r88984) -- "Unsuffered Consequences"
Copyright (C) 2025 The R Foundation for Statistical Computing
Platform: aarch64-apple-darwin20

R is free software and comes with ABSOLUTELY NO WARRANTY.
You are welcome to redistribute it under certain conditions.
Type 'license()' or 'licence()' for distribution details.

R is a collaborative project with many contributors.
Type 'contributors()' for more information and
'citation()' on how to cite R or R packages in publications.

Type 'demo()' for some demos, 'help()' for on-line help, or
'help.start()' for an HTML browser interface to help.
Type 'q()' to quit R.

> library(testthat)
> library(ggplot2)
> library(structToolbox)
Loading required package: struct
> 
> test_check("structToolbox")
[ FAIL 0 | WARN 6 | SKIP 0 | PASS 166 ]

[ FAIL 0 | WARN 6 | SKIP 0 | PASS 166 ]
> 
> proc.time()
   user  system elapsed 
 61.504   0.683  65.148 

Example timings

structToolbox.Rcheck/structToolbox-Ex.timings

nameusersystemelapsed
ANOVA0.0740.0030.077
AUC0.6710.0180.738
DFA0.0600.0000.069
DatasetExperiment_boxplot0.3800.0140.442
DatasetExperiment_dist0.5950.0230.665
DatasetExperiment_factor_boxplot0.1190.0040.137
DatasetExperiment_heatmap0.5490.0110.580
HCA0.0200.0010.022
HSD0.1050.0100.120
HSDEM0.1200.0080.140
MTBLS79_DatasetExperiment0.0010.0000.000
OPLSDA0.0030.0010.004
OPLSR0.0030.0000.002
PCA0.0010.0000.002
PLSDA0.0050.0000.005
PLSR0.0030.0010.003
SVM0.0070.0000.007
as_data_frame0.0400.0000.041
autoscale0.0220.0010.022
balanced_accuracy0.5450.0050.568
blank_filter0.1370.0090.156
blank_filter_hist000
bootstrap0.0040.0000.004
calculate0.0020.0000.002
chart_plot0.0100.0000.011
classical_lsq0.0970.0010.103
compare_dist1.9190.0812.124
confounders_clsq0.9150.0050.954
confounders_lsq_barchart1.0150.0061.080
confounders_lsq_boxplot1.0250.0111.103
constant_sum_norm0.0030.0000.003
corr_coef0.0790.0010.082
dfa_scores_plot0.3150.0040.323
dratio_filter0.0880.0020.106
equal_split0.0380.0000.040
feature_boxplot0.0080.0000.008
feature_profile0.1680.0030.181
feature_profile_array0.2100.0020.223
filter_by_name0.0090.0000.013
filter_na_count0.3600.0230.391
filter_smeta0.0180.0000.018
fisher_exact3.0210.0093.143
fold_change3.5810.0113.712
fold_change_int5.1610.0055.411
fold_change_plot0.0020.0010.003
forward_selection_by_rank1.9790.0402.115
fs_line2.3860.0572.617
glog_opt_plot0.1750.0030.189
glog_transform0.0920.0000.102
grid_search_1d1.5440.0731.711
gs_line000
hca_dendrogram0.0000.0000.001
kfold_xval1.0370.0081.162
kfoldxcv_grid1.2100.0081.299
kfoldxcv_metric0.0000.0000.001
knn_impute0.0040.0000.004
kw_p_hist000
kw_rank_sum0.0260.0010.033
linear_model0.0090.0000.016
log_transform0.0020.0000.003
mean_centre0.0010.0000.001
mean_of_medians0.0360.0000.036
mixed_effect0.0530.0010.055
model_apply0.0070.0000.007
model_predict0.0340.0070.042
model_reverse0.0090.0000.010
model_train0.0180.0000.017
mv_boxplot0.1380.0040.151
mv_feature_filter0.0440.0030.050
mv_feature_filter_hist000
mv_histogram0.1130.0040.130
mv_sample_filter0.0030.0010.002
mv_sample_filter_hist000
nroot_transform0.0020.0000.002
ontology_cache0.0010.0000.000
pairs_filter0.0020.0000.002
pareto_scale0.0190.0010.023
pca_biplot0.0050.0000.006
pca_correlation_plot0.0020.0000.002
pca_dstat_plot0.0020.0000.002
pca_loadings_plot0.0020.0000.002
pca_scores_plot0.2320.0020.264
pca_scree_plot0.0030.0000.003
permutation_test0.0030.0000.003
permutation_test_plot0.0010.0010.001
permute_sample_order0.0020.0000.002
pls_regcoeff_plot0.1450.0010.153
pls_scores_plot0.2810.0020.297
pls_vip_plot0.1570.0030.161
plsda_feature_importance_plot0.2770.0040.291
plsda_predicted_plot0.1910.0040.199
plsda_roc_plot0.4060.0040.447
plsr_cook_dist0.0020.0000.002
plsr_prediction_plot0.0020.0000.002
plsr_qq_plot0.0020.0000.002
plsr_residual_hist0.0020.0000.002
pqn_norm0.1080.0000.110
pqn_norm_hist000
prop_na0.0080.0000.008
r_squared0.0000.0000.001
resample0.0050.0000.004
resample_chart0.0010.0000.000
rsd_filter0.0040.0000.004
rsd_filter_hist000
run0.0110.0000.014
sb_corr0.0070.0000.008
scatter_chart0.1710.0010.187
split_data0.0020.0000.003
stratified_split0.0330.0000.035
svm_plot_2d0.2670.0070.293
tSNE0.0080.0000.015
tSNE_scatter0.0030.0000.003
tic_chart0.1160.0010.127
ttest0.0060.0000.007
vec_norm0.0010.0000.000
wilcox_p_hist000
wilcox_test0.0050.0000.005