Back to Multiple platform build/check report for BioC 3.21:   simplified   long
ABCDEFGHIJKLMNOPQR[S]TUVWXYZ

This page was generated on 2025-02-03 12:37 -0500 (Mon, 03 Feb 2025).

HostnameOSArch (*)R versionInstalled pkgs
nebbiolo1Linux (Ubuntu 24.04.1 LTS)x86_64R Under development (unstable) (2025-01-20 r87609) -- "Unsuffered Consequences" 4704
palomino7Windows Server 2022 Datacenterx64R Under development (unstable) (2025-01-21 r87610 ucrt) -- "Unsuffered Consequences" 4467
lconwaymacOS 12.7.1 Montereyx86_64R Under development (unstable) (2025-01-22 r87618) -- "Unsuffered Consequences" 4478
Click on any hostname to see more info about the system (e.g. compilers)      (*) as reported by 'uname -p', except on Windows and Mac OS X

Package 1952/2289HostnameOS / ArchINSTALLBUILDCHECKBUILD BIN
signifinder 1.9.3  (landing page)
Stefania Pirrotta
Snapshot Date: 2025-02-02 13:40 -0500 (Sun, 02 Feb 2025)
git_url: https://git.bioconductor.org/packages/signifinder
git_branch: devel
git_last_commit: c426fdd
git_last_commit_date: 2025-01-13 08:58:12 -0500 (Mon, 13 Jan 2025)
nebbiolo1Linux (Ubuntu 24.04.1 LTS) / x86_64  OK    OK    OK  UNNEEDED, same version is already published
palomino7Windows Server 2022 Datacenter / x64  OK    OK    OK    OK  UNNEEDED, same version is already published
lconwaymacOS 12.7.1 Monterey / x86_64  OK    OK    OK    OK  UNNEEDED, same version is already published


CHECK results for signifinder on nebbiolo1

To the developers/maintainers of the signifinder package:
- Allow up to 24 hours (and sometimes 48 hours) for your latest push to git@git.bioconductor.org:packages/signifinder.git to reflect on this report. See Troubleshooting Build Report for more information.
- Use the following Renviron settings to reproduce errors and warnings.
- If 'R CMD check' started to fail recently on the Linux builder(s) over a missing dependency, add the missing dependency to 'Suggests:' in your DESCRIPTION file. See Renviron.bioc for more information.

raw results


Summary

Package: signifinder
Version: 1.9.3
Command: /home/biocbuild/bbs-3.21-bioc/R/bin/R CMD check --install=check:signifinder.install-out.txt --library=/home/biocbuild/bbs-3.21-bioc/R/site-library --timings signifinder_1.9.3.tar.gz
StartedAt: 2025-02-03 02:31:09 -0500 (Mon, 03 Feb 2025)
EndedAt: 2025-02-03 02:52:15 -0500 (Mon, 03 Feb 2025)
EllapsedTime: 1265.6 seconds
RetCode: 0
Status:   OK  
CheckDir: signifinder.Rcheck
Warnings: 0

Command output

##############################################################################
##############################################################################
###
### Running command:
###
###   /home/biocbuild/bbs-3.21-bioc/R/bin/R CMD check --install=check:signifinder.install-out.txt --library=/home/biocbuild/bbs-3.21-bioc/R/site-library --timings signifinder_1.9.3.tar.gz
###
##############################################################################
##############################################################################


* using log directory ‘/home/biocbuild/bbs-3.21-bioc/meat/signifinder.Rcheck’
* using R Under development (unstable) (2025-01-20 r87609)
* using platform: x86_64-pc-linux-gnu
* R was compiled by
    gcc (Ubuntu 13.3.0-6ubuntu2~24.04) 13.3.0
    GNU Fortran (Ubuntu 13.3.0-6ubuntu2~24.04) 13.3.0
* running under: Ubuntu 24.04.1 LTS
* using session charset: UTF-8
* checking for file ‘signifinder/DESCRIPTION’ ... OK
* checking extension type ... Package
* this is package ‘signifinder’ version ‘1.9.3’
* package encoding: UTF-8
* checking package namespace information ... OK
* checking package dependencies ... INFO
Imports includes 27 non-default packages.
Importing from so many packages makes the package vulnerable to any of
them becoming unavailable.  Move as many as possible to Suggests and
use conditionally.
* checking if this is a source package ... OK
* checking if there is a namespace ... OK
* checking for hidden files and directories ... OK
* checking for portable file names ... OK
* checking for sufficient/correct file permissions ... OK
* checking whether package ‘signifinder’ can be installed ... OK
* checking installed package size ... OK
* checking package directory ... OK
* checking ‘build’ directory ... OK
* checking DESCRIPTION meta-information ... OK
* checking top-level files ... OK
* checking for left-over files ... OK
* checking index information ... OK
* checking package subdirectories ... OK
* checking code files for non-ASCII characters ... OK
* checking R files for syntax errors ... OK
* checking whether the package can be loaded ... OK
* checking whether the package can be loaded with stated dependencies ... OK
* checking whether the package can be unloaded cleanly ... OK
* checking whether the namespace can be loaded with stated dependencies ... OK
* checking whether the namespace can be unloaded cleanly ... OK
* checking loading without being on the library search path ... OK
* checking dependencies in R code ... OK
* checking S3 generic/method consistency ... OK
* checking replacement functions ... OK
* checking foreign function calls ... OK
* checking R code for possible problems ... OK
* checking Rd files ... OK
* checking Rd metadata ... OK
* checking Rd cross-references ... NOTE
Found the following Rd file(s) with Rd \link{} targets missing package
anchors:
  ADOSign.Rd: SummarizedExperiment-class
  APMSign.Rd: SummarizedExperiment-class
  ASCSign.Rd: SummarizedExperiment-class
  CD39CD8TcellSign.Rd: SummarizedExperiment-class
  CINSign.Rd: SummarizedExperiment-class
  CISSign.Rd: SummarizedExperiment-class
  COXISSign.Rd: SummarizedExperiment-class
  CombinedSign.Rd: SummarizedExperiment-class
  DNArepSign.Rd: SummarizedExperiment-class
  ECMSign.Rd: SummarizedExperiment-class
  EMTSign.Rd: SummarizedExperiment-class
  HRDSSign.Rd: SummarizedExperiment-class
  ICBResponseSign.Rd: SummarizedExperiment-class
  IFNSign.Rd: SummarizedExperiment-class
  IPRESSign.Rd: SummarizedExperiment-class
  IPSOVSign.Rd: SummarizedExperiment-class
  IPSSign.Rd: SummarizedExperiment-class
  IRGSign.Rd: SummarizedExperiment-class
  ISCSign.Rd: SummarizedExperiment-class
  LRRC15CAFSign.Rd: SummarizedExperiment-class
  MITFlowPTENnegSign.Rd: SummarizedExperiment-class
  MPSSign.Rd: SummarizedExperiment-class
  PassONSign.Rd: SummarizedExperiment-class
  SCSubtypeSign.Rd: SummarizedExperiment-class
  TGFBSign.Rd: SummarizedExperiment-class
  TLSSign.Rd: SummarizedExperiment-class
  TinflamSign.Rd: SummarizedExperiment-class
  VEGFSign.Rd: SummarizedExperiment-class
  autophagySign.Rd: SummarizedExperiment-class
  cellCycleSign.Rd: SummarizedExperiment-class
  chemokineSign.Rd: SummarizedExperiment-class
  consensusOVSign.Rd: SummarizedExperiment-class
  correlationSignPlot.Rd: SummarizedExperiment-class
  evaluationSignPlot.Rd: SummarizedExperiment-class
  expandedImmuneSign.Rd: SummarizedExperiment-class
  ferroptosisSign.Rd: SummarizedExperiment-class
  geneHeatmapSignPlot.Rd: SummarizedExperiment-class
  glycolysisSign.Rd: SummarizedExperiment-class
  heatmapSignPlot.Rd: SummarizedExperiment-class
  hypoxiaSign.Rd: SummarizedExperiment-class
  immuneCytSign.Rd: SummarizedExperiment-class
  immunoScoreSign.Rd: SummarizedExperiment-class
  interferonSign.Rd: SummarizedExperiment-class
  lipidMetabolismSign.Rd: SummarizedExperiment-class
  matrisomeSign.Rd: SummarizedExperiment-class
  metalSign.Rd: SummarizedExperiment-class
  mitoticIndexSign.Rd: SummarizedExperiment-class
  multipleSign.Rd: SummarizedExperiment-class
  oneSignPlot.Rd: SummarizedExperiment-class
  oxphosSign.Rd: SummarizedExperiment-class
  pyroptosisSign.Rd: SummarizedExperiment-class
  ridgelineSignPlot.Rd: SummarizedExperiment-class
  stateSign.Rd: SummarizedExperiment-class
  stemCellCD49fSign.Rd: SummarizedExperiment-class
  stressSign.Rd: SummarizedExperiment-class
  survivalSignPlot.Rd: SummarizedExperiment-class
Please provide package anchors for all Rd \link{} targets not in the
package itself and the base packages.
* checking for missing documentation entries ... OK
* checking for code/documentation mismatches ... OK
* checking Rd \usage sections ... OK
* checking Rd contents ... OK
* checking for unstated dependencies in examples ... OK
* checking contents of ‘data’ directory ... OK
* checking data for non-ASCII characters ... OK
* checking data for ASCII and uncompressed saves ... OK
* checking R/sysdata.rda ... OK
* checking files in ‘vignettes’ ... OK
* checking examples ... OK
Examples with CPU (user + system) or elapsed time > 5s
                   user system elapsed
multipleSign    144.408  0.798 145.223
consensusOVSign  74.489  0.892  75.412
* checking for unstated dependencies in ‘tests’ ... OK
* checking tests ...
  Running ‘testthat.R’
 OK
* checking for unstated dependencies in vignettes ... OK
* checking package vignettes ... OK
* checking re-building of vignette outputs ... OK
* checking PDF version of manual ... OK
* DONE

Status: 1 NOTE
See
  ‘/home/biocbuild/bbs-3.21-bioc/meat/signifinder.Rcheck/00check.log’
for details.


Installation output

signifinder.Rcheck/00install.out

##############################################################################
##############################################################################
###
### Running command:
###
###   /home/biocbuild/bbs-3.21-bioc/R/bin/R CMD INSTALL signifinder
###
##############################################################################
##############################################################################


* installing to library ‘/home/biocbuild/bbs-3.21-bioc/R/site-library’
* installing *source* package ‘signifinder’ ...
** this is package ‘signifinder’ version ‘1.9.3’
** using staged installation
** R
** data
** inst
** byte-compile and prepare package for lazy loading
** help
*** installing help indices
*** copying figures
** building package indices
** installing vignettes
** testing if installed package can be loaded from temporary location
** testing if installed package can be loaded from final location
** testing if installed package keeps a record of temporary installation path
* DONE (signifinder)

Tests output

signifinder.Rcheck/tests/testthat.Rout


R Under development (unstable) (2025-01-20 r87609) -- "Unsuffered Consequences"
Copyright (C) 2025 The R Foundation for Statistical Computing
Platform: x86_64-pc-linux-gnu

R is free software and comes with ABSOLUTELY NO WARRANTY.
You are welcome to redistribute it under certain conditions.
Type 'license()' or 'licence()' for distribution details.

R is a collaborative project with many contributors.
Type 'contributors()' for more information and
'citation()' on how to cite R or R packages in publications.

Type 'demo()' for some demos, 'help()' for on-line help, or
'help.start()' for an HTML browser interface to help.
Type 'q()' to quit R.

> library(testthat)
> library(signifinder)

> 
> test_check("signifinder")
pyroptosisSignLi is using 100% of signature genes
'select()' returned 1:1 mapping between keys and columns
Loading required package: edgeR
Loading required package: limma

Attaching package: 'limma'

The following object is masked from 'package:BiocGenerics':

    plotMA

ferroptosisSignLiu is using 100% of signature genes
lipidMetabolismSign is using 100% of signature genes
StemCellCD49fSign is using 100% of signature genes
glycolysisSignZhang is using 100% of signature genes
autophagySignXu is using 100% of signature genes
'select()' returned 1:1 mapping between keys and columns
autophagySignChenM is using 100% of OS signature genes
autophagySignChenM is using 60% of DFS signature genes
TinflamSign is using 100% of signature genes
interferonSign is using 100% of Interferon signature genes
EMTSignMiow is using 0% of epithelial signature genes
EMTSignMiow is using 100% of mesenchymal signature genes
EMTSignMiow is using 0% of epithelial signature genes
EMTSignMak is using 100% of epithelial signature genes
EMTSignMak is using 100% of mesenchymal signature genes
EMTSignMak is using 100% of mesenchymal signature genes
EMTSignCheng is using 100% of signature genes
EMTSignThompson is using 100% of epithelial signature genes
EMTSignThompson is using 100% of mesenchymal signature genes
'select()' returned 1:1 mapping between keys and columns
EMTSignThompson is using 100% of mesenchymal signature genes
'select()' returned 1:1 mapping between keys and columns
EMTSign is using 100% of cEMT signature genes
EMTSign is using 100% of pEMT signature genes
EMTSign is using 100% of pEMT signature genes
hipoxiaSign is using 100% of Hypoxia signature genes
ASCSign is using 100% of signature genes
ChemokineSign is using 100% of signature genes
'select()' returned 1:1 mapping between keys and columns
PassONSign is using 100% of signature genes
CISSign is using 100% of up signature genes
CISSign is using 100% of down signature genes
CISSign is using 100% of down signature genes
HRDSSign is using 100% of signature genes
DNArepSign is using 100% of signature genes
'select()' returned 1:1 mapping between keys and columns
IPRESSign is using 100% of signature genes
! Input expression data has NA values, which will be propagated through calculations.
ECMSign is using 0% of up signature genes
ECMSign is using 100% of down signature genes
ECMSign is using 0% of up signature genes
IPSOVSign is using 100% of signature genes
! Duplicated gene IDs removed from gene set Antimicrobials
! Some gene sets have size one. Consider setting minSize > 1
! Duplicated gene IDs removed from gene set Antimicrobials
! Some gene sets have size one. Consider setting minSize > 1
'select()' returned 1:1 mapping between keys and columns
stateSign is using 100% of MES2 signature genes
stateSign is using 100% of MES1 signature genes
stateSign is using 100% of AC signature genes
stateSign is using 100% of OPC signature genes
stateSign is using 100% of NPC1 signature genes
stateSign is using 100% of NPC2 signature genes
'select()' returned 1:1 mapping between keys and columns
stateSign is using 100% of MES1 signature genes
stateSign is using 100% of AC signature genes
stateSign is using 100% of OPC signature genes
stateSign is using 100% of NPC1 signature genes
stateSign is using 100% of NPC2 signature genes
stateSign is using 100% of Alveolar signature genes
stateSign is using 100% of Basal signature genes
stateSign is using 100% of Squamous signature genes
stateSign is using 100% of Glandular signature genes
stateSign is using 100% of Ciliated signature genes
stateSign is using 100% of AC signature genes
stateSign is using 100% of OPC signature genes
stateSign is using 100% of NPC signature genes
stateSign is using 100% of Basal signature genes
stateSign is using 100% of Squamous signature genes
stateSign is using 100% of Glandular signature genes
stateSign is using 100% of Ciliated signature genes
stateSign is using 100% of AC signature genes
stateSign is using 100% of OPC signature genes
stateSign is using 100% of NPC signature genes
TinflamSignThompson is using 100% of signature genes
'select()' returned 1:1 mapping between keys and columns
'select()' returned 1:1 mapping between keys and columns
cellCycleSign is using 100% of Cycle signature genes
EMTSignThompson is using 100% of epithelial signature genes
EMTSignThompson is using 100% of mesenchymal signature genes
'select()' returned 1:1 mapping between keys and columns
TinflamSignThompson is using 100% of signature genes
'select()' returned 1:1 mapping between keys and columns
EMTSignThompson is using 100% of mesenchymal signature genes
'select()' returned 1:1 mapping between keys and columns
TinflamSignThompson is using 100% of signature genes
'select()' returned 1:1 mapping between keys and columns
'select()' returned 1:1 mapping between keys and columns
stateSign is using 100% of MITF signature genes
stateSign is using 100% of AXL signature genes
'select()' returned 1:1 mapping between keys and columns
stateSign is using 100% of AXL signature genes
'select()' returned 1:1 mapping between keys and columns
APMSign is using 100% of signature genes
'select()' returned 1:1 mapping between keys and columns
APMSign is using 100% of signature genes
'select()' returned 1:1 mapping between keys and columns
MPSSign is using 100% of signature genes
'select()' returned 1:1 mapping between keys and columns
IRGSign is using 100% of signature genes
TGFBSign is using 100% of signature genes
ADOSign is using 100% of signature genes
MITFlowPTENnegSign is using 100% of signature genes
LRRC15CAFSign is using 100% of signature genes
SCSubtypeSign is using 0% of Basal signature genes
SCSubtypeSign is using 0% of Her2E signature genes
SCSubtypeSign is using 0% of LumA signature genes
SCSubtypeSign is using 100% of LumB signature genes
SCSubtypeSign is using 0% of Basal signature genes
SCSubtypeSign is using 0% of Her2E signature genes
SCSubtypeSign is using 0% of LumA signature genes
ICBResponseSign is using 100% of responder signature genes
ICBResponseSign is using 0% of nonresponder signature genes
ICBResponseSign is using 0% of nonresponder signature genes
COXISSign is using 100% of signature genes
stressSign is using 100% of Stress signature genes
oxphosSign is using 100% of Oxphos signature genes
metalSign is using 100% of Metal signature genes
CD39CD8TcellSign is using 100% of signature genes
TLSSign is using 100% of signature genes
expandedImmuneSign is using 100% of signature genes
IFNSign is using 100% of signature genes
ImmuneCytSignRooney is using 100% of signature genes
mitoticIndexSign is using 100% of signature genes
matrisomeSign is using 100% of signature genes
immunoScoreSignRoh is using 100% of signature genes
CINSign is using 100% of signature genes
CINSign is using 100% of signature genes
CINSign is using 100% of signature genes
hypoxiaSign is using 100% of signature genes
cellCycleSignLundberg is using 100% of signature genes
cellCycleSignDavoli is using 100% of signature genes
VEGFSign is using 100% of signature genes
ImmuneCytSignDavoli is using 100% of signature genes
[ FAIL 0 | WARN 15 | SKIP 0 | PASS 317 ]

[ FAIL 0 | WARN 15 | SKIP 0 | PASS 317 ]
> 
> proc.time()
   user  system elapsed 
526.053   9.121 535.224 

Example timings

signifinder.Rcheck/signifinder-Ex.timings

nameusersystemelapsed
ADOSign2.0650.0632.130
APMSign0.2030.0230.225
ASCSign0.1990.0190.218
CD39CD8TcellSign0.0910.0220.113
CINSign0.0670.0090.077
CISSign0.0570.0040.061
COXISSign1.4370.2821.719
CombinedSign0.1030.0080.111
DNArepSign0.0510.0070.059
ECMSign0.2400.0090.250
EMTSign0.2480.0100.259
HRDSSign0.0610.0050.067
ICBResponseSign0.0700.0030.073
IFNSign0.0550.0040.059
IPRESSign0.3250.0140.340
IPSOVSign0.2650.0060.271
IPSSign0.0900.0040.094
IRGSign0.0510.0050.055
ISCSign0.0840.0060.090
LRRC15CAFSign0.0530.0110.064
MITFlowPTENnegSign0.0540.0020.056
MPSSign0.0560.0050.060
PassONSign0.2450.0030.248
SCSubtypeSign0.0360.0010.037
TGFBSign0.0520.0040.056
TLSSign0.0580.0000.058
TinflamSign0.0560.0000.057
VEGFSign0.0550.0110.066
autophagySign0.0700.0200.089
availableSignatures0.0110.0060.017
cellCycleSign0.0530.0020.055
chemokineSign0.0500.0010.051
consensusOVSign74.489 0.89275.412
correlationSignPlot1.6130.1311.745
evaluationSignPlot1.8020.0931.895
expandedImmuneSign0.0590.0060.065
ferroptosisSign0.0660.0000.066
geneHeatmapSignPlot1.4080.0341.443
getSignGenes0.0030.0050.008
glycolysisSign0.0630.0020.066
heatmapSignPlot2.3910.0302.421
hypoxiaSign0.0610.0020.064
immuneCytSign0.0610.0020.064
immunoScoreSign0.0640.0020.066
interferonSign0.0380.0030.040
lipidMetabolismSign0.0540.0020.055
matrisomeSign0.0560.0030.058
metalSign0.0400.0110.052
mitoticIndexSign0.0590.0020.061
multipleSign144.408 0.798145.223
oneSignPlot0.4200.0350.455
oxphosSign0.0360.0020.039
pyroptosisSign0.0950.0040.099
ridgelineSignPlot2.2220.1812.403
stateSign0.0390.0000.038
stemCellCD49fSign0.0550.0040.058
stressSign0.0380.0010.039
survivalSignPlot1.4650.0381.502