| Back to Multiple platform build/check report for BioC 3.22: simplified long |
|
This page was generated on 2025-10-24 12:05 -0400 (Fri, 24 Oct 2025).
| Hostname | OS | Arch (*) | R version | Installed pkgs |
|---|---|---|---|---|
| nebbiolo2 | Linux (Ubuntu 24.04.3 LTS) | x86_64 | 4.5.1 Patched (2025-08-23 r88802) -- "Great Square Root" | 4898 |
| lconway | macOS 12.7.6 Monterey | x86_64 | 4.5.1 Patched (2025-09-10 r88807) -- "Great Square Root" | 4688 |
| kjohnson3 | macOS 13.7.7 Ventura | arm64 | 4.5.1 Patched (2025-09-10 r88807) -- "Great Square Root" | 4634 |
| taishan | Linux (openEuler 24.03 LTS) | aarch64 | 4.5.0 (2025-04-11) -- "How About a Twenty-Six" | 4658 |
| Click on any hostname to see more info about the system (e.g. compilers) (*) as reported by 'uname -p', except on Windows and Mac OS X | ||||
| Package 2013/2359 | Hostname | OS / Arch | INSTALL | BUILD | CHECK | BUILD BIN | ||||||||
| signifinder 1.11.0 (landing page) Stefania Pirrotta
| nebbiolo2 | Linux (Ubuntu 24.04.3 LTS) / x86_64 | OK | OK | OK | |||||||||
| lconway | macOS 12.7.6 Monterey / x86_64 | OK | OK | OK | OK | |||||||||
| kjohnson3 | macOS 13.7.7 Ventura / arm64 | OK | OK | OK | OK | |||||||||
| taishan | Linux (openEuler 24.03 LTS) / aarch64 | OK | OK | NA | ||||||||||
|
To the developers/maintainers of the signifinder package: - Allow up to 24 hours (and sometimes 48 hours) for your latest push to git@git.bioconductor.org:packages/signifinder.git to reflect on this report. See Troubleshooting Build Report for more information. - Use the following Renviron settings to reproduce errors and warnings. - If 'R CMD check' started to fail recently on the Linux builder(s) over a missing dependency, add the missing dependency to 'Suggests:' in your DESCRIPTION file. See Renviron.bioc for more information. |
| Package: signifinder |
| Version: 1.11.0 |
| Command: /Library/Frameworks/R.framework/Resources/bin/R CMD check --install=check:signifinder.install-out.txt --library=/Library/Frameworks/R.framework/Resources/library --no-vignettes --timings signifinder_1.11.0.tar.gz |
| StartedAt: 2025-10-24 00:12:57 -0400 (Fri, 24 Oct 2025) |
| EndedAt: 2025-10-24 00:35:27 -0400 (Fri, 24 Oct 2025) |
| EllapsedTime: 1349.6 seconds |
| RetCode: 0 |
| Status: OK |
| CheckDir: signifinder.Rcheck |
| Warnings: 0 |
##############################################################################
##############################################################################
###
### Running command:
###
### /Library/Frameworks/R.framework/Resources/bin/R CMD check --install=check:signifinder.install-out.txt --library=/Library/Frameworks/R.framework/Resources/library --no-vignettes --timings signifinder_1.11.0.tar.gz
###
##############################################################################
##############################################################################
* using log directory ‘/Users/biocbuild/bbs-3.22-bioc/meat/signifinder.Rcheck’
* using R version 4.5.1 Patched (2025-09-10 r88807)
* using platform: x86_64-apple-darwin20
* R was compiled by
Apple clang version 14.0.0 (clang-1400.0.29.202)
GNU Fortran (GCC) 14.2.0
* running under: macOS Monterey 12.7.6
* using session charset: UTF-8
* using option ‘--no-vignettes’
* checking for file ‘signifinder/DESCRIPTION’ ... OK
* checking extension type ... Package
* this is package ‘signifinder’ version ‘1.11.0’
* package encoding: UTF-8
* checking package namespace information ... OK
* checking package dependencies ... INFO
Imports includes 27 non-default packages.
Importing from so many packages makes the package vulnerable to any of
them becoming unavailable. Move as many as possible to Suggests and
use conditionally.
* checking if this is a source package ... OK
* checking if there is a namespace ... OK
* checking for hidden files and directories ... OK
* checking for portable file names ... OK
* checking for sufficient/correct file permissions ... OK
* checking whether package ‘signifinder’ can be installed ... OK
* checking installed package size ... OK
* checking package directory ... OK
* checking ‘build’ directory ... OK
* checking DESCRIPTION meta-information ... OK
* checking top-level files ... OK
* checking for left-over files ... OK
* checking index information ... OK
* checking package subdirectories ... OK
* checking code files for non-ASCII characters ... OK
* checking R files for syntax errors ... OK
* checking whether the package can be loaded ... OK
* checking whether the package can be loaded with stated dependencies ... OK
* checking whether the package can be unloaded cleanly ... OK
* checking whether the namespace can be loaded with stated dependencies ... OK
* checking whether the namespace can be unloaded cleanly ... OK
* checking dependencies in R code ... OK
* checking S3 generic/method consistency ... OK
* checking replacement functions ... OK
* checking foreign function calls ... OK
* checking R code for possible problems ... OK
* checking Rd files ... OK
* checking Rd metadata ... OK
* checking Rd cross-references ... NOTE
Found the following Rd file(s) with Rd \link{} targets missing package
anchors:
ADOSign.Rd: SummarizedExperiment-class
APMSign.Rd: SummarizedExperiment-class
ASCSign.Rd: SummarizedExperiment-class
CD39CD8TcellSign.Rd: SummarizedExperiment-class
CINSign.Rd: SummarizedExperiment-class
CISSign.Rd: SummarizedExperiment-class
COXISSign.Rd: SummarizedExperiment-class
CombinedSign.Rd: SummarizedExperiment-class
DNArepSign.Rd: SummarizedExperiment-class
ECMSign.Rd: SummarizedExperiment-class
EMTSign.Rd: SummarizedExperiment-class
HRDSSign.Rd: SummarizedExperiment-class
ICBResponseSign.Rd: SummarizedExperiment-class
IFNSign.Rd: SummarizedExperiment-class
IPRESSign.Rd: SummarizedExperiment-class
IPSOVSign.Rd: SummarizedExperiment-class
IPSSign.Rd: SummarizedExperiment-class
IRGSign.Rd: SummarizedExperiment-class
ISCSign.Rd: SummarizedExperiment-class
LRRC15CAFSign.Rd: SummarizedExperiment-class
MITFlowPTENnegSign.Rd: SummarizedExperiment-class
MPSSign.Rd: SummarizedExperiment-class
PassONSign.Rd: SummarizedExperiment-class
SCSubtypeSign.Rd: SummarizedExperiment-class
TGFBSign.Rd: SummarizedExperiment-class
TLSSign.Rd: SummarizedExperiment-class
TinflamSign.Rd: SummarizedExperiment-class
VEGFSign.Rd: SummarizedExperiment-class
autophagySign.Rd: SummarizedExperiment-class
cellCycleSign.Rd: SummarizedExperiment-class
chemokineSign.Rd: SummarizedExperiment-class
consensusOVSign.Rd: SummarizedExperiment-class
correlationSignPlot.Rd: SummarizedExperiment-class
evaluationSignPlot.Rd: SummarizedExperiment-class
expandedImmuneSign.Rd: SummarizedExperiment-class
ferroptosisSign.Rd: SummarizedExperiment-class
geneHeatmapSignPlot.Rd: SummarizedExperiment-class
glycolysisSign.Rd: SummarizedExperiment-class
heatmapSignPlot.Rd: SummarizedExperiment-class
hypoxiaSign.Rd: SummarizedExperiment-class
immuneCytSign.Rd: SummarizedExperiment-class
immunoScoreSign.Rd: SummarizedExperiment-class
interferonSign.Rd: SummarizedExperiment-class
lipidMetabolismSign.Rd: SummarizedExperiment-class
matrisomeSign.Rd: SummarizedExperiment-class
metalSign.Rd: SummarizedExperiment-class
mitoticIndexSign.Rd: SummarizedExperiment-class
multipleSign.Rd: SummarizedExperiment-class
oneSignPlot.Rd: SummarizedExperiment-class
oxphosSign.Rd: SummarizedExperiment-class
pyroptosisSign.Rd: SummarizedExperiment-class
ridgelineSignPlot.Rd: SummarizedExperiment-class
stateSign.Rd: SummarizedExperiment-class
stemCellCD49fSign.Rd: SummarizedExperiment-class
stressSign.Rd: SummarizedExperiment-class
survivalSignPlot.Rd: SummarizedExperiment-class
Please provide package anchors for all Rd \link{} targets not in the
package itself and the base packages.
* checking for missing documentation entries ... OK
* checking for code/documentation mismatches ... OK
* checking Rd \usage sections ... OK
* checking Rd contents ... OK
* checking for unstated dependencies in examples ... OK
* checking contents of ‘data’ directory ... OK
* checking data for non-ASCII characters ... OK
* checking data for ASCII and uncompressed saves ... OK
* checking R/sysdata.rda ... OK
* checking files in ‘vignettes’ ... OK
* checking examples ... OK
Examples with CPU (user + system) or elapsed time > 5s
user system elapsed
multipleSign 147.242 1.070 149.030
consensusOVSign 73.017 0.588 73.978
* checking for unstated dependencies in ‘tests’ ... OK
* checking tests ...
Running ‘testthat.R’
OK
* checking for unstated dependencies in vignettes ... OK
* checking package vignettes ... OK
* checking running R code from vignettes ... SKIPPED
* checking re-building of vignette outputs ... SKIPPED
* checking PDF version of manual ... OK
* DONE
Status: 1 NOTE
See
‘/Users/biocbuild/bbs-3.22-bioc/meat/signifinder.Rcheck/00check.log’
for details.
signifinder.Rcheck/00install.out
############################################################################## ############################################################################## ### ### Running command: ### ### /Library/Frameworks/R.framework/Resources/bin/R CMD INSTALL signifinder ### ############################################################################## ############################################################################## * installing to library ‘/Library/Frameworks/R.framework/Versions/4.5-x86_64/Resources/library’ * installing *source* package ‘signifinder’ ... ** this is package ‘signifinder’ version ‘1.11.0’ ** using staged installation ** R ** data ** inst ** byte-compile and prepare package for lazy loading ** help *** installing help indices *** copying figures ** building package indices ** installing vignettes ** testing if installed package can be loaded from temporary location ** testing if installed package can be loaded from final location ** testing if installed package keeps a record of temporary installation path * DONE (signifinder)
signifinder.Rcheck/tests/testthat.Rout
R version 4.5.1 Patched (2025-09-10 r88807) -- "Great Square Root"
Copyright (C) 2025 The R Foundation for Statistical Computing
Platform: x86_64-apple-darwin20
R is free software and comes with ABSOLUTELY NO WARRANTY.
You are welcome to redistribute it under certain conditions.
Type 'license()' or 'licence()' for distribution details.
R is a collaborative project with many contributors.
Type 'contributors()' for more information and
'citation()' on how to cite R or R packages in publications.
Type 'demo()' for some demos, 'help()' for on-line help, or
'help.start()' for an HTML browser interface to help.
Type 'q()' to quit R.
> library(testthat)
> library(signifinder)
>
> test_check("signifinder")
'select()' returned 1:1 mapping between keys and columns
Loading required package: edgeR
Loading required package: limma
Attaching package: 'limma'
The following object is masked from 'package:BiocGenerics':
plotMA
pyroptosisSignShao is using 100% of signature genes
ferroptosisSignLiang is using 100% of signature genes
lipidMetabolismSign is using 100% of signature genes
StemCellCD49fSign is using 100% of signature genes
glycolysisSignXu is using 100% of signature genes
autophagySignXu is using 100% of signature genes
'select()' returned 1:1 mapping between keys and columns
autophagySignChenM is using 100% of OS signature genes
autophagySignChenM is using 60% of DFS signature genes
TinflamSign is using 100% of signature genes
interferonSign is using 100% of Interferon signature genes
EMTSignMiow is using 0% of epithelial signature genes
EMTSignMiow is using 100% of mesenchymal signature genes
i argument assay='norm_expr' ignored since exprData has no assay names.
i GSVA version 2.3.4
i Calculating ssGSEA scores for 1 gene sets
i Calculating ranks
i Calculating rank weights
v Calculations finished
EMTSignMiow is using 0% of epithelial signature genes
i argument assay='norm_expr' ignored since exprData has no assay names.
i GSVA version 2.3.4
i Calculating ssGSEA scores for 1 gene sets
i Calculating ranks
i Calculating rank weights
v Calculations finished
EMTSignMak is using 100% of epithelial signature genes
EMTSignMak is using 100% of mesenchymal signature genes
EMTSignMak is using 100% of mesenchymal signature genes
EMTSignCheng is using 100% of signature genes
EMTSignThompson is using 100% of epithelial signature genes
EMTSignThompson is using 100% of mesenchymal signature genes
'select()' returned 1:1 mapping between keys and columns
EMTSignThompson is using 100% of mesenchymal signature genes
'select()' returned 1:1 mapping between keys and columns
EMTSign is using 100% of cEMT signature genes
EMTSign is using 100% of pEMT signature genes
EMTSign is using 100% of pEMT signature genes
hipoxiaSign is using 100% of Hypoxia signature genes
ASCSign is using 100% of signature genes
ChemokineSign is using 100% of signature genes
'select()' returned 1:1 mapping between keys and columns
PassONSign is using 100% of signature genes
i GSVA version 2.3.4
i Calculating ssGSEA scores for 4 gene sets
i Calculating ranks
i Calculating rank weights
i Normalizing ssGSEA scores
v Calculations finished
CISSign is using 100% of up signature genes
CISSign is using 100% of down signature genes
CISSign is using 100% of down signature genes
HRDSSign is using 100% of signature genes
DNArepSign is using 100% of signature genes
'select()' returned 1:1 mapping between keys and columns
IPRESSign is using 100% of signature genes
i GSVA version 2.3.4
i Calculating GSVA ranks
i kcdf='auto' (default)
i GSVA dense (classical) algorithm
i Row-wise ECDF estimation with Poisson kernels
i Calculating GSVA column ranks
i Calculating GSVA scores
v Calculations finished
ECMSign is using 0% of up signature genes
ECMSign is using 100% of down signature genes
i argument assay='norm_expr' ignored since exprData has no assay names.
i GSVA version 2.3.4
i Calculating ssGSEA scores for 1 gene sets
i Calculating ranks
i Calculating rank weights
v Calculations finished
ECMSign is using 0% of up signature genes
i argument assay='norm_expr' ignored since exprData has no assay names.
i GSVA version 2.3.4
i Calculating ssGSEA scores for 1 gene sets
i Calculating ranks
i Calculating rank weights
v Calculations finished
IPSOVSign is using 100% of signature genes
i argument assay='norm_expr' ignored since exprData has no assay names.
i GSVA version 2.3.4
! Some gene sets have size one. Consider setting minSize > 1
i Calculating ssGSEA scores for 15 gene sets
i Calculating ranks
i Calculating rank weights
v Calculations finished
i argument assay='norm_expr' ignored since exprData has no assay names.
i GSVA version 2.3.4
! Some gene sets have size one. Consider setting minSize > 1
i Calculating ssGSEA scores for 15 gene sets
i Calculating ranks
i Calculating rank weights
v Calculations finished
'select()' returned 1:1 mapping between keys and columns
stateSign is using 100% of MES2 signature genes
stateSign is using 100% of MES1 signature genes
stateSign is using 100% of AC signature genes
stateSign is using 100% of OPC signature genes
stateSign is using 100% of NPC1 signature genes
stateSign is using 100% of NPC2 signature genes
'select()' returned 1:1 mapping between keys and columns
stateSign is using 100% of MES1 signature genes
stateSign is using 100% of AC signature genes
stateSign is using 100% of OPC signature genes
stateSign is using 100% of NPC1 signature genes
stateSign is using 100% of NPC2 signature genes
stateSign is using 100% of Alveolar signature genes
stateSign is using 100% of Basal signature genes
stateSign is using 100% of Squamous signature genes
stateSign is using 100% of Glandular signature genes
stateSign is using 100% of Ciliated signature genes
stateSign is using 100% of AC signature genes
stateSign is using 100% of OPC signature genes
stateSign is using 100% of NPC signature genes
stateSign is using 100% of Basal signature genes
stateSign is using 100% of Squamous signature genes
stateSign is using 100% of Glandular signature genes
stateSign is using 100% of Ciliated signature genes
stateSign is using 100% of AC signature genes
stateSign is using 100% of OPC signature genes
stateSign is using 100% of NPC signature genes
TinflamSignThompson is using 100% of signature genes
'select()' returned 1:1 mapping between keys and columns
'select()' returned 1:1 mapping between keys and columns
cellCycleSign is using 100% of Cycle signature genes
EMTSignThompson is using 100% of epithelial signature genes
EMTSignThompson is using 100% of mesenchymal signature genes
'select()' returned 1:1 mapping between keys and columns
TinflamSignThompson is using 100% of signature genes
'select()' returned 1:1 mapping between keys and columns
EMTSignThompson is using 100% of mesenchymal signature genes
'select()' returned 1:1 mapping between keys and columns
TinflamSignThompson is using 100% of signature genes
'select()' returned 1:1 mapping between keys and columns
'select()' returned 1:1 mapping between keys and columns
stateSign is using 100% of MITF signature genes
stateSign is using 100% of AXL signature genes
'select()' returned 1:1 mapping between keys and columns
stateSign is using 100% of AXL signature genes
'select()' returned 1:1 mapping between keys and columns
APMSign is using 100% of signature genes
'select()' returned 1:1 mapping between keys and columns
APMSign is using 100% of signature genes
i argument assay='norm_expr' ignored since exprData has no assay names.
i GSVA version 2.3.4
i Calculating GSVA ranks
i kcdf='auto' (default)
i GSVA dense (classical) algorithm
i Row-wise ECDF estimation with Poisson kernels
i Calculating GSVA column ranks
i Calculating GSVA scores
v Calculations finished
i argument assay='norm_expr' ignored since exprData has no assay names.
i GSVA version 2.3.4
i Calculating GSVA ranks
i kcdf='auto' (default)
i GSVA dense (classical) algorithm
i Row-wise ECDF estimation with Poisson kernels
i Calculating GSVA column ranks
i Calculating GSVA scores
v Calculations finished
'select()' returned 1:1 mapping between keys and columns
MPSSign is using 100% of signature genes
'select()' returned 1:1 mapping between keys and columns
IRGSign is using 100% of signature genes
TGFBSign is using 100% of signature genes
ADOSign is using 100% of signature genes
i argument assay='norm_expr' ignored since exprData has no assay names.
i GSVA version 2.3.4
i Calculating GSVA ranks
i kcdf='auto' (default)
i GSVA dense (classical) algorithm
i Row-wise ECDF estimation with Poisson kernels
i Calculating GSVA column ranks
i Calculating GSVA scores
v Calculations finished
i argument assay='norm_expr' ignored since exprData has no assay names.
i GSVA version 2.3.4
i Calculating GSVA ranks
i kcdf='auto' (default)
i GSVA dense (classical) algorithm
i Row-wise ECDF estimation with Poisson kernels
i Calculating GSVA column ranks
i Calculating GSVA scores
v Calculations finished
MITFlowPTENnegSign is using 100% of signature genes
LRRC15CAFSign is using 100% of signature genes
SCSubtypeSign is using 0% of Basal signature genes
SCSubtypeSign is using 0% of Her2E signature genes
SCSubtypeSign is using 100% of LumA signature genes
SCSubtypeSign is using 0% of LumB signature genes
SCSubtypeSign is using 0% of Basal signature genes
SCSubtypeSign is using 0% of Her2E signature genes
SCSubtypeSign is using 0% of LumB signature genes
ICBResponseSign is using 0% of responder signature genes
ICBResponseSign is using 100% of nonresponder signature genes
ICBResponseSign is using 0% of responder signature genes
COXISSign is using 100% of signature genes
stressSign is using 100% of Stress signature genes
oxphosSign is using 100% of Oxphos signature genes
metalSign is using 100% of Metal signature genes
CD39CD8TcellSign is using 100% of signature genes
TLSSign is using 100% of signature genes
expandedImmuneSign is using 100% of signature genes
IFNSign is using 100% of signature genes
ImmuneCytSignRooney is using 100% of signature genes
mitoticIndexSign is using 100% of signature genes
matrisomeSign is using 100% of signature genes
immunoScoreSignRoh is using 100% of signature genes
CINSign is using 100% of signature genes
CINSign is using 36% of signature genes
CINSign is using 36% of signature genes
hypoxiaSign is using 100% of signature genes
cellCycleSignLundberg is using 100% of signature genes
cellCycleSignDavoli is using 100% of signature genes
VEGFSign is using 100% of signature genes
ImmuneCytSignDavoli is using 100% of signature genes
[ FAIL 0 | WARN 2 | SKIP 0 | PASS 331 ]
[ FAIL 0 | WARN 2 | SKIP 0 | PASS 331 ]
>
> proc.time()
user system elapsed
674.228 17.957 695.767
signifinder.Rcheck/signifinder-Ex.timings
| name | user | system | elapsed | |
| ADOSign | 0.401 | 0.014 | 0.416 | |
| APMSign | 0.352 | 0.012 | 0.366 | |
| ASCSign | 0.047 | 0.003 | 0.051 | |
| CD39CD8TcellSign | 0.084 | 0.007 | 0.092 | |
| CINSign | 0.068 | 0.005 | 0.073 | |
| CISSign | 0.052 | 0.003 | 0.055 | |
| COXISSign | 0.093 | 0.011 | 0.105 | |
| CombinedSign | 0.117 | 0.005 | 0.122 | |
| DNArepSign | 0.053 | 0.003 | 0.056 | |
| ECMSign | 0.330 | 0.006 | 0.338 | |
| EMTSign | 0.419 | 0.012 | 0.432 | |
| HRDSSign | 0.065 | 0.003 | 0.068 | |
| ICBResponseSign | 0.062 | 0.003 | 0.065 | |
| IFNSign | 0.055 | 0.003 | 0.059 | |
| IPRESSign | 0.319 | 0.011 | 0.331 | |
| IPSOVSign | 0.326 | 0.006 | 0.334 | |
| IPSSign | 1.265 | 0.017 | 1.288 | |
| IRGSign | 0.056 | 0.004 | 0.060 | |
| ISCSign | 0.058 | 0.004 | 0.062 | |
| LRRC15CAFSign | 0.058 | 0.004 | 0.062 | |
| MITFlowPTENnegSign | 0.058 | 0.003 | 0.061 | |
| MPSSign | 0.063 | 0.003 | 0.067 | |
| PassONSign | 0.326 | 0.006 | 0.335 | |
| SCSubtypeSign | 0.030 | 0.003 | 0.032 | |
| TGFBSign | 0.048 | 0.003 | 0.052 | |
| TLSSign | 0.053 | 0.003 | 0.056 | |
| TinflamSign | 0.052 | 0.003 | 0.057 | |
| VEGFSign | 0.049 | 0.003 | 0.053 | |
| autophagySign | 0.052 | 0.004 | 0.056 | |
| availableSignatures | 0.013 | 0.006 | 0.019 | |
| cellCycleSign | 0.060 | 0.004 | 0.066 | |
| chemokineSign | 0.053 | 0.004 | 0.058 | |
| consensusOVSign | 73.017 | 0.588 | 73.978 | |
| correlationSignPlot | 1.850 | 0.077 | 1.946 | |
| evaluationSignPlot | 2.647 | 0.037 | 2.707 | |
| expandedImmuneSign | 0.057 | 0.002 | 0.060 | |
| ferroptosisSign | 0.058 | 0.003 | 0.060 | |
| geneHeatmapSignPlot | 1.493 | 0.019 | 1.521 | |
| getSignGenes | 0.004 | 0.006 | 0.010 | |
| glycolysisSign | 0.057 | 0.003 | 0.060 | |
| heatmapSignPlot | 2.693 | 0.022 | 2.733 | |
| hypoxiaSign | 0.061 | 0.004 | 0.066 | |
| immuneCytSign | 0.070 | 0.005 | 0.075 | |
| immunoScoreSign | 0.113 | 0.006 | 0.120 | |
| interferonSign | 0.037 | 0.002 | 0.041 | |
| lipidMetabolismSign | 0.053 | 0.003 | 0.062 | |
| matrisomeSign | 0.053 | 0.004 | 0.056 | |
| metalSign | 0.035 | 0.003 | 0.038 | |
| mitoticIndexSign | 0.053 | 0.004 | 0.057 | |
| multipleSign | 147.242 | 1.070 | 149.030 | |
| oneSignPlot | 0.564 | 0.005 | 0.571 | |
| oxphosSign | 0.038 | 0.003 | 0.042 | |
| pyroptosisSign | 0.070 | 0.003 | 0.073 | |
| ridgelineSignPlot | 1.298 | 0.042 | 1.345 | |
| stateSign | 0.040 | 0.004 | 0.048 | |
| stemCellCD49fSign | 0.056 | 0.003 | 0.059 | |
| stressSign | 0.039 | 0.002 | 0.041 | |
| survivalSignPlot | 2.055 | 0.080 | 2.148 | |