| Back to Multiple platform build/check report for BioC 3.22: simplified long | 
 | 
This page was generated on 2025-08-15 12:07 -0400 (Fri, 15 Aug 2025).
| Hostname | OS | Arch (*) | R version | Installed pkgs | 
|---|---|---|---|---|
| nebbiolo2 | Linux (Ubuntu 24.04.3 LTS) | x86_64 | 4.5.1 (2025-06-13) -- "Great Square Root" | 4818 | 
| palomino8 | Windows Server 2022 Datacenter | x64 | 4.5.1 (2025-06-13 ucrt) -- "Great Square Root" | 4554 | 
| lconway | macOS 12.7.1 Monterey | x86_64 | 4.5.1 (2025-06-13) -- "Great Square Root" | 4595 | 
| kjohnson3 | macOS 13.7.7 Ventura | arm64 | 4.5.1 Patched (2025-06-14 r88325) -- "Great Square Root" | 4537 | 
| taishan | Linux (openEuler 24.03 LTS) | aarch64 | 4.5.0 (2025-04-11) -- "How About a Twenty-Six" | 4535 | 
| Click on any hostname to see more info about the system (e.g. compilers) (*) as reported by 'uname -p', except on Windows and Mac OS X | ||||
| Package 1645/2317 | Hostname | OS / Arch | INSTALL | BUILD | CHECK | BUILD BIN | ||||||||
| qPLEXanalyzer 1.27.0  (landing page) Ashley Sawle 
 | nebbiolo2 | Linux (Ubuntu 24.04.3 LTS) / x86_64 | OK | OK | OK |  | ||||||||
| palomino8 | Windows Server 2022 Datacenter / x64 | OK | OK | OK | OK |  | ||||||||
| lconway | macOS 12.7.1 Monterey / x86_64 | OK | OK | OK | OK |  | ||||||||
| kjohnson3 | macOS 13.7.7 Ventura / arm64 | OK | OK | OK | OK |  | ||||||||
| taishan | Linux (openEuler 24.03 LTS) / aarch64 | OK | OK | OK | ||||||||||
| To the developers/maintainers of the qPLEXanalyzer package: - Allow up to 24 hours (and sometimes 48 hours) for your latest push to git@git.bioconductor.org:packages/qPLEXanalyzer.git to reflect on this report. See Troubleshooting Build Report for more information. - Use the following Renviron settings to reproduce errors and warnings. - If 'R CMD check' started to fail recently on the Linux builder(s) over a missing dependency, add the missing dependency to 'Suggests:' in your DESCRIPTION file. See Renviron.bioc for more information. | 
| Package: qPLEXanalyzer | 
| Version: 1.27.0 | 
| Command: F:\biocbuild\bbs-3.22-bioc\R\bin\R.exe CMD check --no-multiarch --install=check:qPLEXanalyzer.install-out.txt --library=F:\biocbuild\bbs-3.22-bioc\R\library --no-vignettes --timings qPLEXanalyzer_1.27.0.tar.gz | 
| StartedAt: 2025-08-15 06:42:55 -0400 (Fri, 15 Aug 2025) | 
| EndedAt: 2025-08-15 06:48:33 -0400 (Fri, 15 Aug 2025) | 
| EllapsedTime: 338.0 seconds | 
| RetCode: 0 | 
| Status: OK | 
| CheckDir: qPLEXanalyzer.Rcheck | 
| Warnings: 0 | 
##############################################################################
##############################################################################
###
### Running command:
###
###   F:\biocbuild\bbs-3.22-bioc\R\bin\R.exe CMD check --no-multiarch --install=check:qPLEXanalyzer.install-out.txt --library=F:\biocbuild\bbs-3.22-bioc\R\library --no-vignettes --timings qPLEXanalyzer_1.27.0.tar.gz
###
##############################################################################
##############################################################################
* using log directory 'F:/biocbuild/bbs-3.22-bioc/meat/qPLEXanalyzer.Rcheck'
* using R version 4.5.1 (2025-06-13 ucrt)
* using platform: x86_64-w64-mingw32
* R was compiled by
    gcc.exe (GCC) 14.2.0
    GNU Fortran (GCC) 14.2.0
* running under: Windows Server 2022 x64 (build 20348)
* using session charset: UTF-8
* using option '--no-vignettes'
* checking for file 'qPLEXanalyzer/DESCRIPTION' ... OK
* checking extension type ... Package
* this is package 'qPLEXanalyzer' version '1.27.0'
* package encoding: UTF-8
* checking package namespace information ... OK
* checking package dependencies ... OK
* checking if this is a source package ... OK
* checking if there is a namespace ... OK
* checking for hidden files and directories ... OK
* checking for portable file names ... OK
* checking whether package 'qPLEXanalyzer' can be installed ... OK
* checking installed package size ... OK
* checking package directory ... OK
* checking 'build' directory ... OK
* checking DESCRIPTION meta-information ... OK
* checking top-level files ... OK
* checking for left-over files ... OK
* checking index information ... OK
* checking package subdirectories ... NOTE
Problems with news in 'NEWS':
  Cannot process chunk/lines:
    Updates to vignette to avoid build errors when attempting to connect to Uniprot
* checking code files for non-ASCII characters ... OK
* checking R files for syntax errors ... OK
* checking whether the package can be loaded ... OK
* checking whether the package can be loaded with stated dependencies ... OK
* checking whether the package can be unloaded cleanly ... OK
* checking whether the namespace can be loaded with stated dependencies ... OK
* checking whether the namespace can be unloaded cleanly ... OK
* checking dependencies in R code ... OK
* checking S3 generic/method consistency ... OK
* checking replacement functions ... OK
* checking foreign function calls ... OK
* checking R code for possible problems ... NOTE
coefVar: no visible binding for global variable 'SampleName'
coefVar: no visible binding for global variable 'CV'
coefVar: no visible binding for global variable 'cum_sum'
coefVar: no visible binding for global variable 'fraction'
convertToMSnset: no visible binding for global variable 'SampleName'
corrPlot: no visible binding for global variable 'X'
corrPlot: no visible binding for global variable 'AddValues'
corrPlot: no visible binding for global variable 'Cor'
corrPlot: no visible binding for global variable 'Y'
corrPlot: no visible binding for global variable 'CorTxt'
coveragePlot: no visible binding for global variable 'Accessions'
coveragePlot: no visible binding for global variable 'Sequences'
getContrastResults: no visible binding for global variable 'B'
getContrastResults: no visible binding for global variable 'AveExpr'
getContrastResults: no visible binding for global variable 'logFC'
groupScaling: no visible binding for global variable 'sInt'
groupScaling: no visible binding for global variable
  'meanscaledIntensity'
hierarchicalPlot: no visible binding for global variable 'x'
hierarchicalPlot: no visible binding for global variable 'y'
hierarchicalPlot: no visible binding for global variable 'xend'
hierarchicalPlot: no visible binding for global variable 'yend'
hierarchicalPlot: no visible binding for global variable 'SampleName'
intensityBoxplot: no visible binding for global variable 'Intensity'
intensityBoxplot: no visible binding for global variable 'logInt'
intensityBoxplot: no visible binding for global variable 'SampleName'
intensityPlot: no visible binding for global variable 'Intensity'
intensityPlot: no visible binding for global variable 'SampleName'
maVolPlot: no visible binding for global variable 'group'
maVolPlot: no visible binding for global variable 'adj.P.Val'
maVolPlot: no visible binding for global variable 'GeneSymbol'
maVolPlot: no visible binding for global variable 'SymbolLab'
mergePeptides: no visible binding for global variable 'Accessions'
mergePeptides: no visible binding for global variable 'Sequences'
mergePeptides: no visible binding for global variable 'Seq_Acc'
mergePeptides: no visible global function definition for 'where'
mergePeptides: no visible binding for global variable 'Count'
mergeSites: no visible binding for global variable 'Accessions'
mergeSites: no visible binding for global variable 'Sites'
mergeSites: no visible binding for global variable 'Type'
mergeSites: no visible binding for global variable 'Sites_Acc'
mergeSites: no visible global function definition for 'where'
mergeSites: no visible binding for global variable 'Count'
peptideIntensityPlot: no visible binding for global variable
  'PeptideID'
peptideIntensityPlot: no visible binding for global variable
  'Intensity'
peptideIntensityPlot: no visible binding for global variable
  'Accessions'
peptideIntensityPlot: no visible binding for global variable
  'SampleName'
peptideIntensityPlot: no visible binding for global variable
  'logIntensity'
peptideIntensityPlot: no visible binding for global variable
  'Sequences'
peptideIntensityPlot: no visible binding for global variable
  'Modifications'
plotMeanVar: no visible binding for global variable 'x'
plotMeanVar: no visible binding for global variable 'y'
plotMeanVar: no visible binding for global variable 'Mean'
plotMeanVar: no visible binding for global variable 'Variance'
rliPlot: no visible binding for global variable 'RowID'
rliPlot: no visible binding for global variable 'Intensity'
rliPlot: no visible binding for global variable 'logInt'
rliPlot: no visible binding for global variable 'medianLogInt'
rliPlot: no visible binding for global variable 'SampleName'
rliPlot: no visible binding for global variable 'RLI'
summarizeIntensities: no visible binding for global variable
  'Accessions'
summarizeIntensities: no visible binding for global variable
  'Sequences'
summarizeIntensities: no visible global function definition for 'where'
summarizeIntensities: no visible binding for global variable 'Count'
Undefined global functions or variables:
  Accessions AddValues AveExpr B CV Cor CorTxt Count GeneSymbol
  Intensity Mean Modifications PeptideID RLI RowID SampleName Seq_Acc
  Sequences Sites Sites_Acc SymbolLab Type Variance X Y adj.P.Val
  cum_sum fraction group logFC logInt logIntensity meanscaledIntensity
  medianLogInt sInt where x xend y yend
* checking Rd files ... OK
* checking Rd metadata ... OK
* checking Rd cross-references ... NOTE
Found the following Rd file(s) with Rd \link{} targets missing package
anchors:
  IRSnorm.Rd: MSnSet-class
  computeDiffStats.Rd: limma, MSnSet-class, eBayes
  convertToMSnset.Rd: MSnSet-class
  groupScaling.Rd: MSnSet-class
  mergePeptides.Rd: MSnSet-class
  mergeSites.Rd: MSnSet-class
  normalizeQuantiles.Rd: MSnSet-class
  normalizeScaling.Rd: MSnSet-class
  regressIntensity.Rd: MSnSet-class
  rowScaling.Rd: MSnSet-class
  summarizeIntensities.Rd: MSnSet-class
Please provide package anchors for all Rd \link{} targets not in the
package itself and the base packages.
* checking for missing documentation entries ... OK
* checking for code/documentation mismatches ... OK
* checking Rd \usage sections ... OK
* checking Rd contents ... OK
* checking for unstated dependencies in examples ... OK
* checking contents of 'data' directory ... OK
* checking data for non-ASCII characters ... OK
* checking data for ASCII and uncompressed saves ... OK
* checking files in 'vignettes' ... OK
* checking examples ... OK
* checking for unstated dependencies in vignettes ... OK
* checking package vignettes ... OK
* checking running R code from vignettes ... SKIPPED
* checking re-building of vignette outputs ... SKIPPED
* checking PDF version of manual ... OK
* DONE
Status: 3 NOTEs
See
  'F:/biocbuild/bbs-3.22-bioc/meat/qPLEXanalyzer.Rcheck/00check.log'
for details.
qPLEXanalyzer.Rcheck/00install.out
############################################################################## ############################################################################## ### ### Running command: ### ### F:\biocbuild\bbs-3.22-bioc\R\bin\R.exe CMD INSTALL qPLEXanalyzer ### ############################################################################## ############################################################################## * installing to library 'F:/biocbuild/bbs-3.22-bioc/R/library' * installing *source* package 'qPLEXanalyzer' ... ** this is package 'qPLEXanalyzer' version '1.27.0' ** using staged installation ** R ** data ** inst ** byte-compile and prepare package for lazy loading Note: wrong number of arguments to '==' Note: wrong number of arguments to '==' ** help *** installing help indices ** building package indices ** installing vignettes ** testing if installed package can be loaded from temporary location ** testing if installed package can be loaded from final location ** testing if installed package keeps a record of temporary installation path * DONE (qPLEXanalyzer)
qPLEXanalyzer.Rcheck/qPLEXanalyzer-Ex.timings
| name | user | system | elapsed | |
| IRSnorm | 2.97 | 0.07 | 3.06 | |
| assignColours | 0.21 | 0.02 | 0.22 | |
| coefVar | 0.91 | 0.06 | 0.97 | |
| computeDiffStats | 0.58 | 0.00 | 0.61 | |
| convertToMSnset | 0.29 | 0.02 | 0.32 | |
| corrPlot | 0.86 | 0.03 | 0.89 | |
| coveragePlot | 0.90 | 0.01 | 0.94 | |
| getContrastResults | 1.54 | 0.00 | 1.53 | |
| groupScaling | 0.28 | 0.00 | 0.28 | |
| hierarchicalPlot | 0.29 | 0.03 | 0.33 | |
| intensityBoxplot | 1.32 | 0.05 | 1.36 | |
| intensityPlot | 0.98 | 0.03 | 1.01 | |
| maVolPlot | 1.03 | 0.05 | 1.08 | |
| mergePeptides | 0.56 | 0.02 | 0.58 | |
| mergeSites | 0.27 | 0.01 | 0.28 | |
| normalizeQuantiles | 0.27 | 0.02 | 0.28 | |
| normalizeScaling | 0.20 | 0.01 | 0.22 | |
| pcaPlot | 0.85 | 0.06 | 0.90 | |
| peptideIntensityPlot | 0.90 | 0.05 | 0.96 | |
| plotMeanVar | 0.80 | 0.05 | 0.84 | |
| regressIntensity | 2.27 | 0.05 | 2.31 | |
| rliPlot | 1.98 | 0.09 | 2.08 | |
| rowScaling | 0.53 | 0.03 | 0.56 | |
| summarizeIntensities | 0.42 | 0.05 | 0.47 | |