| Back to Multiple platform build/check report for BioC 3.22: simplified long |
|
This page was generated on 2025-10-18 12:06 -0400 (Sat, 18 Oct 2025).
| Hostname | OS | Arch (*) | R version | Installed pkgs |
|---|---|---|---|---|
| nebbiolo2 | Linux (Ubuntu 24.04.3 LTS) | x86_64 | 4.5.1 Patched (2025-08-23 r88802) -- "Great Square Root" | 4887 |
| lconway | macOS 12.7.6 Monterey | x86_64 | 4.5.1 Patched (2025-09-10 r88807) -- "Great Square Root" | 4677 |
| kjohnson3 | macOS 13.7.7 Ventura | arm64 | 4.5.1 Patched (2025-09-10 r88807) -- "Great Square Root" | 4622 |
| taishan | Linux (openEuler 24.03 LTS) | aarch64 | 4.5.0 (2025-04-11) -- "How About a Twenty-Six" | 4632 |
| Click on any hostname to see more info about the system (e.g. compilers) (*) as reported by 'uname -p', except on Windows and Mac OS X | ||||
| Package 1671/2353 | Hostname | OS / Arch | INSTALL | BUILD | CHECK | BUILD BIN | ||||||||
| qPLEXanalyzer 1.27.0 (landing page) Ashley Sawle
| nebbiolo2 | Linux (Ubuntu 24.04.3 LTS) / x86_64 | OK | OK | OK | |||||||||
| lconway | macOS 12.7.6 Monterey / x86_64 | OK | OK | OK | OK | |||||||||
| kjohnson3 | macOS 13.7.7 Ventura / arm64 | OK | OK | OK | OK | |||||||||
| taishan | Linux (openEuler 24.03 LTS) / aarch64 | OK | OK | OK | ||||||||||
|
To the developers/maintainers of the qPLEXanalyzer package: - Allow up to 24 hours (and sometimes 48 hours) for your latest push to git@git.bioconductor.org:packages/qPLEXanalyzer.git to reflect on this report. See Troubleshooting Build Report for more information. - Use the following Renviron settings to reproduce errors and warnings. - If 'R CMD check' started to fail recently on the Linux builder(s) over a missing dependency, add the missing dependency to 'Suggests:' in your DESCRIPTION file. See Renviron.bioc for more information. |
| Package: qPLEXanalyzer |
| Version: 1.27.0 |
| Command: /Library/Frameworks/R.framework/Resources/bin/R CMD check --install=check:qPLEXanalyzer.install-out.txt --library=/Library/Frameworks/R.framework/Resources/library --no-vignettes --timings qPLEXanalyzer_1.27.0.tar.gz |
| StartedAt: 2025-10-17 21:34:16 -0400 (Fri, 17 Oct 2025) |
| EndedAt: 2025-10-17 21:36:14 -0400 (Fri, 17 Oct 2025) |
| EllapsedTime: 118.5 seconds |
| RetCode: 0 |
| Status: OK |
| CheckDir: qPLEXanalyzer.Rcheck |
| Warnings: 0 |
##############################################################################
##############################################################################
###
### Running command:
###
### /Library/Frameworks/R.framework/Resources/bin/R CMD check --install=check:qPLEXanalyzer.install-out.txt --library=/Library/Frameworks/R.framework/Resources/library --no-vignettes --timings qPLEXanalyzer_1.27.0.tar.gz
###
##############################################################################
##############################################################################
* using log directory ‘/Users/biocbuild/bbs-3.22-bioc/meat/qPLEXanalyzer.Rcheck’
* using R version 4.5.1 Patched (2025-09-10 r88807)
* using platform: aarch64-apple-darwin20
* R was compiled by
Apple clang version 16.0.0 (clang-1600.0.26.6)
GNU Fortran (GCC) 14.2.0
* running under: macOS Ventura 13.7.7
* using session charset: UTF-8
* using option ‘--no-vignettes’
* checking for file ‘qPLEXanalyzer/DESCRIPTION’ ... OK
* checking extension type ... Package
* this is package ‘qPLEXanalyzer’ version ‘1.27.0’
* package encoding: UTF-8
* checking package namespace information ... OK
* checking package dependencies ... OK
* checking if this is a source package ... OK
* checking if there is a namespace ... OK
* checking for hidden files and directories ... OK
* checking for portable file names ... OK
* checking for sufficient/correct file permissions ... OK
* checking whether package ‘qPLEXanalyzer’ can be installed ... OK
* checking installed package size ... OK
* checking package directory ... OK
* checking ‘build’ directory ... OK
* checking DESCRIPTION meta-information ... OK
* checking top-level files ... OK
* checking for left-over files ... OK
* checking index information ... OK
* checking package subdirectories ... NOTE
Problems with news in ‘NEWS’:
Cannot process chunk/lines:
Updates to vignette to avoid build errors when attempting to connect to Uniprot
* checking code files for non-ASCII characters ... OK
* checking R files for syntax errors ... OK
* checking whether the package can be loaded ... OK
* checking whether the package can be loaded with stated dependencies ... OK
* checking whether the package can be unloaded cleanly ... OK
* checking whether the namespace can be loaded with stated dependencies ... OK
* checking whether the namespace can be unloaded cleanly ... OK
* checking dependencies in R code ... OK
* checking S3 generic/method consistency ... OK
* checking replacement functions ... OK
* checking foreign function calls ... OK
* checking R code for possible problems ... NOTE
coefVar: no visible binding for global variable ‘SampleName’
coefVar: no visible binding for global variable ‘CV’
coefVar: no visible binding for global variable ‘cum_sum’
coefVar: no visible binding for global variable ‘fraction’
convertToMSnset: no visible binding for global variable ‘SampleName’
corrPlot: no visible binding for global variable ‘X’
corrPlot: no visible binding for global variable ‘AddValues’
corrPlot: no visible binding for global variable ‘Cor’
corrPlot: no visible binding for global variable ‘Y’
corrPlot: no visible binding for global variable ‘CorTxt’
coveragePlot: no visible binding for global variable ‘Accessions’
coveragePlot: no visible binding for global variable ‘Sequences’
getContrastResults: no visible binding for global variable ‘B’
getContrastResults: no visible binding for global variable ‘AveExpr’
getContrastResults: no visible binding for global variable ‘logFC’
groupScaling: no visible binding for global variable ‘sInt’
groupScaling: no visible binding for global variable
‘meanscaledIntensity’
hierarchicalPlot: no visible binding for global variable ‘x’
hierarchicalPlot: no visible binding for global variable ‘y’
hierarchicalPlot: no visible binding for global variable ‘xend’
hierarchicalPlot: no visible binding for global variable ‘yend’
hierarchicalPlot: no visible binding for global variable ‘SampleName’
intensityBoxplot: no visible binding for global variable ‘Intensity’
intensityBoxplot: no visible binding for global variable ‘logInt’
intensityBoxplot: no visible binding for global variable ‘SampleName’
intensityPlot: no visible binding for global variable ‘Intensity’
intensityPlot: no visible binding for global variable ‘SampleName’
maVolPlot: no visible binding for global variable ‘group’
maVolPlot: no visible binding for global variable ‘adj.P.Val’
maVolPlot: no visible binding for global variable ‘GeneSymbol’
maVolPlot: no visible binding for global variable ‘SymbolLab’
mergePeptides: no visible binding for global variable ‘Accessions’
mergePeptides: no visible binding for global variable ‘Sequences’
mergePeptides: no visible binding for global variable ‘Seq_Acc’
mergePeptides: no visible global function definition for ‘where’
mergePeptides: no visible binding for global variable ‘Count’
mergeSites: no visible binding for global variable ‘Accessions’
mergeSites: no visible binding for global variable ‘Sites’
mergeSites: no visible binding for global variable ‘Type’
mergeSites: no visible binding for global variable ‘Sites_Acc’
mergeSites: no visible global function definition for ‘where’
mergeSites: no visible binding for global variable ‘Count’
peptideIntensityPlot: no visible binding for global variable
‘PeptideID’
peptideIntensityPlot: no visible binding for global variable
‘Intensity’
peptideIntensityPlot: no visible binding for global variable
‘Accessions’
peptideIntensityPlot: no visible binding for global variable
‘SampleName’
peptideIntensityPlot: no visible binding for global variable
‘logIntensity’
peptideIntensityPlot: no visible binding for global variable
‘Sequences’
peptideIntensityPlot: no visible binding for global variable
‘Modifications’
plotMeanVar: no visible binding for global variable ‘x’
plotMeanVar: no visible binding for global variable ‘y’
plotMeanVar: no visible binding for global variable ‘Mean’
plotMeanVar: no visible binding for global variable ‘Variance’
rliPlot: no visible binding for global variable ‘RowID’
rliPlot: no visible binding for global variable ‘Intensity’
rliPlot: no visible binding for global variable ‘logInt’
rliPlot: no visible binding for global variable ‘medianLogInt’
rliPlot: no visible binding for global variable ‘SampleName’
rliPlot: no visible binding for global variable ‘RLI’
summarizeIntensities: no visible binding for global variable
‘Accessions’
summarizeIntensities: no visible binding for global variable
‘Sequences’
summarizeIntensities: no visible global function definition for ‘where’
summarizeIntensities: no visible binding for global variable ‘Count’
Undefined global functions or variables:
Accessions AddValues AveExpr B CV Cor CorTxt Count GeneSymbol
Intensity Mean Modifications PeptideID RLI RowID SampleName Seq_Acc
Sequences Sites Sites_Acc SymbolLab Type Variance X Y adj.P.Val
cum_sum fraction group logFC logInt logIntensity meanscaledIntensity
medianLogInt sInt where x xend y yend
* checking Rd files ... OK
* checking Rd metadata ... OK
* checking Rd cross-references ... NOTE
Found the following Rd file(s) with Rd \link{} targets missing package
anchors:
IRSnorm.Rd: MSnSet-class
computeDiffStats.Rd: limma, MSnSet-class, eBayes
convertToMSnset.Rd: MSnSet-class
groupScaling.Rd: MSnSet-class
mergePeptides.Rd: MSnSet-class
mergeSites.Rd: MSnSet-class
normalizeQuantiles.Rd: MSnSet-class
normalizeScaling.Rd: MSnSet-class
regressIntensity.Rd: MSnSet-class
rowScaling.Rd: MSnSet-class
summarizeIntensities.Rd: MSnSet-class
Please provide package anchors for all Rd \link{} targets not in the
package itself and the base packages.
* checking for missing documentation entries ... OK
* checking for code/documentation mismatches ... OK
* checking Rd \usage sections ... OK
* checking Rd contents ... OK
* checking for unstated dependencies in examples ... OK
* checking contents of ‘data’ directory ... OK
* checking data for non-ASCII characters ... OK
* checking data for ASCII and uncompressed saves ... OK
* checking files in ‘vignettes’ ... OK
* checking examples ... OK
* checking for unstated dependencies in vignettes ... OK
* checking package vignettes ... OK
* checking running R code from vignettes ... SKIPPED
* checking re-building of vignette outputs ... SKIPPED
* checking PDF version of manual ... OK
* DONE
Status: 3 NOTEs
See
‘/Users/biocbuild/bbs-3.22-bioc/meat/qPLEXanalyzer.Rcheck/00check.log’
for details.
qPLEXanalyzer.Rcheck/00install.out
############################################################################## ############################################################################## ### ### Running command: ### ### /Library/Frameworks/R.framework/Resources/bin/R CMD INSTALL qPLEXanalyzer ### ############################################################################## ############################################################################## * installing to library ‘/Library/Frameworks/R.framework/Versions/4.5-arm64/Resources/library’ * installing *source* package ‘qPLEXanalyzer’ ... ** this is package ‘qPLEXanalyzer’ version ‘1.27.0’ ** using staged installation ** R ** data ** inst ** byte-compile and prepare package for lazy loading Note: wrong number of arguments to '==' Note: wrong number of arguments to '==' ** help *** installing help indices ** building package indices ** installing vignettes ** testing if installed package can be loaded from temporary location ** testing if installed package can be loaded from final location ** testing if installed package keeps a record of temporary installation path * DONE (qPLEXanalyzer)
qPLEXanalyzer.Rcheck/qPLEXanalyzer-Ex.timings
| name | user | system | elapsed | |
| IRSnorm | 1.008 | 0.025 | 1.033 | |
| assignColours | 0.104 | 0.005 | 0.110 | |
| coefVar | 0.354 | 0.004 | 0.357 | |
| computeDiffStats | 0.183 | 0.005 | 0.189 | |
| convertToMSnset | 0.099 | 0.004 | 0.108 | |
| corrPlot | 0.346 | 0.005 | 0.357 | |
| coveragePlot | 0.713 | 0.006 | 0.739 | |
| getContrastResults | 0.173 | 0.006 | 0.179 | |
| groupScaling | 0.105 | 0.006 | 0.110 | |
| hierarchicalPlot | 0.133 | 0.009 | 0.146 | |
| intensityBoxplot | 0.406 | 0.025 | 0.444 | |
| intensityPlot | 0.395 | 0.019 | 0.436 | |
| maVolPlot | 0.430 | 0.025 | 0.464 | |
| mergePeptides | 0.227 | 0.006 | 0.235 | |
| mergeSites | 0.101 | 0.003 | 0.111 | |
| normalizeQuantiles | 0.108 | 0.002 | 0.124 | |
| normalizeScaling | 0.111 | 0.003 | 0.116 | |
| pcaPlot | 0.305 | 0.008 | 0.317 | |
| peptideIntensityPlot | 0.276 | 0.012 | 0.290 | |
| plotMeanVar | 0.244 | 0.008 | 0.256 | |
| regressIntensity | 0.632 | 0.006 | 0.657 | |
| rliPlot | 0.629 | 0.017 | 0.667 | |
| rowScaling | 0.196 | 0.003 | 0.209 | |
| summarizeIntensities | 0.160 | 0.004 | 0.173 | |