Back to Multiple platform build/check report for BioC 3.22:   simplified   long
ABCDEFGHIJKLMNO[P]QRSTUVWXYZ

This page was generated on 2025-05-15 11:58 -0400 (Thu, 15 May 2025).

HostnameOSArch (*)R versionInstalled pkgs
nebbiolo2Linux (Ubuntu 24.04.1 LTS)x86_644.5.0 (2025-04-11) -- "How About a Twenty-Six" 4749
palomino8Windows Server 2022 Datacenterx644.5.0 (2025-04-11 ucrt) -- "How About a Twenty-Six" 4510
taishanLinux (openEuler 24.03 LTS)aarch644.5.0 (2025-04-11) -- "How About a Twenty-Six" 4451
Click on any hostname to see more info about the system (e.g. compilers)      (*) as reported by 'uname -p', except on Windows and Mac OS X

All results for package preprocessCore


To the developers/maintainers of the preprocessCore package:
- Allow up to 24 hours (and sometimes 48 hours) for your latest push to git@git.bioconductor.org:packages/preprocessCore.git to reflect on this report. See Troubleshooting Build Report for more information.
- Use the following Renviron settings to reproduce errors and warnings.
- If 'R CMD check' started to fail recently on the Linux builder(s) over a missing dependency, add the missing dependency to 'Suggests:' in your DESCRIPTION file. See Renviron.bioc for more information.

raw results

Package 1596/2304HostnameOS / ArchINSTALLBUILDCHECKBUILD BIN
preprocessCore 1.71.0  (landing page)
Ben Bolstad
Snapshot Date: 2025-05-14 13:00 -0400 (Wed, 14 May 2025)
git_url: https://git.bioconductor.org/packages/preprocessCore
git_branch: devel
git_last_commit: 78b67ba
git_last_commit_date: 2025-04-15 09:16:02 -0400 (Tue, 15 Apr 2025)
nebbiolo2Linux (Ubuntu 24.04.1 LTS) / x86_64  OK    OK    WARNINGS  UNNEEDED, same version is already published
palomino8Windows Server 2022 Datacenter / x64  OK    OK    WARNINGS    OK  UNNEEDED, same version is already published
taishanLinux (openEuler 24.03 LTS) / aarch64  OK    OK    WARNINGS  



Results for Bioconductor software packages that depend directly on package preprocessCore

QUICK STATSOS / ArchINSTALLBUILDCHECKBUILD BIN
nebbiolo2Linux (Ubuntu 24.04.1 LTS) / x86_64
0439
0538
001028
palomino8Windows Server 2022 Datacenter / x64
0439
0439
041025
0039
taishanLinux (openEuler 24.03 LTS) / aarch64
0439
0637
05923
Package 1/43HostnameOS / ArchINSTALLBUILDCHECKBUILD BIN
affy 1.87.0  (landing page)
Robert D. Shear
git_last_commit: 142c1a1
git_last_commit_date: 2025-04-15 09:16:06 -0400
nebbiolo2Linux (Ubuntu 24.04.1 LTS) / x86_64  OK    OK    WARNINGS  UNNEEDED, same version is already published
palomino8Windows Server 2022 Datacenter / x64  OK    OK    WARNINGS    OK  UNNEEDED, same version is already published
taishanLinux (openEuler 24.03 LTS) / aarch64  OK    OK    WARNINGS  
Package 2/43HostnameOS / ArchINSTALLBUILDCHECKBUILD BIN
affyPLM 1.85.0  (landing page)
Ben Bolstad
git_last_commit: 22a5a05
git_last_commit_date: 2025-04-15 09:17:02 -0400
nebbiolo2Linux (Ubuntu 24.04.1 LTS) / x86_64  OK    OK    WARNINGS  UNNEEDED, same version is already published
palomino8Windows Server 2022 Datacenter / x64  OK    OK    WARNINGS    OK  UNNEEDED, same version is already published
taishanLinux (openEuler 24.03 LTS) / aarch64  OK    OK    WARNINGS  
Package 3/43HostnameOS / ArchINSTALLBUILDCHECKBUILD BIN
AgiMicroRna 2.59.0  (landing page)
Pedro Lopez-Romero
git_last_commit: 733144f
git_last_commit_date: 2025-04-15 09:45:46 -0400
nebbiolo2Linux (Ubuntu 24.04.1 LTS) / x86_64  OK    OK    WARNINGS  UNNEEDED, same version is already published
palomino8Windows Server 2022 Datacenter / x64  OK    OK    WARNINGS    OK  UNNEEDED, same version is already published
taishanLinux (openEuler 24.03 LTS) / aarch64  OK    OK    WARNINGS  
Package 4/43HostnameOS / ArchINSTALLBUILDCHECKBUILD BIN
BloodGen3Module 1.17.0  (landing page)
Darawan Rinchai
git_last_commit: 5e2564f
git_last_commit_date: 2025-04-15 12:31:17 -0400
nebbiolo2Linux (Ubuntu 24.04.1 LTS) / x86_64  OK    ERROR  skipped
palomino8Windows Server 2022 Datacenter / x64  OK    OK    WARNINGS    OK  UNNEEDED, same version is already published
taishanLinux (openEuler 24.03 LTS) / aarch64  OK    OK    WARNINGS  
Package 5/43HostnameOS / ArchINSTALLBUILDCHECKBUILD BIN
bnbc 1.31.0  (landing page)
Kipper Fletez-Brant
git_last_commit: 8f9a052
git_last_commit_date: 2025-04-15 11:15:12 -0400
nebbiolo2Linux (Ubuntu 24.04.1 LTS) / x86_64  OK    OK    OK  UNNEEDED, same version is already published
palomino8Windows Server 2022 Datacenter / x64  OK    OK    OK    OK  UNNEEDED, same version is already published
taishanLinux (openEuler 24.03 LTS) / aarch64  OK    OK    OK  
Package 6/43HostnameOS / ArchINSTALLBUILDCHECKBUILD BIN
ChAMP 2.39.0  (landing page)
Yuan Tian
git_last_commit: f034f71
git_last_commit_date: 2025-04-15 10:27:23 -0400
nebbiolo2Linux (Ubuntu 24.04.1 LTS) / x86_64  OK    OK    WARNINGS  UNNEEDED, same version is already published
palomino8Windows Server 2022 Datacenter / x64  OK    OK    WARNINGS    OK  UNNEEDED, same version is already published
taishanLinux (openEuler 24.03 LTS) / aarch64  OK    OK    WARNINGS  
Package 7/43HostnameOS / ArchINSTALLBUILDCHECKBUILD BIN
cn.farms 1.57.0  (landing page)
Andreas Mitterecker
git_last_commit: 8dc209c
git_last_commit_date: 2025-04-15 10:02:31 -0400
nebbiolo2Linux (Ubuntu 24.04.1 LTS) / x86_64  ERROR    ERROR  skipped
palomino8Windows Server 2022 Datacenter / x64  ERROR    ERROR  skippedskipped
taishanLinux (openEuler 24.03 LTS) / aarch64  ERROR    ERROR  skipped
Package 8/43HostnameOS / ArchINSTALLBUILDCHECKBUILD BIN
CPSM 1.1.2  (landing page)
Harpreet Kaur
git_last_commit: 2044bc8
git_last_commit_date: 2025-05-01 19:15:53 -0400
nebbiolo2Linux (Ubuntu 24.04.1 LTS) / x86_64  OK    OK    OK  UNNEEDED, same version is already published
palomino8Windows Server 2022 Datacenter / x64  OK    OK    OK    OK  UNNEEDED, same version is already published
taishanLinux (openEuler 24.03 LTS) / aarch64  OK    OK    OK  
Package 9/43HostnameOS / ArchINSTALLBUILDCHECKBUILD BIN
crlmm 1.67.0  (landing page)
Benilton S Carvalho
git_last_commit: 3cf875c
git_last_commit_date: 2025-04-15 09:44:26 -0400
nebbiolo2Linux (Ubuntu 24.04.1 LTS) / x86_64  OK    OK    WARNINGS  UNNEEDED, same version is already published
palomino8Windows Server 2022 Datacenter / x64  OK    OK    ERROR    OK  
taishanLinux (openEuler 24.03 LTS) / aarch64  OK    ERROR  skipped
Package 10/43HostnameOS / ArchINSTALLBUILDCHECKBUILD BIN
crupR 1.1.0  (landing page)
Persia Akbari Omgba
git_last_commit: 789187e
git_last_commit_date: 2025-04-15 13:52:56 -0400
nebbiolo2Linux (Ubuntu 24.04.1 LTS) / x86_64  ERROR    ERROR  skipped
palomino8Windows Server 2022 Datacenter / x64  ERROR    ERROR  skippedskipped
taishanLinux (openEuler 24.03 LTS) / aarch64  ERROR    ERROR  skipped
Package 11/43HostnameOS / ArchINSTALLBUILDCHECKBUILD BIN
cypress 1.5.0  (landing page)
Shilin Yu
git_last_commit: 7533a01
git_last_commit_date: 2025-04-15 13:32:10 -0400
nebbiolo2Linux (Ubuntu 24.04.1 LTS) / x86_64  OK    OK    OK  UNNEEDED, same version is already published
palomino8Windows Server 2022 Datacenter / x64  OK    OK    OK    OK  UNNEEDED, same version is already published
taishanLinux (openEuler 24.03 LTS) / aarch64  OK    OK    OK  
Package 12/43HostnameOS / ArchINSTALLBUILDCHECKBUILD BIN
EMDomics 2.39.0  (landing page)
Sadhika Malladi and Daniel Schmolze
git_last_commit: b20a54b
git_last_commit_date: 2025-04-15 10:51:03 -0400
nebbiolo2Linux (Ubuntu 24.04.1 LTS) / x86_64  OK    OK    OK  UNNEEDED, same version is already published
palomino8Windows Server 2022 Datacenter / x64  OK    OK    OK    OK  UNNEEDED, same version is already published
taishanLinux (openEuler 24.03 LTS) / aarch64  OK    OK    OK  
Package 13/43HostnameOS / ArchINSTALLBUILDCHECKBUILD BIN
ExiMiR 2.51.0  (landing page)
Sylvain Gubian
git_last_commit: 9e1cb1f
git_last_commit_date: 2025-04-15 10:01:43 -0400
nebbiolo2Linux (Ubuntu 24.04.1 LTS) / x86_64  OK    OK    OK  UNNEEDED, same version is already published
palomino8Windows Server 2022 Datacenter / x64  OK    OK    OK    OK  UNNEEDED, same version is already published
taishanLinux (openEuler 24.03 LTS) / aarch64  OK    OK    OK  
Package 14/43HostnameOS / ArchINSTALLBUILDCHECKBUILD BIN
fastLiquidAssociation 1.45.0  (landing page)
Tina Gunderson
git_last_commit: 203ae57
git_last_commit_date: 2025-04-15 10:31:11 -0400
nebbiolo2Linux (Ubuntu 24.04.1 LTS) / x86_64  OK    OK    WARNINGS  UNNEEDED, same version is already published
palomino8Windows Server 2022 Datacenter / x64  OK    OK    WARNINGS    OK  UNNEEDED, same version is already published
taishanLinux (openEuler 24.03 LTS) / aarch64  OK    OK    WARNINGS  
Package 15/43HostnameOS / ArchINSTALLBUILDCHECKBUILD BIN
frma 1.61.0  (landing page)
Matthew N. McCall
git_last_commit: 76e5ddc
git_last_commit_date: 2025-04-15 09:46:26 -0400
nebbiolo2Linux (Ubuntu 24.04.1 LTS) / x86_64  OK    OK    OK  UNNEEDED, same version is already published
palomino8Windows Server 2022 Datacenter / x64  OK    OK    OK    OK  NO, package depends on 'oligo' which is only available as a source package that needs compilation
taishanLinux (openEuler 24.03 LTS) / aarch64  OK    OK    OK  
Package 16/43HostnameOS / ArchINSTALLBUILDCHECKBUILD BIN
frmaTools 1.61.0  (landing page)
Matthew N. McCall
git_last_commit: 4a561b6
git_last_commit_date: 2025-04-15 09:46:29 -0400
nebbiolo2Linux (Ubuntu 24.04.1 LTS) / x86_64  OK    OK    OK  UNNEEDED, same version is already published
palomino8Windows Server 2022 Datacenter / x64  OK    OK    OK    OK  UNNEEDED, same version is already published
taishanLinux (openEuler 24.03 LTS) / aarch64  OK    OK    ERROR  
Package 17/43HostnameOS / ArchINSTALLBUILDCHECKBUILD BIN
hipathia 3.9.0  (landing page)
Marta R. Hidalgo
git_last_commit: 29effee
git_last_commit_date: 2025-04-15 11:32:56 -0400
nebbiolo2Linux (Ubuntu 24.04.1 LTS) / x86_64  OK    OK    OK  UNNEEDED, same version is already published
palomino8Windows Server 2022 Datacenter / x64  OK    OK    OK    OK  UNNEEDED, same version is already published
taishanLinux (openEuler 24.03 LTS) / aarch64  OK    OK    OK  
Package 18/43HostnameOS / ArchINSTALLBUILDCHECKBUILD BIN
iCheck 1.39.0  (landing page)
Weiliang Qiu
git_last_commit: 659827a
git_last_commit_date: 2025-04-15 10:53:52 -0400
nebbiolo2Linux (Ubuntu 24.04.1 LTS) / x86_64  OK    OK    OK  UNNEEDED, same version is already published
palomino8Windows Server 2022 Datacenter / x64  OK    OK    OK    OK  UNNEEDED, same version is already published
taishanLinux (openEuler 24.03 LTS) / aarch64  OK    OK    OK  
Package 19/43HostnameOS / ArchINSTALLBUILDCHECKBUILD BIN
InPAS 2.17.0  (landing page)
Jianhong Ou
git_last_commit: 2288fe2
git_last_commit_date: 2025-04-15 10:49:15 -0400
nebbiolo2Linux (Ubuntu 24.04.1 LTS) / x86_64  OK    OK    WARNINGS  UNNEEDED, same version is already published
palomino8Windows Server 2022 Datacenter / x64  OK    OK    WARNINGS    OK  UNNEEDED, same version is already published
taishanLinux (openEuler 24.03 LTS) / aarch64  OK    ERROR  skipped
Package 20/43HostnameOS / ArchINSTALLBUILDCHECKBUILD BIN
lumi 2.61.0  (landing page)
Lei Huang
git_last_commit: 3b48271
git_last_commit_date: 2025-04-15 09:39:31 -0400
nebbiolo2Linux (Ubuntu 24.04.1 LTS) / x86_64  OK    OK    WARNINGS  UNNEEDED, same version is already published
palomino8Windows Server 2022 Datacenter / x64  OK    OK    WARNINGS    OK  UNNEEDED, same version is already published
taishanLinux (openEuler 24.03 LTS) / aarch64  OK    OK    WARNINGS  
Package 21/43HostnameOS / ArchINSTALLBUILDCHECKBUILD BIN
MADSEQ 1.35.0  (landing page)
Yu Kong
git_last_commit: ceda89e
git_last_commit_date: 2025-04-15 11:02:30 -0400
nebbiolo2Linux (Ubuntu 24.04.1 LTS) / x86_64  ERROR    ERROR  skipped
palomino8Windows Server 2022 Datacenter / x64  ERROR    ERROR  skippedskipped
taishanLinux (openEuler 24.03 LTS) / aarch64  ERROR    ERROR  skipped
Package 22/43HostnameOS / ArchINSTALLBUILDCHECKBUILD BIN
MBCB 1.63.0  (landing page)
Bo Yao
git_last_commit: a2fc9f1
git_last_commit_date: 2025-04-15 10:00:03 -0400
nebbiolo2Linux (Ubuntu 24.04.1 LTS) / x86_64  OK    OK    OK  UNNEEDED, same version is already published
palomino8Windows Server 2022 Datacenter / x64  OK    OK    OK    OK  UNNEEDED, same version is already published
taishanLinux (openEuler 24.03 LTS) / aarch64  OK    OK    OK  
Package 23/43HostnameOS / ArchINSTALLBUILDCHECKBUILD BIN
MBQN 2.21.0  (landing page)
Eva Brombacher
git_last_commit: baa5e00
git_last_commit_date: 2025-04-15 11:51:49 -0400
nebbiolo2Linux (Ubuntu 24.04.1 LTS) / x86_64  OK    OK    OK  UNNEEDED, same version is already published
palomino8Windows Server 2022 Datacenter / x64  OK    OK    OK    OK  UNNEEDED, same version is already published
taishanLinux (openEuler 24.03 LTS) / aarch64  OK    OK    OK  
Package 24/43HostnameOS / ArchINSTALLBUILDCHECKBUILD BIN
MEDIPS 1.61.0  (landing page)
Lukas Chavez
git_last_commit: 4e64f00
git_last_commit_date: 2025-04-15 10:01:10 -0400
nebbiolo2Linux (Ubuntu 24.04.1 LTS) / x86_64  OK    OK    OK  UNNEEDED, same version is already published
palomino8Windows Server 2022 Datacenter / x64  OK    OK    OK    OK  UNNEEDED, same version is already published
taishanLinux (openEuler 24.03 LTS) / aarch64  OK    OK    OK  
Package 25/43HostnameOS / ArchINSTALLBUILDCHECKBUILD BIN
methylclock 1.15.0  (landing page)
Dolors Pelegri-Siso
git_last_commit: 2eef027
git_last_commit_date: 2025-04-15 12:34:24 -0400
nebbiolo2Linux (Ubuntu 24.04.1 LTS) / x86_64  OK    OK    OK  UNNEEDED, same version is already published
palomino8Windows Server 2022 Datacenter / x64  OK    OK    OK    OK  UNNEEDED, same version is already published
taishanLinux (openEuler 24.03 LTS) / aarch64  OK    OK    OK  
Package 26/43HostnameOS / ArchINSTALLBUILDCHECKBUILD BIN
mimager 1.33.0  (landing page)
Aaron Wolen
git_last_commit: 3c4a5ea
git_last_commit_date: 2025-04-15 11:08:03 -0400
nebbiolo2Linux (Ubuntu 24.04.1 LTS) / x86_64  OK    OK    OK  UNNEEDED, same version is already published
palomino8Windows Server 2022 Datacenter / x64  OK    OK    OK    OK  NO, package depends on 'oligo' which is only available as a source package that needs compilation
taishanLinux (openEuler 24.03 LTS) / aarch64  OK    OK    OK  
Package 27/43HostnameOS / ArchINSTALLBUILDCHECKBUILD BIN
minfi 1.55.0  (landing page)
Kasper Daniel Hansen
git_last_commit: eae3a9e
git_last_commit_date: 2025-04-15 10:11:01 -0400
nebbiolo2Linux (Ubuntu 24.04.1 LTS) / x86_64  OK    OK    OK  UNNEEDED, same version is already published
palomino8Windows Server 2022 Datacenter / x64  OK    OK    OK    OK  UNNEEDED, same version is already published
taishanLinux (openEuler 24.03 LTS) / aarch64  OK    OK    OK  
Package 28/43HostnameOS / ArchINSTALLBUILDCHECKBUILD BIN
MSPrep 1.19.0  (landing page)
Max McGrath
git_last_commit: 1d38ba2
git_last_commit_date: 2025-04-15 12:10:24 -0400
nebbiolo2Linux (Ubuntu 24.04.1 LTS) / x86_64  OK    OK    OK  UNNEEDED, same version is already published
palomino8Windows Server 2022 Datacenter / x64  OK    OK    OK    OK  UNNEEDED, same version is already published
taishanLinux (openEuler 24.03 LTS) / aarch64  OK    OK    ERROR  
Package 29/43HostnameOS / ArchINSTALLBUILDCHECKBUILD BIN
MSstats 4.17.0  (landing page)
Meena Choi
git_last_commit: 907f742
git_last_commit_date: 2025-04-15 10:27:04 -0400
nebbiolo2Linux (Ubuntu 24.04.1 LTS) / x86_64  OK    OK    WARNINGS  UNNEEDED, same version is already published
palomino8Windows Server 2022 Datacenter / x64  OK    OK    WARNINGS    OK  UNNEEDED, same version is already published
taishanLinux (openEuler 24.03 LTS) / aarch64  OK    OK    WARNINGS  
Package 30/43HostnameOS / ArchINSTALLBUILDCHECKBUILD BIN
netZooR 1.13.0  (landing page)
Tara Eicher
git_last_commit: 1ae24c9
git_last_commit_date: 2025-04-15 12:43:30 -0400
nebbiolo2Linux (Ubuntu 24.04.1 LTS) / x86_64  ERROR    ERROR  skipped
palomino8Windows Server 2022 Datacenter / x64  ERROR    ERROR  skippedskipped
taishanLinux (openEuler 24.03 LTS) / aarch64  ERROR    ERROR  skipped
Package 31/43HostnameOS / ArchINSTALLBUILDCHECKBUILD BIN
NormalyzerDE 1.27.0  (landing page)
Jakob Willforss
git_last_commit: 01c5da0
git_last_commit_date: 2025-04-15 11:36:54 -0400
nebbiolo2Linux (Ubuntu 24.04.1 LTS) / x86_64  OK    OK    WARNINGS  UNNEEDED, same version is already published
palomino8Windows Server 2022 Datacenter / x64  OK    OK    WARNINGS    OK  UNNEEDED, same version is already published
taishanLinux (openEuler 24.03 LTS) / aarch64  OK    OK    WARNINGS  
Package 32/43HostnameOS / ArchINSTALLBUILDCHECKBUILD BIN
oligo 1.73.0  (landing page)
Benilton Carvalho
git_last_commit: 50bd1ff
git_last_commit_date: 2025-04-15 09:36:44 -0400
nebbiolo2Linux (Ubuntu 24.04.1 LTS) / x86_64  OK    OK    OK  UNNEEDED, same version is already published
palomino8Windows Server 2022 Datacenter / x64  OK    OK    ERROR    OK  
taishanLinux (openEuler 24.03 LTS) / aarch64  OK    OK    ERROR  
Package 33/43HostnameOS / ArchINSTALLBUILDCHECKBUILD BIN
PanomiR 1.13.0  (landing page)
Pourya Naderi
git_last_commit: b2d92b6
git_last_commit_date: 2025-04-15 12:45:24 -0400
nebbiolo2Linux (Ubuntu 24.04.1 LTS) / x86_64  OK    OK    OK  UNNEEDED, same version is already published
palomino8Windows Server 2022 Datacenter / x64  OK    OK    OK    OK  UNNEEDED, same version is already published
taishanLinux (openEuler 24.03 LTS) / aarch64  OK    OK    OK  
Package 34/43HostnameOS / ArchINSTALLBUILDCHECKBUILD BIN
PECA 1.45.0  (landing page)
Tomi Suomi
git_last_commit: 69d5028
git_last_commit_date: 2025-04-15 10:27:50 -0400
nebbiolo2Linux (Ubuntu 24.04.1 LTS) / x86_64  OK    OK    OK  UNNEEDED, same version is already published
palomino8Windows Server 2022 Datacenter / x64  OK    OK    OK    OK  UNNEEDED, same version is already published
taishanLinux (openEuler 24.03 LTS) / aarch64  OK    OK    OK  
Package 35/43HostnameOS / ArchINSTALLBUILDCHECKBUILD BIN
PhosR 1.19.0  (landing page)
Taiyun Kim
git_last_commit: b93efd8
git_last_commit_date: 2025-04-15 12:09:35 -0400
nebbiolo2Linux (Ubuntu 24.04.1 LTS) / x86_64  OK    OK    OK  UNNEEDED, same version is already published
palomino8Windows Server 2022 Datacenter / x64  OK    OK    OK    OK  UNNEEDED, same version is already published
taishanLinux (openEuler 24.03 LTS) / aarch64  OK    OK    ERROR  
Package 36/43HostnameOS / ArchINSTALLBUILDCHECKBUILD BIN
Pigengene 1.35.0  (landing page)
Habil Zare
git_last_commit: ab1017c
git_last_commit_date: 2025-04-15 11:02:19 -0400
nebbiolo2Linux (Ubuntu 24.04.1 LTS) / x86_64  OK    OK    OK  UNNEEDED, same version is already published
palomino8Windows Server 2022 Datacenter / x64  OK    OK    ERROR    OK  
taishanLinux (openEuler 24.03 LTS) / aarch64  OK    OK    OK  
Package 37/43HostnameOS / ArchINSTALLBUILDCHECKBUILD BIN
PRONE 1.3.0  (landing page)
Lis Arend
git_last_commit: 69ecef7
git_last_commit_date: 2025-04-15 13:42:28 -0400
nebbiolo2Linux (Ubuntu 24.04.1 LTS) / x86_64  OK    OK    OK  UNNEEDED, same version is already published
palomino8Windows Server 2022 Datacenter / x64  OK    OK    OK    OK  UNNEEDED, same version is already published
taishanLinux (openEuler 24.03 LTS) / aarch64  OK    OK    OK  
Package 38/43HostnameOS / ArchINSTALLBUILDCHECKBUILD BIN
qPLEXanalyzer 1.27.0  (landing page)
Ashley Sawle
git_last_commit: 2f9ab92
git_last_commit_date: 2025-04-15 11:34:58 -0400
nebbiolo2Linux (Ubuntu 24.04.1 LTS) / x86_64  OK    OK    OK  UNNEEDED, same version is already published
palomino8Windows Server 2022 Datacenter / x64  OK    OK    OK    OK  UNNEEDED, same version is already published
taishanLinux (openEuler 24.03 LTS) / aarch64  OK    OK    OK  
Package 39/43HostnameOS / ArchINSTALLBUILDCHECKBUILD BIN
quantiseqr 1.17.0  (landing page)
Federico Marini
git_last_commit: 50ca781
git_last_commit_date: 2025-04-15 12:28:38 -0400
nebbiolo2Linux (Ubuntu 24.04.1 LTS) / x86_64  OK    OK    OK  UNNEEDED, same version is already published
palomino8Windows Server 2022 Datacenter / x64  OK    OK    OK    OK  UNNEEDED, same version is already published
taishanLinux (openEuler 24.03 LTS) / aarch64  OK    OK    ERROR  
Package 40/43HostnameOS / ArchINSTALLBUILDCHECKBUILD BIN
sesame 1.27.0  (landing page)
Wanding Zhou
git_last_commit: ae005d1
git_last_commit_date: 2025-04-15 11:34:53 -0400
nebbiolo2Linux (Ubuntu 24.04.1 LTS) / x86_64  OK    OK    OK  UNNEEDED, same version is already published
palomino8Windows Server 2022 Datacenter / x64  OK    OK    OK    OK  UNNEEDED, same version is already published
taishanLinux (openEuler 24.03 LTS) / aarch64  OK    OK    OK  
Package 41/43HostnameOS / ArchINSTALLBUILDCHECKBUILD BIN
soGGi 1.41.0  (landing page)
Tom Carroll
git_last_commit: f849a46
git_last_commit_date: 2025-04-15 10:50:26 -0400
nebbiolo2Linux (Ubuntu 24.04.1 LTS) / x86_64  OK    OK    OK  UNNEEDED, same version is already published
palomino8Windows Server 2022 Datacenter / x64  OK    OK    OK    OK  UNNEEDED, same version is already published
taishanLinux (openEuler 24.03 LTS) / aarch64  OK    OK    OK  
Package 42/43HostnameOS / ArchINSTALLBUILDCHECKBUILD BIN
tidybulk 1.21.0  (landing page)
Stefano Mangiola
git_last_commit: f6536c9
git_last_commit_date: 2025-04-15 11:55:32 -0400
nebbiolo2Linux (Ubuntu 24.04.1 LTS) / x86_64  OK    OK    OK  UNNEEDED, same version is already published
palomino8Windows Server 2022 Datacenter / x64  OK    OK    OK    OK  UNNEEDED, same version is already published
taishanLinux (openEuler 24.03 LTS) / aarch64  OK    OK    OK  
Package 43/43HostnameOS / ArchINSTALLBUILDCHECKBUILD BIN
yarn 1.35.0  (landing page)
Joseph N Paulson
git_last_commit: 8ac9b04
git_last_commit_date: 2025-04-15 11:07:01 -0400
nebbiolo2Linux (Ubuntu 24.04.1 LTS) / x86_64  OK    OK    OK  UNNEEDED, same version is already published
palomino8Windows Server 2022 Datacenter / x64  OK    OK    ERROR    OK  
taishanLinux (openEuler 24.03 LTS) / aarch64  OK    OK    OK