| Back to Multiple platform build/check report for BioC 3.22: simplified long |
|
This page was generated on 2025-10-25 12:03 -0400 (Sat, 25 Oct 2025).
| Hostname | OS | Arch (*) | R version | Installed pkgs |
|---|---|---|---|---|
| nebbiolo2 | Linux (Ubuntu 24.04.3 LTS) | x86_64 | 4.5.1 Patched (2025-08-23 r88802) -- "Great Square Root" | 4901 |
| lconway | macOS 12.7.6 Monterey | x86_64 | 4.5.1 Patched (2025-09-10 r88807) -- "Great Square Root" | 4691 |
| kjohnson3 | macOS 13.7.7 Ventura | arm64 | 4.5.1 Patched (2025-09-10 r88807) -- "Great Square Root" | 4637 |
| taishan | Linux (openEuler 24.03 LTS) | aarch64 | 4.5.0 (2025-04-11) -- "How About a Twenty-Six" | 4658 |
| Click on any hostname to see more info about the system (e.g. compilers) (*) as reported by 'uname -p', except on Windows and Mac OS X | ||||
| Package 400/2361 | Hostname | OS / Arch | INSTALL | BUILD | CHECK | BUILD BIN | ||||||||
| cn.farms 1.57.2 (landing page) Andreas Mitterecker
| nebbiolo2 | Linux (Ubuntu 24.04.3 LTS) / x86_64 | OK | OK | OK | |||||||||
| lconway | macOS 12.7.6 Monterey / x86_64 | OK | OK | OK | OK | |||||||||
| kjohnson3 | macOS 13.7.7 Ventura / arm64 | OK | OK | OK | OK | |||||||||
| taishan | Linux (openEuler 24.03 LTS) / aarch64 | OK | NA | NA | ||||||||||
|
To the developers/maintainers of the cn.farms package: - Allow up to 24 hours (and sometimes 48 hours) for your latest push to git@git.bioconductor.org:packages/cn.farms.git to reflect on this report. See Troubleshooting Build Report for more information. - Use the following Renviron settings to reproduce errors and warnings. - If 'R CMD check' started to fail recently on the Linux builder(s) over a missing dependency, add the missing dependency to 'Suggests:' in your DESCRIPTION file. See Renviron.bioc for more information. |
| Package: cn.farms |
| Version: 1.57.2 |
| Command: /home/biocbuild/bbs-3.22-bioc/R/bin/R CMD INSTALL cn.farms |
| StartedAt: 2025-10-24 15:49:11 -0400 (Fri, 24 Oct 2025) |
| EndedAt: 2025-10-24 15:49:42 -0400 (Fri, 24 Oct 2025) |
| EllapsedTime: 30.8 seconds |
| RetCode: 0 |
| Status: OK |
##############################################################################
##############################################################################
###
### Running command:
###
### /home/biocbuild/bbs-3.22-bioc/R/bin/R CMD INSTALL cn.farms
###
##############################################################################
##############################################################################
* installing to library ‘/home/biocbuild/bbs-3.22-bioc/R/site-library’
* installing *source* package ‘cn.farms’ ...
** this is package ‘cn.farms’ version ‘1.57.2’
** using staged installation
** libs
using C compiler: ‘gcc (Ubuntu 13.3.0-6ubuntu2~24.04) 13.3.0’
using C++ compiler: ‘g++ (Ubuntu 13.3.0-6ubuntu2~24.04) 13.3.0’
gcc -std=gnu2x -I"/home/biocbuild/bbs-3.22-bioc/R/include" -DNDEBUG -I/usr/local/include -fpic -g -O2 -Wall -Werror=format-security -c R_init_cnfarms.c -o R_init_cnfarms.o
g++ -std=gnu++17 -I"/home/biocbuild/bbs-3.22-bioc/R/include" -DNDEBUG -I/usr/local/include -fpic -g -O2 -Wall -Werror=format-security -c laplace.cpp -o laplace.o
laplace.cpp: In function ‘SEXPREC* momentsGauss(SEXP, SEXP, SEXP, SEXP, SEXP, SEXP, SEXP, SEXP, SEXP, SEXP)’:
laplace.cpp:442:13: warning: unused variable ‘method’ [-Wunused-variable]
442 | int method=0;
| ^~~~~~
laplace.cpp: In function ‘void computeParameters(double, double, double, double, double, double, int&, double&, double&, double&, double&, double&, double&, double&, double&, double&, double&, double&, double&, double&, double&)’:
laplace.cpp:393:93: warning: ‘I1left’ may be used uninitialized [-Wmaybe-uninitialized]
393 | moment2 = (-0.5*a+0.25*(b-1/sigmaZ)*(b-1/sigmaZ)+(b*leftWeight)/(sigmaZ)+(leftWeight*I1left*sqrtMa)/(sqrt(2.0)*sigmaZ))/(a*a);
| ~~~~~~~~~~^~~~~~~
laplace.cpp:198:16: note: ‘I1left’ was declared here
198 | double I1left;
| ^~~~~~
laplace.cpp:368:63: warning: ‘I1right’ may be used uninitialized [-Wmaybe-uninitialized]
368 | double rightMoment1=1.0*rightMy*I0right+1.0*rightSigma*I1right;
| ~~~~~~~~~~~~~~^~~~~~~~
laplace.cpp:199:16: note: ‘I1right’ was declared here
199 | double I1right;
| ^~~~~~~
gcc -std=gnu2x -I"/home/biocbuild/bbs-3.22-bioc/R/include" -DNDEBUG -I/usr/local/include -fpic -g -O2 -Wall -Werror=format-security -c sparse_farms.c -o sparse_farms.o
g++ -std=gnu++17 -shared -L/home/biocbuild/bbs-3.22-bioc/R/lib -L/usr/local/lib -o cn.farms.so R_init_cnfarms.o laplace.o sparse_farms.o -L/home/biocbuild/bbs-3.22-bioc/R/lib -lR
installing to /home/biocbuild/bbs-3.22-bioc/R/site-library/00LOCK-cn.farms/00new/cn.farms/libs
** R
** demo
** inst
** byte-compile and prepare package for lazy loading
** help
*** installing help indices
** building package indices
** installing vignettes
** testing if installed package can be loaded from temporary location
** checking absolute paths in shared objects and dynamic libraries
** testing if installed package can be loaded from final location
** testing if installed package keeps a record of temporary installation path
* DONE (cn.farms)