| Back to Multiple platform build/check report for BioC 3.22: simplified long |
|
This page was generated on 2025-10-24 12:05 -0400 (Fri, 24 Oct 2025).
| Hostname | OS | Arch (*) | R version | Installed pkgs |
|---|---|---|---|---|
| nebbiolo2 | Linux (Ubuntu 24.04.3 LTS) | x86_64 | 4.5.1 Patched (2025-08-23 r88802) -- "Great Square Root" | 4898 |
| lconway | macOS 12.7.6 Monterey | x86_64 | 4.5.1 Patched (2025-09-10 r88807) -- "Great Square Root" | 4688 |
| kjohnson3 | macOS 13.7.7 Ventura | arm64 | 4.5.1 Patched (2025-09-10 r88807) -- "Great Square Root" | 4634 |
| taishan | Linux (openEuler 24.03 LTS) | aarch64 | 4.5.0 (2025-04-11) -- "How About a Twenty-Six" | 4658 |
| Click on any hostname to see more info about the system (e.g. compilers) (*) as reported by 'uname -p', except on Windows and Mac OS X | ||||
| Package 1614/2359 | Hostname | OS / Arch | INSTALL | BUILD | CHECK | BUILD BIN | ||||||||
| plyinteractions 1.7.1 (landing page) Jacques Serizay
| nebbiolo2 | Linux (Ubuntu 24.04.3 LTS) / x86_64 | OK | OK | OK | |||||||||
| lconway | macOS 12.7.6 Monterey / x86_64 | OK | OK | OK | OK | |||||||||
| kjohnson3 | macOS 13.7.7 Ventura / arm64 | OK | OK | OK | OK | |||||||||
| taishan | Linux (openEuler 24.03 LTS) / aarch64 | OK | ERROR | skipped | ||||||||||
|
To the developers/maintainers of the plyinteractions package: - Allow up to 24 hours (and sometimes 48 hours) for your latest push to git@git.bioconductor.org:packages/plyinteractions.git to reflect on this report. See Troubleshooting Build Report for more information. - Use the following Renviron settings to reproduce errors and warnings. - If 'R CMD check' started to fail recently on the Linux builder(s) over a missing dependency, add the missing dependency to 'Suggests:' in your DESCRIPTION file. See Renviron.bioc for more information. |
| Package: plyinteractions |
| Version: 1.7.1 |
| Command: /Library/Frameworks/R.framework/Resources/bin/R CMD check --install=check:plyinteractions.install-out.txt --library=/Library/Frameworks/R.framework/Resources/library --no-vignettes --timings plyinteractions_1.7.1.tar.gz |
| StartedAt: 2025-10-23 23:16:27 -0400 (Thu, 23 Oct 2025) |
| EndedAt: 2025-10-23 23:21:34 -0400 (Thu, 23 Oct 2025) |
| EllapsedTime: 306.4 seconds |
| RetCode: 0 |
| Status: OK |
| CheckDir: plyinteractions.Rcheck |
| Warnings: 0 |
##############################################################################
##############################################################################
###
### Running command:
###
### /Library/Frameworks/R.framework/Resources/bin/R CMD check --install=check:plyinteractions.install-out.txt --library=/Library/Frameworks/R.framework/Resources/library --no-vignettes --timings plyinteractions_1.7.1.tar.gz
###
##############################################################################
##############################################################################
* using log directory ‘/Users/biocbuild/bbs-3.22-bioc/meat/plyinteractions.Rcheck’
* using R version 4.5.1 Patched (2025-09-10 r88807)
* using platform: x86_64-apple-darwin20
* R was compiled by
Apple clang version 14.0.0 (clang-1400.0.29.202)
GNU Fortran (GCC) 14.2.0
* running under: macOS Monterey 12.7.6
* using session charset: UTF-8
* using option ‘--no-vignettes’
* checking for file ‘plyinteractions/DESCRIPTION’ ... OK
* this is package ‘plyinteractions’ version ‘1.7.1’
* package encoding: UTF-8
* checking package namespace information ... OK
* checking package dependencies ... OK
* checking if this is a source package ... OK
* checking if there is a namespace ... OK
* checking for hidden files and directories ... OK
* checking for portable file names ... OK
* checking for sufficient/correct file permissions ... OK
* checking whether package ‘plyinteractions’ can be installed ... OK
* checking installed package size ... OK
* checking package directory ... OK
* checking ‘build’ directory ... OK
* checking DESCRIPTION meta-information ... OK
* checking top-level files ... OK
* checking for left-over files ... OK
* checking index information ... OK
* checking package subdirectories ... OK
* checking code files for non-ASCII characters ... OK
* checking R files for syntax errors ... OK
* checking whether the package can be loaded ... OK
* checking whether the package can be loaded with stated dependencies ... OK
* checking whether the package can be unloaded cleanly ... OK
* checking whether the namespace can be loaded with stated dependencies ... OK
* checking whether the namespace can be unloaded cleanly ... OK
* checking dependencies in R code ... OK
* checking S3 generic/method consistency ... OK
* checking replacement functions ... OK
* checking foreign function calls ... OK
* checking R code for possible problems ... NOTE
count.GInteractions: no visible binding for global variable ‘group’
pair_granges: no visible global function definition for ‘combn’
write_bedpe: no visible binding for global variable ‘name’
write_bedpe: no visible binding for global variable ‘score’
write_pairs: no visible binding for global variable ‘name’
Undefined global functions or variables:
combn group name score
Consider adding
importFrom("utils", "combn")
to your NAMESPACE file.
* checking Rd files ... OK
* checking Rd metadata ... OK
* checking Rd cross-references ... NOTE
Found the following Rd file(s) with Rd \link{} targets missing package
anchors:
ginteractions-construct.Rd: DataFrame
Please provide package anchors for all Rd \link{} targets not in the
package itself and the base packages.
* checking for missing documentation entries ... OK
* checking for code/documentation mismatches ... OK
* checking Rd \usage sections ... OK
* checking Rd contents ... OK
* checking for unstated dependencies in examples ... OK
* checking contents of ‘data’ directory ... OK
* checking data for non-ASCII characters ... OK
* checking data for ASCII and uncompressed saves ... OK
* checking files in ‘vignettes’ ... OK
* checking examples ... OK
* checking for unstated dependencies in ‘tests’ ... OK
* checking tests ...
Running ‘testthat.R’
OK
* checking for unstated dependencies in vignettes ... OK
* checking package vignettes ... OK
* checking running R code from vignettes ... SKIPPED
* checking re-building of vignette outputs ... SKIPPED
* checking PDF version of manual ... OK
* DONE
Status: 2 NOTEs
See
‘/Users/biocbuild/bbs-3.22-bioc/meat/plyinteractions.Rcheck/00check.log’
for details.
plyinteractions.Rcheck/00install.out
############################################################################## ############################################################################## ### ### Running command: ### ### /Library/Frameworks/R.framework/Resources/bin/R CMD INSTALL plyinteractions ### ############################################################################## ############################################################################## * installing to library ‘/Library/Frameworks/R.framework/Versions/4.5-x86_64/Resources/library’ * installing *source* package ‘plyinteractions’ ... ** this is package ‘plyinteractions’ version ‘1.7.1’ ** using staged installation ** R ** data ** inst ** byte-compile and prepare package for lazy loading ** help *** installing help indices *** copying figures ** building package indices ** installing vignettes ** testing if installed package can be loaded from temporary location ** testing if installed package can be loaded from final location ** testing if installed package keeps a record of temporary installation path * DONE (plyinteractions)
plyinteractions.Rcheck/tests/testthat.Rout
R version 4.5.1 Patched (2025-09-10 r88807) -- "Great Square Root"
Copyright (C) 2025 The R Foundation for Statistical Computing
Platform: x86_64-apple-darwin20
R is free software and comes with ABSOLUTELY NO WARRANTY.
You are welcome to redistribute it under certain conditions.
Type 'license()' or 'licence()' for distribution details.
R is a collaborative project with many contributors.
Type 'contributors()' for more information and
'citation()' on how to cite R or R packages in publications.
Type 'demo()' for some demos, 'help()' for on-line help, or
'help.start()' for an HTML browser interface to help.
Type 'q()' to quit R.
> # This file is part of the standard setup for testthat.
> # It is recommended that you do not modify it.
> #
> # Where should you do additional test configuration?
> # Learn more about the roles of various files in:
> # * https://r-pkgs.org/testing-design.html#sec-tests-files-overview
> # * https://testthat.r-lib.org/articles/special-files.html
>
> library(testthat)
> library(plyinteractions)
Attaching package: 'plyinteractions'
The following object is masked from 'package:stats':
filter
>
> gi <- read.table(text = "
+ chr1 11 20 chr1 21 30 + +
+ chr1 11 20 chr1 51 55 + +
+ chr1 11 30 chr1 51 55 - -
+ chr1 11 30 chr2 51 60 - -",
+ col.names = c(
+ "seqnames1", "start1", "end1",
+ "seqnames2", "start2", "end2", "strand1", "strand2")
+ ) |>
+ as_ginteractions() |>
+ mutate(score = runif(4), type = c('cis', 'cis', 'cis', 'trans'))
>
> test_check("plyinteractions")
GInteractions object with 4 interactions and 2 metadata columns:
seqnames1 ranges1 strand1 seqnames2 ranges2 strand2 | score
<Rle> <IRanges> <Rle> <Rle> <IRanges> <Rle> | <numeric>
[1] chr1 11-20 + --- chr1 21-30 + | 0.86091538
[2] chr1 11-20 + --- chr1 51-55 + | 0.64031061
[3] chr1 11-30 - --- chr1 51-55 - | 0.00949576
[4] chr1 11-30 - --- chr2 51-60 - | 0.23255051
type
<character>
[1] cis
[2] cis
[3] cis
[4] trans
-------
regions: 6 ranges and 0 metadata columns
seqinfo: 2 sequences from an unspecified genome; no seqlengths
PinnedGInteractions object with 4 interactions and 2 metadata columns:
Pinned on: anchors2
seqnames1 ranges1 strand1 seqnames2 ranges2 strand2 | score
<Rle> <IRanges> <Rle> <Rle> <IRanges> <Rle> | <numeric>
[1] chr1 11-20 + --- chr1 21-30 + | 0.86091538
[2] chr1 11-20 + --- chr1 51-55 + | 0.64031061
[3] chr1 11-30 - --- chr1 51-55 - | 0.00949576
[4] chr1 11-30 - --- chr2 51-60 - | 0.23255051
type
<character>
[1] cis
[2] cis
[3] cis
[4] trans
-------
regions: 6 ranges and 0 metadata columns
seqinfo: 2 sequences from an unspecified genome; no seqlengths
AnchoredPinnedGInteractions object with 4 interactions and 2 metadata columns:
Pinned on: anchors2 | Anchored by: 5p
seqnames1 ranges1 strand1 seqnames2 ranges2 strand2 | score
<Rle> <IRanges> <Rle> <Rle> <IRanges> <Rle> | <numeric>
[1] chr1 11-20 + --- chr1 21-30 + | 0.86091538
[2] chr1 11-20 + --- chr1 51-55 + | 0.64031061
[3] chr1 11-30 - --- chr1 51-55 - | 0.00949576
[4] chr1 11-30 - --- chr2 51-60 - | 0.23255051
type
<character>
[1] cis
[2] cis
[3] cis
[4] trans
-------
regions: 6 ranges and 0 metadata columns
seqinfo: 2 sequences from an unspecified genome; no seqlengths
GroupedGInteractions object with 4 interactions and 3 metadata columns:
Groups: group [2]
seqnames1 ranges1 strand1 seqnames2 ranges2 strand2 | score
<Rle> <IRanges> <Rle> <Rle> <IRanges> <Rle> | <numeric>
[1] chr1 11-20 + --- chr1 21-30 + | 0.86091538
[2] chr1 11-20 + --- chr1 51-55 + | 0.64031061
[3] chr1 11-30 - --- chr1 51-55 - | 0.00949576
[4] chr1 11-30 - --- chr2 51-60 - | 0.23255051
type group
<character> <numeric>
[1] cis 1
[2] cis 1
[3] cis 2
[4] trans 2
-------
regions: 6 ranges and 0 metadata columns
seqinfo: 2 sequences from an unspecified genome; no seqlengths
AnchoredPinnedGInteractions object with 4 interactions and 2 metadata columns:
Pinned on: anchors2 | Anchored by: 5p
seqnames1 ranges1 strand1 seqnames2 ranges2 strand2 | score
<Rle> <IRanges> <Rle> <Rle> <IRanges> <Rle> | <numeric>
[1] chr1 11-20 + --- chr1 21-30 + | 0.86091538
[2] chr1 11-20 + --- chr1 51-55 + | 0.64031061
[3] chr1 11-30 - --- chr1 51-55 - | 0.00949576
[4] chr1 11-30 - --- chr2 51-60 - | 0.23255051
type
<character>
[1] cis
[2] cis
[3] cis
[4] trans
-------
regions: 6 ranges and 0 metadata columns
seqinfo: 2 sequences from an unspecified genome; no seqlengths
Detected `seqlengths:`
chr1 chr2
55 60
Provided `seqlengths:`
chr1 chr2
100 30
[ FAIL 0 | WARN 0 | SKIP 0 | PASS 189 ]
>
> proc.time()
user system elapsed
23.113 0.923 24.201
plyinteractions.Rcheck/plyinteractions-Ex.timings
| name | user | system | elapsed | |
| add-pairdist | 0.229 | 0.004 | 0.235 | |
| dplyr-arrange | 1.506 | 0.036 | 1.547 | |
| dplyr-count | 0.808 | 0.062 | 0.875 | |
| dplyr-filter | 0.584 | 0.049 | 0.637 | |
| dplyr-group_by | 0.785 | 0.008 | 0.798 | |
| dplyr-mutate | 1.422 | 0.012 | 1.441 | |
| dplyr-rename | 0.171 | 0.002 | 0.173 | |
| dplyr-select | 0.321 | 0.006 | 0.327 | |
| dplyr-slice | 0.102 | 0.002 | 0.104 | |
| dplyr-summarize | 0.607 | 0.005 | 0.616 | |
| ginteractions-anchor | 0.169 | 0.001 | 0.172 | |
| ginteractions-annotate | 3.111 | 0.118 | 3.388 | |
| ginteractions-construct | 0.781 | 0.019 | 0.805 | |
| ginteractions-count-overlaps | 0.366 | 0.003 | 0.370 | |
| ginteractions-export | 0.128 | 0.002 | 0.130 | |
| ginteractions-filter-overlaps | 0.497 | 0.021 | 0.521 | |
| ginteractions-find-overlaps | 0.560 | 0.022 | 0.583 | |
| ginteractions-getters | 0.175 | 0.002 | 0.178 | |
| ginteractions-join-overlap-left | 0.766 | 0.008 | 0.777 | |
| ginteractions-pin | 0.287 | 0.005 | 0.292 | |
| group-group_data | 0.216 | 0.002 | 0.219 | |
| pair-granges | 0.033 | 0.000 | 0.033 | |
| plyranges-flank | 0.451 | 0.003 | 0.457 | |
| plyranges-shift | 0.603 | 0.004 | 0.610 | |
| plyranges-stretch | 0.656 | 0.007 | 0.668 | |
| reexports | 0 | 0 | 0 | |
| replace_anchors | 0.765 | 0.006 | 0.776 | |