| Back to Multiple platform build/check report for BioC 3.22: simplified long |
|
This page was generated on 2025-08-15 12:07 -0400 (Fri, 15 Aug 2025).
| Hostname | OS | Arch (*) | R version | Installed pkgs |
|---|---|---|---|---|
| nebbiolo2 | Linux (Ubuntu 24.04.3 LTS) | x86_64 | 4.5.1 (2025-06-13) -- "Great Square Root" | 4818 |
| palomino8 | Windows Server 2022 Datacenter | x64 | 4.5.1 (2025-06-13 ucrt) -- "Great Square Root" | 4554 |
| lconway | macOS 12.7.1 Monterey | x86_64 | 4.5.1 (2025-06-13) -- "Great Square Root" | 4595 |
| kjohnson3 | macOS 13.7.7 Ventura | arm64 | 4.5.1 Patched (2025-06-14 r88325) -- "Great Square Root" | 4537 |
| taishan | Linux (openEuler 24.03 LTS) | aarch64 | 4.5.0 (2025-04-11) -- "How About a Twenty-Six" | 4535 |
| Click on any hostname to see more info about the system (e.g. compilers) (*) as reported by 'uname -p', except on Windows and Mac OS X | ||||
| Package 1550/2317 | Hostname | OS / Arch | INSTALL | BUILD | CHECK | BUILD BIN | ||||||||
| pgxRpi 1.5.4 (landing page) Hangjia Zhao
| nebbiolo2 | Linux (Ubuntu 24.04.3 LTS) / x86_64 | OK | OK | OK | |||||||||
| palomino8 | Windows Server 2022 Datacenter / x64 | OK | OK | OK | OK | |||||||||
| lconway | macOS 12.7.1 Monterey / x86_64 | OK | OK | OK | OK | |||||||||
| kjohnson3 | macOS 13.7.7 Ventura / arm64 | OK | OK | OK | OK | |||||||||
| taishan | Linux (openEuler 24.03 LTS) / aarch64 | OK | OK | OK | ||||||||||
|
To the developers/maintainers of the pgxRpi package: - Allow up to 24 hours (and sometimes 48 hours) for your latest push to git@git.bioconductor.org:packages/pgxRpi.git to reflect on this report. See Troubleshooting Build Report for more information. - Use the following Renviron settings to reproduce errors and warnings. - If 'R CMD check' started to fail recently on the Linux builder(s) over a missing dependency, add the missing dependency to 'Suggests:' in your DESCRIPTION file. See Renviron.bioc for more information. |
| Package: pgxRpi |
| Version: 1.5.4 |
| Command: F:\biocbuild\bbs-3.22-bioc\R\bin\R.exe CMD check --no-multiarch --install=check:pgxRpi.install-out.txt --library=F:\biocbuild\bbs-3.22-bioc\R\library --no-vignettes --timings pgxRpi_1.5.4.tar.gz |
| StartedAt: 2025-08-15 06:21:15 -0400 (Fri, 15 Aug 2025) |
| EndedAt: 2025-08-15 06:31:01 -0400 (Fri, 15 Aug 2025) |
| EllapsedTime: 585.5 seconds |
| RetCode: 0 |
| Status: OK |
| CheckDir: pgxRpi.Rcheck |
| Warnings: 0 |
##############################################################################
##############################################################################
###
### Running command:
###
### F:\biocbuild\bbs-3.22-bioc\R\bin\R.exe CMD check --no-multiarch --install=check:pgxRpi.install-out.txt --library=F:\biocbuild\bbs-3.22-bioc\R\library --no-vignettes --timings pgxRpi_1.5.4.tar.gz
###
##############################################################################
##############################################################################
* using log directory 'F:/biocbuild/bbs-3.22-bioc/meat/pgxRpi.Rcheck'
* using R version 4.5.1 (2025-06-13 ucrt)
* using platform: x86_64-w64-mingw32
* R was compiled by
gcc.exe (GCC) 14.2.0
GNU Fortran (GCC) 14.2.0
* running under: Windows Server 2022 x64 (build 20348)
* using session charset: UTF-8
* using option '--no-vignettes'
* checking for file 'pgxRpi/DESCRIPTION' ... OK
* this is package 'pgxRpi' version '1.5.4'
* package encoding: UTF-8
* checking package namespace information ... OK
* checking package dependencies ... OK
* checking if this is a source package ... OK
* checking if there is a namespace ... OK
* checking for hidden files and directories ... OK
* checking for portable file names ... OK
* checking whether package 'pgxRpi' can be installed ... OK
* checking installed package size ... OK
* checking package directory ... OK
* checking 'build' directory ... OK
* checking DESCRIPTION meta-information ... OK
* checking top-level files ... OK
* checking for left-over files ... OK
* checking index information ... OK
* checking package subdirectories ... OK
* checking code files for non-ASCII characters ... OK
* checking R files for syntax errors ... OK
* checking whether the package can be loaded ... OK
* checking whether the package can be loaded with stated dependencies ... OK
* checking whether the package can be unloaded cleanly ... OK
* checking whether the namespace can be loaded with stated dependencies ... OK
* checking whether the namespace can be unloaded cleanly ... OK
* checking dependencies in R code ... OK
* checking S3 generic/method consistency ... OK
* checking replacement functions ... OK
* checking foreign function calls ... OK
* checking R code for possible problems ... NOTE
pgxSegprocess: no visible binding for global variable
'followup_state_id'
Undefined global functions or variables:
followup_state_id
* checking Rd files ... OK
* checking Rd metadata ... OK
* checking Rd cross-references ... OK
* checking for missing documentation entries ... OK
* checking for code/documentation mismatches ... OK
* checking Rd \usage sections ... OK
* checking Rd contents ... OK
* checking for unstated dependencies in examples ... OK
* checking contents of 'data' directory ... OK
* checking data for non-ASCII characters ... OK
* checking data for ASCII and uncompressed saves ... OK
* checking files in 'vignettes' ... OK
* checking examples ... OK
Examples with CPU (user + system) or elapsed time > 5s
user system elapsed
pgxLoader 144.20 1.30 155.01
pgxMetaplot 28.96 0.45 33.86
pgxFreqplot 6.33 0.17 8.41
* checking for unstated dependencies in 'tests' ... OK
* checking tests ...
Running 'testthat.R'
OK
* checking for unstated dependencies in vignettes ... OK
* checking package vignettes ... OK
* checking running R code from vignettes ... SKIPPED
* checking re-building of vignette outputs ... SKIPPED
* checking PDF version of manual ... OK
* DONE
Status: 1 NOTE
See
'F:/biocbuild/bbs-3.22-bioc/meat/pgxRpi.Rcheck/00check.log'
for details.
pgxRpi.Rcheck/00install.out
############################################################################## ############################################################################## ### ### Running command: ### ### F:\biocbuild\bbs-3.22-bioc\R\bin\R.exe CMD INSTALL pgxRpi ### ############################################################################## ############################################################################## * installing to library 'F:/biocbuild/bbs-3.22-bioc/R/library' * installing *source* package 'pgxRpi' ... ** this is package 'pgxRpi' version '1.5.4' ** using staged installation ** R ** data ** inst ** byte-compile and prepare package for lazy loading ** help *** installing help indices ** building package indices ** installing vignettes ** testing if installed package can be loaded from temporary location ** testing if installed package can be loaded from final location ** testing if installed package keeps a record of temporary installation path * DONE (pgxRpi)
pgxRpi.Rcheck/tests/testthat.Rout
R version 4.5.1 (2025-06-13 ucrt) -- "Great Square Root"
Copyright (C) 2025 The R Foundation for Statistical Computing
Platform: x86_64-w64-mingw32/x64
R is free software and comes with ABSOLUTELY NO WARRANTY.
You are welcome to redistribute it under certain conditions.
Type 'license()' or 'licence()' for distribution details.
R is a collaborative project with many contributors.
Type 'contributors()' for more information and
'citation()' on how to cite R or R packages in publications.
Type 'demo()' for some demos, 'help()' for on-line help, or
'help.start()' for an HTML browser interface to help.
Type 'q()' to quit R.
> library(testthat)
> library(pgxRpi)
>
> test_check("pgxRpi")
trying: http://www.progenetix.org/services/intervalFrequencies/?filters=NCIT:C4323,pgx:icdom-85003
trying: http://progenetix.org/beacon/biosamples?filters=NCIT:C3697
trying: http://progenetix.org/beacon/biosamples/pgxbs-kftvh94d,pgxbs-kftvh94g
trying: http://progenetix.org/beacon/biosamples/pgxbs-kftvh94d,pgxbs-kftvjji1/individuals
trying: http://progenetix.org/beacon/individuals/pgxind-kftx3565,pgxind-kftx5g4v
trying: http://progenetix.org/beacon/individuals?filters=NCIT:C3512&limit=5
trying: http://progenetix.org/beacon/biosamples/pgxbs-kftvh94d/g_variants
trying: https://progenetix.org/services/pgxsegvariants/?biosampleIds=pgxbs-kftvlaih,pgxbs-kftvjgcc
trying: https://progenetix.org/services/variantsbedfile/?output=igv&biosampleIds=pgxbs-kftvlaih,pgxbs-kftvjgcc
trying: https://progenetix.org/services/samplematrix/?biosampleIds=pgxbs-kftvlaih,pgxbs-kftvjgcc
trying: https://progenetix.org/services/samplematrix/?individualIds=pgxind-kftx3565,pgxind-kftx5g4v
trying: https://progenetix.org/services/samplematrix/?filters=pgx:icdom-88503
trying: https://progenetix.org/services/cnvstats/?biosampleIds=pgxbs-kftvh94d,pgxbs-kftvh94g,pgxbs-kftvh972
trying: https://progenetix.org/services/cnvstats/?individualIds=pgxind-kftx3565,pgxind-kftx5g4v
trying: https://progenetix.org/services/cnvstats/?filters=pgx:icdom-88503
trying: https://cancercelllines.org/beacon/biosamples/cellzbs-kftvksak/g_variants
[ FAIL 0 | WARN 0 | SKIP 0 | PASS 42 ]
>
> proc.time()
user system elapsed
22.82 0.40 335.15
pgxRpi.Rcheck/pgxRpi-Ex.timings
| name | user | system | elapsed | |
| pgxFreqplot | 6.33 | 0.17 | 8.41 | |
| pgxLoader | 144.20 | 1.30 | 155.01 | |
| pgxMetaplot | 28.96 | 0.45 | 33.86 | |
| pgxSegprocess | 0.69 | 0.00 | 0.69 | |
| segtoFreq | 3.78 | 0.05 | 3.82 | |