Back to Multiple platform build/check report for BioC 3.22:   simplified   long
ABCDEFGHIJKLMNO[P]QRSTUVWXYZ

This page was generated on 2025-05-04 12:11 -0400 (Sun, 04 May 2025).

HostnameOSArch (*)R versionInstalled pkgs
nebbiolo2Linux (Ubuntu 24.04.1 LTS)x86_644.5.0 (2025-04-11) -- "How About a Twenty-Six" 4745
palomino8Windows Server 2022 Datacenterx644.5.0 (2025-04-11 ucrt) -- "How About a Twenty-Six" 4507
lconwaymacOS 12.7.1 Montereyx86_644.5.0 Patched (2025-04-21 r88169) -- "How About a Twenty-Six" 4546
kjohnson3macOS 13.7.1 Venturaarm644.5.0 Patched (2025-04-21 r88169) -- "How About a Twenty-Six" 4486
taishanLinux (openEuler 24.03 LTS)aarch644.5.0 (2025-04-11) -- "How About a Twenty-Six" 4434
Click on any hostname to see more info about the system (e.g. compilers)      (*) as reported by 'uname -p', except on Windows and Mac OS X

Package 1542/2304HostnameOS / ArchINSTALLBUILDCHECKBUILD BIN
pgxRpi 1.5.2  (landing page)
Hangjia Zhao
Snapshot Date: 2025-05-02 13:00 -0400 (Fri, 02 May 2025)
git_url: https://git.bioconductor.org/packages/pgxRpi
git_branch: devel
git_last_commit: cdad3bb
git_last_commit_date: 2025-05-02 11:51:47 -0400 (Fri, 02 May 2025)
nebbiolo2Linux (Ubuntu 24.04.1 LTS) / x86_64  OK    OK    OK  YES
palomino8Windows Server 2022 Datacenter / x64  OK    ERROR  skippedskipped
lconwaymacOS 12.7.1 Monterey / x86_64  OK    OK    OK    OK  YES
kjohnson3macOS 13.7.1 Ventura / arm64  OK    OK    OK    OK  YES
taishanLinux (openEuler 24.03 LTS) / aarch64  OK    ERROR  skipped


BUILD BIN results for pgxRpi on kjohnson3

To the developers/maintainers of the pgxRpi package:
- Allow up to 24 hours (and sometimes 48 hours) for your latest push to git@git.bioconductor.org:packages/pgxRpi.git to reflect on this report. See Troubleshooting Build Report for more information.
- Use the following Renviron settings to reproduce errors and warnings.
- If 'R CMD check' started to fail recently on the Linux builder(s) over a missing dependency, add the missing dependency to 'Suggests:' in your DESCRIPTION file. See Renviron.bioc for more information.

raw results


Summary

Package: pgxRpi
Version: 1.5.2
Command: rm -rf pgxRpi.buildbin-libdir && mkdir pgxRpi.buildbin-libdir && /Users/biocbuild/BBS/utils/build-universal.sh pgxRpi_1.5.2.tar.gz /Library/Frameworks/R.framework/Resources/bin/R pgxRpi.buildbin-libdir
StartedAt: 2025-05-02 22:48:08 -0400 (Fri, 02 May 2025)
EndedAt: 2025-05-02 22:48:10 -0400 (Fri, 02 May 2025)
EllapsedTime: 2.1 seconds
RetCode: 0
Status:   OK  
PackageFile: pgxRpi_1.5.2.tgz
PackageFileSize: 3.045 MiB

Command output

##############################################################################
##############################################################################
###
### Running command:
###
###   rm -rf pgxRpi.buildbin-libdir && mkdir pgxRpi.buildbin-libdir && /Users/biocbuild/BBS/utils/build-universal.sh pgxRpi_1.5.2.tar.gz /Library/Frameworks/R.framework/Resources/bin/R pgxRpi.buildbin-libdir
###
##############################################################################
##############################################################################


>>>>>>> 
>>>>>>> INSTALLATION WITH 'R CMD INSTALL --preclean --no-multiarch --library=pgxRpi.buildbin-libdir pgxRpi_1.5.2.tar.gz'
>>>>>>> 

* installing *source* package ‘pgxRpi’ ...
** this is package ‘pgxRpi’ version ‘1.5.2’
** using staged installation
** R
** data
** inst
** byte-compile and prepare package for lazy loading
** help
*** installing help indices
** building package indices
** installing vignettes
** testing if installed package can be loaded from temporary location
** testing if installed package can be loaded from final location
** testing if installed package keeps a record of temporary installation path
* DONE (pgxRpi)