| Back to Multiple platform build/check report for BioC 3.23: simplified long |
|
This page was generated on 2025-11-18 11:39 -0500 (Tue, 18 Nov 2025).
| Hostname | OS | Arch (*) | R version | Installed pkgs |
|---|---|---|---|---|
| nebbiolo1 | Linux (Ubuntu 24.04.3 LTS) | x86_64 | R Under development (unstable) (2025-10-20 r88955) -- "Unsuffered Consequences" | 4826 |
| lconway | macOS 12.7.6 Monterey | x86_64 | R Under development (unstable) (2025-10-21 r88958) -- "Unsuffered Consequences" | 4561 |
| kjohnson3 | macOS 13.7.7 Ventura | arm64 | R Under development (unstable) (2025-11-04 r88984) -- "Unsuffered Consequences" | 4562 |
| Click on any hostname to see more info about the system (e.g. compilers) (*) as reported by 'uname -p', except on Windows and Mac OS X | ||||
| Package 1322/2325 | Hostname | OS / Arch | INSTALL | BUILD | CHECK | BUILD BIN | ||||||||
| mobileRNA 1.7.1 (landing page) Katie Jeynes-Cupper
| nebbiolo1 | Linux (Ubuntu 24.04.3 LTS) / x86_64 | OK | OK | OK | |||||||||
| lconway | macOS 12.7.6 Monterey / x86_64 | OK | OK | OK | OK | |||||||||
| kjohnson3 | macOS 13.7.7 Ventura / arm64 | OK | OK | OK | OK | |||||||||
|
To the developers/maintainers of the mobileRNA package: - Allow up to 24 hours (and sometimes 48 hours) for your latest push to git@git.bioconductor.org:packages/mobileRNA.git to reflect on this report. See Troubleshooting Build Report for more information. - Use the following Renviron settings to reproduce errors and warnings. - If 'R CMD check' started to fail recently on the Linux builder(s) over a missing dependency, add the missing dependency to 'Suggests:' in your DESCRIPTION file. See Renviron.bioc for more information. |
| Package: mobileRNA |
| Version: 1.7.1 |
| Command: /Library/Frameworks/R.framework/Resources/bin/R CMD check --install=check:mobileRNA.install-out.txt --library=/Library/Frameworks/R.framework/Resources/library --no-vignettes --timings mobileRNA_1.7.1.tar.gz |
| StartedAt: 2025-11-18 03:49:13 -0500 (Tue, 18 Nov 2025) |
| EndedAt: 2025-11-18 03:59:00 -0500 (Tue, 18 Nov 2025) |
| EllapsedTime: 587.5 seconds |
| RetCode: 0 |
| Status: OK |
| CheckDir: mobileRNA.Rcheck |
| Warnings: 0 |
##############################################################################
##############################################################################
###
### Running command:
###
### /Library/Frameworks/R.framework/Resources/bin/R CMD check --install=check:mobileRNA.install-out.txt --library=/Library/Frameworks/R.framework/Resources/library --no-vignettes --timings mobileRNA_1.7.1.tar.gz
###
##############################################################################
##############################################################################
* using log directory ‘/Users/biocbuild/bbs-3.23-bioc/meat/mobileRNA.Rcheck’
* using R Under development (unstable) (2025-10-21 r88958)
* using platform: x86_64-apple-darwin20
* R was compiled by
Apple clang version 14.0.0 (clang-1400.0.29.202)
GNU Fortran (GCC) 14.2.0
* running under: macOS Ventura 13.7.8
* using session charset: UTF-8
* using option ‘--no-vignettes’
* checking for file ‘mobileRNA/DESCRIPTION’ ... OK
* checking extension type ... Package
* this is package ‘mobileRNA’ version ‘1.7.1’
* package encoding: UTF-8
* checking package namespace information ... OK
* checking package dependencies ... INFO
Imports includes 24 non-default packages.
Importing from so many packages makes the package vulnerable to any of
them becoming unavailable. Move as many as possible to Suggests and
use conditionally.
* checking if this is a source package ... OK
* checking if there is a namespace ... OK
* checking for hidden files and directories ... OK
* checking for portable file names ... OK
* checking for sufficient/correct file permissions ... OK
* checking whether package ‘mobileRNA’ can be installed ... OK
* checking installed package size ... OK
* checking package directory ... OK
* checking ‘build’ directory ... OK
* checking DESCRIPTION meta-information ... OK
* checking top-level files ... OK
* checking for left-over files ... OK
* checking index information ... OK
* checking package subdirectories ... OK
* checking code files for non-ASCII characters ... OK
* checking R files for syntax errors ... OK
* checking whether the package can be loaded ... OK
* checking whether the package can be loaded with stated dependencies ... OK
* checking whether the package can be unloaded cleanly ... OK
* checking whether the namespace can be loaded with stated dependencies ... OK
* checking whether the namespace can be unloaded cleanly ... OK
* checking dependencies in R code ... OK
* checking S3 generic/method consistency ... OK
* checking replacement functions ... OK
* checking foreign function calls ... OK
* checking R code for possible problems ... NOTE
RNAfeatures: no visible binding for global variable ‘Freq’
RNAfeatures: no visible binding for global variable ‘Genomic feature’
RNAfeatures: no visible binding for global variable ‘Var1’
RNAimport: no visible binding for global variable ‘start’
RNAimport: no visible binding for global variable ‘end’
RNAimport: no visible binding for global variable ‘strand’
bcftools_exists: no visible binding for global variable ‘envname’
snpEFF_exists: no visible binding for global variable ‘envname’
Undefined global functions or variables:
Freq Genomic feature Var1 end envname start strand
Consider adding
importFrom("stats", "end", "start")
to your NAMESPACE file.
* checking Rd files ... OK
* checking Rd metadata ... OK
* checking Rd cross-references ... OK
* checking for missing documentation entries ... OK
* checking for code/documentation mismatches ... OK
* checking Rd \usage sections ... OK
* checking Rd contents ... OK
* checking for unstated dependencies in examples ... OK
* checking contents of ‘data’ directory ... OK
* checking data for non-ASCII characters ... OK
* checking data for ASCII and uncompressed saves ... OK
* checking files in ‘vignettes’ ... OK
* checking examples ... OK
Examples with CPU (user + system) or elapsed time > 5s
user system elapsed
RNAdistribution 12.932 0.097 13.098
RNAdicercall 9.232 0.137 9.413
RNAsubset 8.787 0.043 8.863
RNAdifferentialAnalysis 6.744 0.144 6.929
* checking for unstated dependencies in vignettes ... OK
* checking package vignettes ... OK
* checking running R code from vignettes ... SKIPPED
* checking re-building of vignette outputs ... SKIPPED
* checking PDF version of manual ... OK
* DONE
Status: 1 NOTE
See
‘/Users/biocbuild/bbs-3.23-bioc/meat/mobileRNA.Rcheck/00check.log’
for details.
mobileRNA.Rcheck/00install.out
############################################################################## ############################################################################## ### ### Running command: ### ### /Library/Frameworks/R.framework/Resources/bin/R CMD INSTALL mobileRNA ### ############################################################################## ############################################################################## * installing to library ‘/Library/Frameworks/R.framework/Versions/4.6-x86_64/Resources/library’ * installing *source* package ‘mobileRNA’ ... ** this is package ‘mobileRNA’ version ‘1.7.1’ ** using staged installation ** R ** data ** inst ** byte-compile and prepare package for lazy loading ** help *** installing help indices *** copying figures ** building package indices ** installing vignettes ** testing if installed package can be loaded from temporary location ** testing if installed package can be loaded from final location ** testing if installed package keeps a record of temporary installation path * DONE (mobileRNA)
mobileRNA.Rcheck/mobileRNA-Ex.timings
| name | user | system | elapsed | |
| RNAattributes | 1.100 | 0.019 | 1.125 | |
| RNAdf2se | 0.223 | 0.005 | 0.228 | |
| RNAdicercall | 9.232 | 0.137 | 9.413 | |
| RNAdifferentialAnalysis | 6.744 | 0.144 | 6.929 | |
| RNAdistribution | 12.932 | 0.097 | 13.098 | |
| RNAfeatures | 0.429 | 0.007 | 0.440 | |
| RNAimport | 0 | 0 | 0 | |
| RNAmergeAnnotations | 0.297 | 0.009 | 0.309 | |
| RNAmergeGenomes | 0.044 | 0.003 | 0.048 | |
| RNAmobile | 0.549 | 0.011 | 0.564 | |
| RNApopulation | 1.586 | 0.015 | 1.610 | |
| RNAreorder | 0.138 | 0.002 | 0.142 | |
| RNAsequences | 1.112 | 0.016 | 1.132 | |
| RNAsubset | 8.787 | 0.043 | 8.863 | |
| RNAsummary | 4.245 | 0.051 | 4.313 | |
| mRNA_data | 0.027 | 0.002 | 0.028 | |
| mapRNA | 0.000 | 0.001 | 0.001 | |
| plotHeatmap | 0.549 | 0.022 | 0.574 | |
| plotRNAfeatures | 0.370 | 0.003 | 0.373 | |
| plotSampleDistance | 2.081 | 0.042 | 2.126 | |
| plotSamplePCA | 2.559 | 0.032 | 2.599 | |
| sRNA_data | 0.137 | 0.001 | 0.139 | |