Back to Build/check report for BioC 3.21:   simplified   long
ABCDEFGHIJKL[M]NOPQRSTUVWXYZ

This page was generated on 2024-10-24 11:04 -0400 (Thu, 24 Oct 2024).

HostnameOSArch (*)R versionInstalled pkgs
nebbiolo1Linux (Ubuntu 22.04.3 LTS)x86_64R Under development (unstable) (2024-10-21 r87258) -- "Unsuffered Consequences" 3656
Click on any hostname to see more info about the system (e.g. compilers)      (*) as reported by 'uname -p', except on Windows and Mac OS X

Package 1251/2281HostnameOS / ArchINSTALLBUILDCHECKBUILD BIN
microbiomeMarker 1.11.1  (landing page)
Yang Cao
Snapshot Date: 2024-10-23 19:16 -0400 (Wed, 23 Oct 2024)
git_url: https://git.bioconductor.org/packages/microbiomeMarker
git_branch: devel
git_last_commit: aee056c
git_last_commit_date: 2024-08-21 14:56:00 -0400 (Wed, 21 Aug 2024)
nebbiolo1Linux (Ubuntu 22.04.3 LTS) / x86_64  OK    ERROR  skipped


INSTALL results for microbiomeMarker on nebbiolo1

To the developers/maintainers of the microbiomeMarker package:
- Allow up to 24 hours (and sometimes 48 hours) for your latest push to git@git.bioconductor.org:packages/microbiomeMarker.git to reflect on this report. See Troubleshooting Build Report for more information.
- Use the following Renviron settings to reproduce errors and warnings.
- If 'R CMD check' started to fail recently on the Linux builder(s) over a missing dependency, add the missing dependency to 'Suggests:' in your DESCRIPTION file. See Renviron.bioc for more information.

raw results


Summary

Package: microbiomeMarker
Version: 1.11.1
Command: /home/biocbuild/bbs-3.21-bioc/R/bin/R CMD INSTALL microbiomeMarker
StartedAt: 2024-10-24 03:15:13 -0400 (Thu, 24 Oct 2024)
EndedAt: 2024-10-24 03:15:59 -0400 (Thu, 24 Oct 2024)
EllapsedTime: 45.5 seconds
RetCode: 0
Status:   OK  

Command output

##############################################################################
##############################################################################
###
### Running command:
###
###   /home/biocbuild/bbs-3.21-bioc/R/bin/R CMD INSTALL microbiomeMarker
###
##############################################################################
##############################################################################


* installing to library ‘/home/biocbuild/bbs-3.21-bioc/R/site-library’
* installing *source* package ‘microbiomeMarker’ ...
** using staged installation
** R
** data
** inst
** byte-compile and prepare package for lazy loading
** help
*** installing help indices
*** copying figures
** building package indices
** installing vignettes
** testing if installed package can be loaded from temporary location
Warning in fun(libname, pkgname) :
  Package 'microbiomeMarker' is deprecated and will be removed from
  Bioconductor version 3.21
** testing if installed package can be loaded from final location
Warning in fun(libname, pkgname) :
  Package 'microbiomeMarker' is deprecated and will be removed from
  Bioconductor version 3.21
** testing if installed package keeps a record of temporary installation path
* DONE (microbiomeMarker)