Back to Multiple platform build/check report for BioC 3.22:   simplified   long
ABCDEFGH[I]JKLMNOPQRSTUVWXYZ

This page was generated on 2025-10-28 12:03 -0400 (Tue, 28 Oct 2025).

HostnameOSArch (*)R versionInstalled pkgs
nebbiolo2Linux (Ubuntu 24.04.3 LTS)x86_644.5.1 Patched (2025-08-23 r88802) -- "Great Square Root" 4901
lconwaymacOS 12.7.6 Montereyx86_644.5.1 Patched (2025-09-10 r88807) -- "Great Square Root" 4691
kjohnson3macOS 13.7.7 Venturaarm644.5.1 Patched (2025-09-10 r88807) -- "Great Square Root" 4637
Click on any hostname to see more info about the system (e.g. compilers)      (*) as reported by 'uname -p', except on Windows and Mac OS X

Package 1058/2361HostnameOS / ArchINSTALLBUILDCHECKBUILD BIN
iNETgrate 1.7.0  (landing page)
Habil Zare
Snapshot Date: 2025-10-27 13:45 -0400 (Mon, 27 Oct 2025)
git_url: https://git.bioconductor.org/packages/iNETgrate
git_branch: devel
git_last_commit: 9b0b9a7
git_last_commit_date: 2025-04-15 13:16:57 -0400 (Tue, 15 Apr 2025)
nebbiolo2Linux (Ubuntu 24.04.3 LTS) / x86_64  OK    OK    OK  NO, package depends on 'Pigengene' which is not available
lconwaymacOS 12.7.6 Monterey / x86_64  OK    OK    OK    OK  NO, package depends on 'Pigengene' which is not available
kjohnson3macOS 13.7.7 Ventura / arm64  OK    OK    OK    OK  NO, package depends on 'Pigengene' which is not available


CHECK results for iNETgrate on nebbiolo2

To the developers/maintainers of the iNETgrate package:
- Allow up to 24 hours (and sometimes 48 hours) for your latest push to git@git.bioconductor.org:packages/iNETgrate.git to reflect on this report. See Troubleshooting Build Report for more information.
- Use the following Renviron settings to reproduce errors and warnings.
- If 'R CMD check' started to fail recently on the Linux builder(s) over a missing dependency, add the missing dependency to 'Suggests:' in your DESCRIPTION file. See Renviron.bioc for more information.

raw results


Summary

Package: iNETgrate
Version: 1.7.0
Command: /home/biocbuild/bbs-3.22-bioc/R/bin/R CMD check --install=check:iNETgrate.install-out.txt --library=/home/biocbuild/bbs-3.22-bioc/R/site-library --timings iNETgrate_1.7.0.tar.gz
StartedAt: 2025-10-28 00:41:30 -0400 (Tue, 28 Oct 2025)
EndedAt: 2025-10-28 00:59:10 -0400 (Tue, 28 Oct 2025)
EllapsedTime: 1060.2 seconds
RetCode: 0
Status:   OK  
CheckDir: iNETgrate.Rcheck
Warnings: 0

Command output

##############################################################################
##############################################################################
###
### Running command:
###
###   /home/biocbuild/bbs-3.22-bioc/R/bin/R CMD check --install=check:iNETgrate.install-out.txt --library=/home/biocbuild/bbs-3.22-bioc/R/site-library --timings iNETgrate_1.7.0.tar.gz
###
##############################################################################
##############################################################################


* using log directory ‘/home/biocbuild/bbs-3.22-bioc/meat/iNETgrate.Rcheck’
* using R version 4.5.1 Patched (2025-08-23 r88802)
* using platform: x86_64-pc-linux-gnu
* R was compiled by
    gcc (Ubuntu 13.3.0-6ubuntu2~24.04) 13.3.0
    GNU Fortran (Ubuntu 13.3.0-6ubuntu2~24.04) 13.3.0
* running under: Ubuntu 24.04.3 LTS
* using session charset: UTF-8
* checking for file ‘iNETgrate/DESCRIPTION’ ... OK
* checking extension type ... Package
* this is package ‘iNETgrate’ version ‘1.7.0’
* checking package namespace information ... OK
* checking package dependencies ... OK
* checking if this is a source package ... OK
* checking if there is a namespace ... OK
* checking for hidden files and directories ... OK
* checking for portable file names ... OK
* checking for sufficient/correct file permissions ... OK
* checking whether package ‘iNETgrate’ can be installed ... OK
* checking installed package size ... OK
* checking package directory ... OK
* checking ‘build’ directory ... OK
* checking DESCRIPTION meta-information ... OK
* checking top-level files ... OK
* checking for left-over files ... OK
* checking index information ... OK
* checking package subdirectories ... OK
* checking code files for non-ASCII characters ... OK
* checking R files for syntax errors ... OK
* checking whether the package can be loaded ... OK
* checking whether the package can be loaded with stated dependencies ... OK
* checking whether the package can be unloaded cleanly ... OK
* checking whether the namespace can be loaded with stated dependencies ... OK
* checking whether the namespace can be unloaded cleanly ... OK
* checking loading without being on the library search path ... OK
* checking dependencies in R code ... OK
* checking S3 generic/method consistency ... OK
* checking replacement functions ... OK
* checking foreign function calls ... OK
* checking R code for possible problems ... OK
* checking Rd files ... OK
* checking Rd metadata ... OK
* checking Rd cross-references ... OK
* checking for missing documentation entries ... OK
* checking for code/documentation mismatches ... OK
* checking Rd \usage sections ... OK
* checking Rd contents ... OK
* checking for unstated dependencies in examples ... OK
* checking contents of ‘data’ directory ... OK
* checking data for non-ASCII characters ... OK
* checking data for ASCII and uncompressed saves ... OK
* checking files in ‘vignettes’ ... OK
* checking examples ... OK
Examples with CPU (user + system) or elapsed time > 5s
                     user system elapsed
iNETgrate         130.879  1.282 132.178
toyEigengenes      65.468  0.620  66.092
computEigengenes   63.295  0.542  63.843
analyzeSurvival    53.041  0.634  53.477
toyComputEloci     50.909  0.575  51.500
makeNetwork        42.615  0.379  42.995
computEigenloci    15.671  0.358  16.033
cleanAllData       12.105  0.764  12.891
accelFailAnalysis   7.645  0.123   7.730
* checking for unstated dependencies in vignettes ... OK
* checking package vignettes ... OK
* checking re-building of vignette outputs ... OK
* checking PDF version of manual ... OK
* DONE

Status: OK


Installation output

iNETgrate.Rcheck/00install.out

##############################################################################
##############################################################################
###
### Running command:
###
###   /home/biocbuild/bbs-3.22-bioc/R/bin/R CMD INSTALL iNETgrate
###
##############################################################################
##############################################################################


* installing to library ‘/home/biocbuild/bbs-3.22-bioc/R/site-library’
* installing *source* package ‘iNETgrate’ ...
** this is package ‘iNETgrate’ version ‘1.7.0’
** using staged installation
** R
** data
** inst
** byte-compile and prepare package for lazy loading
** help
*** installing help indices
** building package indices
** installing vignettes
** testing if installed package can be loaded from temporary location
** testing if installed package can be loaded from final location
** testing if installed package keeps a record of temporary installation path
* DONE (iNETgrate)

Tests output


Example timings

iNETgrate.Rcheck/iNETgrate-Ex.timings

nameusersystemelapsed
accelFailAnalysis7.6450.1237.730
analyzeSurvival53.041 0.63453.477
bestInetgrator0.2460.0290.303
cleanAllData12.105 0.76412.891
computEigengenes63.295 0.54263.843
computEigenloci15.671 0.35816.033
computeInetgrator0.2280.0090.237
computeUnion1.9420.0281.970
coxAnalysis2.1090.0202.129
createLocusGene0.1900.0040.194
distanceToTss3.0110.0293.041
downloaData000
electGenes2.3000.0312.317
filterLowCor0.4990.0030.501
findAliveCutoff0.1900.0030.193
findCore1.9520.0031.955
findTcgaDuplicates0.2530.0050.258
iNETgrate-package0.2120.0200.232
iNETgrate130.879 1.282132.178
inferEigengenes0.2130.0180.231
makeNetwork42.615 0.37942.995
plotKM0.4250.0090.434
plotLociNum0.3420.0030.345
plotLociTss0.0510.0000.052
prepareSurvival0.2060.0020.207
preprocessDnam0.9830.0171.000
sample2pat0.2240.0080.232
sampleData0.7190.1310.850
toyCleanedAml0.1700.0030.173
toyComputEloci50.909 0.57551.500
toyEigengenes65.468 0.62066.092
toyRawAml0.1970.0060.204