Back to Multiple platform build/check report for BioC 3.22:   simplified   long
ABCDEFGH[I]JKLMNOPQRSTUVWXYZ

This page was generated on 2025-10-07 12:05 -0400 (Tue, 07 Oct 2025).

HostnameOSArch (*)R versionInstalled pkgs
nebbiolo2Linux (Ubuntu 24.04.3 LTS)x86_644.5.1 Patched (2025-08-23 r88802) -- "Great Square Root" 4853
lconwaymacOS 12.7.1 Montereyx86_644.5.1 Patched (2025-09-10 r88807) -- "Great Square Root" 4640
kjohnson3macOS 13.7.7 Venturaarm644.5.1 Patched (2025-09-10 r88807) -- "Great Square Root" 4585
taishanLinux (openEuler 24.03 LTS)aarch644.5.0 (2025-04-11) -- "How About a Twenty-Six" 4584
Click on any hostname to see more info about the system (e.g. compilers)      (*) as reported by 'uname -p', except on Windows and Mac OS X

Package 1049/2341HostnameOS / ArchINSTALLBUILDCHECKBUILD BIN
iNETgrate 1.7.0  (landing page)
Habil Zare
Snapshot Date: 2025-10-06 13:45 -0400 (Mon, 06 Oct 2025)
git_url: https://git.bioconductor.org/packages/iNETgrate
git_branch: devel
git_last_commit: 9b0b9a7
git_last_commit_date: 2025-04-15 13:16:57 -0400 (Tue, 15 Apr 2025)
nebbiolo2Linux (Ubuntu 24.04.3 LTS) / x86_64  OK    OK    OK  UNNEEDED, same version is already published
lconwaymacOS 12.7.1 Monterey / x86_64  OK    OK    OK    OK  UNNEEDED, same version is already published
kjohnson3macOS 13.7.7 Ventura / arm64  OK    OK    OK    OK  UNNEEDED, same version is already published
taishanLinux (openEuler 24.03 LTS) / aarch64  OK    OK    OK  


CHECK results for iNETgrate on lconway

To the developers/maintainers of the iNETgrate package:
- Allow up to 24 hours (and sometimes 48 hours) for your latest push to git@git.bioconductor.org:packages/iNETgrate.git to reflect on this report. See Troubleshooting Build Report for more information.
- Use the following Renviron settings to reproduce errors and warnings.
- If 'R CMD check' started to fail recently on the Linux builder(s) over a missing dependency, add the missing dependency to 'Suggests:' in your DESCRIPTION file. See Renviron.bioc for more information.

raw results


Summary

Package: iNETgrate
Version: 1.7.0
Command: /Library/Frameworks/R.framework/Resources/bin/R CMD check --install=check:iNETgrate.install-out.txt --library=/Library/Frameworks/R.framework/Resources/library --no-vignettes --timings iNETgrate_1.7.0.tar.gz
StartedAt: 2025-10-06 22:21:56 -0400 (Mon, 06 Oct 2025)
EndedAt: 2025-10-06 22:38:12 -0400 (Mon, 06 Oct 2025)
EllapsedTime: 975.7 seconds
RetCode: 0
Status:   OK  
CheckDir: iNETgrate.Rcheck
Warnings: 0

Command output

##############################################################################
##############################################################################
###
### Running command:
###
###   /Library/Frameworks/R.framework/Resources/bin/R CMD check --install=check:iNETgrate.install-out.txt --library=/Library/Frameworks/R.framework/Resources/library --no-vignettes --timings iNETgrate_1.7.0.tar.gz
###
##############################################################################
##############################################################################


* using log directory ‘/Users/biocbuild/bbs-3.22-bioc/meat/iNETgrate.Rcheck’
* using R version 4.5.1 Patched (2025-09-10 r88807)
* using platform: x86_64-apple-darwin20
* R was compiled by
    Apple clang version 14.0.0 (clang-1400.0.29.202)
    GNU Fortran (GCC) 14.2.0
* running under: macOS Monterey 12.7.6
* using session charset: UTF-8
* using option ‘--no-vignettes’
* checking for file ‘iNETgrate/DESCRIPTION’ ... OK
* checking extension type ... Package
* this is package ‘iNETgrate’ version ‘1.7.0’
* checking package namespace information ... OK
* checking package dependencies ... OK
* checking if this is a source package ... OK
* checking if there is a namespace ... OK
* checking for hidden files and directories ... OK
* checking for portable file names ... OK
* checking for sufficient/correct file permissions ... OK
* checking whether package ‘iNETgrate’ can be installed ... OK
* checking installed package size ... OK
* checking package directory ... OK
* checking ‘build’ directory ... OK
* checking DESCRIPTION meta-information ... OK
* checking top-level files ... OK
* checking for left-over files ... OK
* checking index information ... OK
* checking package subdirectories ... OK
* checking code files for non-ASCII characters ... OK
* checking R files for syntax errors ... OK
* checking whether the package can be loaded ... OK
* checking whether the package can be loaded with stated dependencies ... OK
* checking whether the package can be unloaded cleanly ... OK
* checking whether the namespace can be loaded with stated dependencies ... OK
* checking whether the namespace can be unloaded cleanly ... OK
* checking dependencies in R code ... OK
* checking S3 generic/method consistency ... OK
* checking replacement functions ... OK
* checking foreign function calls ... OK
* checking R code for possible problems ... OK
* checking Rd files ... OK
* checking Rd metadata ... OK
* checking Rd cross-references ... OK
* checking for missing documentation entries ... OK
* checking for code/documentation mismatches ... OK
* checking Rd \usage sections ... OK
* checking Rd contents ... OK
* checking for unstated dependencies in examples ... OK
* checking contents of ‘data’ directory ... OK
* checking data for non-ASCII characters ... OK
* checking data for ASCII and uncompressed saves ... OK
* checking sizes of PDF files under ‘inst/doc’ ... OK
* checking files in ‘vignettes’ ... OK
* checking examples ... OK
Examples with CPU (user + system) or elapsed time > 5s
                     user system elapsed
iNETgrate         137.563  3.122 142.102
computEigengenes   70.590  0.457  71.523
toyEigengenes      67.486  0.471  68.428
toyComputEloci     61.743  2.417  65.205
analyzeSurvival    52.142  0.714  53.247
makeNetwork        45.941  0.221  46.381
computEigenloci    18.977  0.891  20.049
cleanAllData       14.887  0.746  15.751
accelFailAnalysis   5.080  0.470   5.615
* checking for unstated dependencies in vignettes ... OK
* checking package vignettes ... OK
* checking running R code from vignettes ... SKIPPED
* checking re-building of vignette outputs ... SKIPPED
* checking PDF version of manual ... OK
* DONE

Status: OK


Installation output

iNETgrate.Rcheck/00install.out

##############################################################################
##############################################################################
###
### Running command:
###
###   /Library/Frameworks/R.framework/Resources/bin/R CMD INSTALL iNETgrate
###
##############################################################################
##############################################################################


* installing to library ‘/Library/Frameworks/R.framework/Versions/4.5-x86_64/Resources/library’
* installing *source* package ‘iNETgrate’ ...
** this is package ‘iNETgrate’ version ‘1.7.0’
** using staged installation
** R
** data
** inst
** byte-compile and prepare package for lazy loading
** help
*** installing help indices
** building package indices
** installing vignettes
** testing if installed package can be loaded from temporary location
** testing if installed package can be loaded from final location
** testing if installed package keeps a record of temporary installation path
* DONE (iNETgrate)

Tests output


Example timings

iNETgrate.Rcheck/iNETgrate-Ex.timings

nameusersystemelapsed
accelFailAnalysis5.0800.4705.615
analyzeSurvival52.142 0.71453.247
bestInetgrator0.2420.1460.517
cleanAllData14.887 0.74615.751
computEigengenes70.590 0.45771.523
computEigenloci18.977 0.89120.049
computeInetgrator0.2590.1090.393
computeUnion2.1280.1062.312
coxAnalysis2.0290.0282.074
createLocusGene0.1270.0100.139
distanceToTss3.6320.1293.791
downloaData0.0010.0000.000
electGenes2.3640.0732.449
filterLowCor0.3490.0250.382
findAliveCutoff0.1060.0120.119
findCore1.9670.0282.004
findTcgaDuplicates0.1830.0130.200
iNETgrate-package0.2350.0990.363
iNETgrate137.563 3.122142.102
inferEigengenes0.2470.1080.385
makeNetwork45.941 0.22146.381
plotKM0.2140.0320.254
plotLociNum0.2240.0250.251
plotLociTss0.0240.0100.035
prepareSurvival0.1450.0130.164
preprocessDnam1.1170.0661.208
sample2pat0.1780.0130.192
sampleData0.8591.2852.191
toyCleanedAml0.0950.0150.114
toyComputEloci61.743 2.41765.205
toyEigengenes67.486 0.47168.428
toyRawAml0.1220.0110.136