Back to Multiple platform build/check report for BioC 3.21: simplified long |
|
This page was generated on 2025-01-28 11:47 -0500 (Tue, 28 Jan 2025).
Hostname | OS | Arch (*) | R version | Installed pkgs |
---|---|---|---|---|
nebbiolo1 | Linux (Ubuntu 24.04.1 LTS) | x86_64 | R Under development (unstable) (2025-01-20 r87609) -- "Unsuffered Consequences" | 4659 |
palomino7 | Windows Server 2022 Datacenter | x64 | R Under development (unstable) (2025-01-21 r87610 ucrt) -- "Unsuffered Consequences" | 4454 |
lconway | macOS 12.7.1 Monterey | x86_64 | R Under development (unstable) (2025-01-22 r87618) -- "Unsuffered Consequences" | 4465 |
kjohnson3 | macOS 13.7.1 Ventura | arm64 | R Under development (unstable) (2025-01-20 r87609) -- "Unsuffered Consequences" | 4419 |
kunpeng2 | Linux (openEuler 22.03 LTS-SP1) | aarch64 | R Under development (unstable) (2024-11-24 r87369) -- "Unsuffered Consequences" | 4409 |
Click on any hostname to see more info about the system (e.g. compilers) (*) as reported by 'uname -p', except on Windows and Mac OS X |
Package 856/2286 | Hostname | OS / Arch | INSTALL | BUILD | CHECK | BUILD BIN | ||||||||
ggtree 3.15.0 (landing page) Guangchuang Yu
| nebbiolo1 | Linux (Ubuntu 24.04.1 LTS) / x86_64 | OK | OK | OK | |||||||||
palomino7 | Windows Server 2022 Datacenter / x64 | OK | OK | OK | OK | |||||||||
lconway | macOS 12.7.1 Monterey / x86_64 | OK | OK | OK | OK | |||||||||
kjohnson3 | macOS 13.7.1 Ventura / arm64 | OK | OK | OK | OK | |||||||||
kunpeng2 | Linux (openEuler 22.03 LTS-SP1) / aarch64 | OK | OK | OK | ||||||||||
To the developers/maintainers of the ggtree package: - Allow up to 24 hours (and sometimes 48 hours) for your latest push to git@git.bioconductor.org:packages/ggtree.git to reflect on this report. See Troubleshooting Build Report for more information. - Use the following Renviron settings to reproduce errors and warnings. - If 'R CMD check' started to fail recently on the Linux builder(s) over a missing dependency, add the missing dependency to 'Suggests:' in your DESCRIPTION file. See Renviron.bioc for more information. - See Martin Grigorov's blog post for how to debug Linux ARM64 related issues on a x86_64 host. |
Package: ggtree |
Version: 3.15.0 |
Command: /home/biocbuild/R/R/bin/R CMD check --install=check:ggtree.install-out.txt --library=/home/biocbuild/R/R/site-library --no-vignettes --timings ggtree_3.15.0.tar.gz |
StartedAt: 2025-01-28 11:06:50 -0000 (Tue, 28 Jan 2025) |
EndedAt: 2025-01-28 11:08:13 -0000 (Tue, 28 Jan 2025) |
EllapsedTime: 83.1 seconds |
RetCode: 0 |
Status: OK |
CheckDir: ggtree.Rcheck |
Warnings: 0 |
############################################################################## ############################################################################## ### ### Running command: ### ### /home/biocbuild/R/R/bin/R CMD check --install=check:ggtree.install-out.txt --library=/home/biocbuild/R/R/site-library --no-vignettes --timings ggtree_3.15.0.tar.gz ### ############################################################################## ############################################################################## * using log directory ‘/home/biocbuild/bbs-3.21-bioc/meat/ggtree.Rcheck’ * using R Under development (unstable) (2024-11-24 r87369) * using platform: aarch64-unknown-linux-gnu * R was compiled by aarch64-unknown-linux-gnu-gcc (GCC) 14.2.0 GNU Fortran (GCC) 14.2.0 * running under: openEuler 24.03 (LTS) * using session charset: UTF-8 * using option ‘--no-vignettes’ * checking for file ‘ggtree/DESCRIPTION’ ... OK * checking extension type ... Package * this is package ‘ggtree’ version ‘3.15.0’ * package encoding: UTF-8 * checking package namespace information ... OK * checking package dependencies ... OK * checking if this is a source package ... OK * checking if there is a namespace ... OK * checking for hidden files and directories ... OK * checking for portable file names ... OK * checking for sufficient/correct file permissions ... OK * checking whether package ‘ggtree’ can be installed ... OK * checking installed package size ... OK * checking package directory ... OK * checking ‘build’ directory ... OK * checking DESCRIPTION meta-information ... OK * checking top-level files ... OK * checking for left-over files ... OK * checking index information ... OK * checking package subdirectories ...Warning: program compiled against libxml 212 using older 211 OK * checking code files for non-ASCII characters ... OK * checking R files for syntax errors ... OK * checking whether the package can be loaded ... OK * checking whether the package can be loaded with stated dependencies ... OK * checking whether the package can be unloaded cleanly ... OK * checking whether the namespace can be loaded with stated dependencies ... OK * checking whether the namespace can be unloaded cleanly ... OK * checking loading without being on the library search path ... OK * checking whether startup messages can be suppressed ... OK * checking dependencies in R code ... OK * checking S3 generic/method consistency ... OK * checking replacement functions ... OK * checking foreign function calls ... OK * checking R code for possible problems ... OK * checking Rd files ... OK * checking Rd metadata ... OK * checking Rd cross-references ... OK * checking for missing documentation entries ... OK * checking for code/documentation mismatches ... OK * checking Rd \usage sections ... OK * checking Rd contents ... OK * checking for unstated dependencies in examples ... OK * checking files in ‘vignettes’ ... OK * checking examples ... OK * checking for unstated dependencies in ‘tests’ ... OK * checking tests ... Running ‘testthat.R’ OK * checking for unstated dependencies in vignettes ... OK * checking package vignettes ... OK * checking running R code from vignettes ... SKIPPED * checking re-building of vignette outputs ... SKIPPED * checking PDF version of manual ... OK * DONE Status: OK
ggtree.Rcheck/00install.out
############################################################################## ############################################################################## ### ### Running command: ### ### /home/biocbuild/R/R/bin/R CMD INSTALL ggtree ### ############################################################################## ############################################################################## * installing to library ‘/home/biocbuild/R/R-4.5.0-devel_2024-11-24/site-library’ * installing *source* package ‘ggtree’ ... ** using staged installation ** R ** inst ** byte-compile and prepare package for lazy loading ** help *** installing help indices ** building package indices ** installing vignettes ** testing if installed package can be loaded from temporary location ** testing if installed package can be loaded from final location ** testing if installed package keeps a record of temporary installation path * DONE (ggtree)
ggtree.Rcheck/tests/testthat.Rout
R Under development (unstable) (2024-11-24 r87369) -- "Unsuffered Consequences" Copyright (C) 2024 The R Foundation for Statistical Computing Platform: aarch64-unknown-linux-gnu R is free software and comes with ABSOLUTELY NO WARRANTY. You are welcome to redistribute it under certain conditions. Type 'license()' or 'licence()' for distribution details. R is a collaborative project with many contributors. Type 'contributors()' for more information and 'citation()' on how to cite R or R packages in publications. Type 'demo()' for some demos, 'help()' for on-line help, or 'help.start()' for an HTML browser interface to help. Type 'q()' to quit R. > library(testthat) > library(ggtree) ggtree v3.15.0 Learn more at https://yulab-smu.top/contribution-tree-data/ Please cite: S Xu, Z Dai, P Guo, X Fu, S Liu, L Zhou, W Tang, T Feng, M Chen, L Zhan, T Wu, E Hu, Y Jiang, X Bo, G Yu. ggtreeExtra: Compact visualization of richly annotated phylogenetic data. Molecular Biology and Evolution. 2021, 38(9):4039-4042. doi: 10.1093/molbev/msab166 > > test_check("ggtree") [ FAIL 0 | WARN 3 | SKIP 0 | PASS 14 ] [ FAIL 0 | WARN 3 | SKIP 0 | PASS 14 ] > > proc.time() user system elapsed 2.732 0.125 2.854
ggtree.Rcheck/ggtree-Ex.timings
name | user | system | elapsed | |
collapse | 0.424 | 0.016 | 0.441 | |
expand | 0.226 | 0.000 | 0.226 | |
facet-plot | 0.371 | 0.000 | 0.371 | |
flip | 0.253 | 0.000 | 0.254 | |
geom-hilight | 2.588 | 0.028 | 2.621 | |
geom_balance | 0.326 | 0.000 | 0.326 | |
geom_cladelab | 0.587 | 0.136 | 0.725 | |
geom_label2 | 0.467 | 0.008 | 0.476 | |
geom_point2 | 1.098 | 0.176 | 1.278 | |
geom_rootedge | 0.879 | 0.004 | 0.885 | |
geom_rootpoint | 0.371 | 0.024 | 0.395 | |
geom_strip | 0.213 | 0.000 | 0.213 | |
geom_striplab | 0.270 | 0.000 | 0.271 | |
geom_tiplab | 0.204 | 0.000 | 0.205 | |
geom_tiplab2 | 0.312 | 0.000 | 0.314 | |
geom_tippoint | 0.190 | 0.003 | 0.195 | |
geom_tree | 0.170 | 0.004 | 0.174 | |
get_taxa_name | 0.035 | 0.000 | 0.034 | |
ggdensitree | 2.052 | 0.021 | 2.079 | |
ggexpand | 0.289 | 0.000 | 0.290 | |
ggtree-format-painter | 0.222 | 0.000 | 0.224 | |
ggtree | 0.179 | 0.000 | 0.178 | |
label_pad | 0.001 | 0.000 | 0.000 | |
open_tree | 0.286 | 0.000 | 0.286 | |
reexports | 0.290 | 0.000 | 0.291 | |
revts | 0.205 | 0.004 | 0.210 | |
rotate | 0.198 | 0.027 | 0.227 | |
rotate_tree | 0.290 | 0.001 | 0.291 | |
scaleClade | 0.241 | 0.000 | 0.242 | |
theme_tree | 0.202 | 0.000 | 0.202 | |
theme_tree2 | 0.205 | 0.000 | 0.206 | |
tree-layout | 1.255 | 0.000 | 1.258 | |
viewClade | 0.295 | 0.000 | 0.295 | |
xlim_expand | 0.377 | 0.000 | 0.378 | |
xlim_tree | 0.349 | 0.000 | 0.350 | |
zoomClade | 0.001 | 0.000 | 0.000 | |