Back to Multiple platform build/check report for BioC 3.22:   simplified   long
ABCDEF[G]HIJKLMNOPQRSTUVWXYZ

This page was generated on 2025-07-19 12:08 -0400 (Sat, 19 Jul 2025).

HostnameOSArch (*)R versionInstalled pkgs
nebbiolo2Linux (Ubuntu 24.04.2 LTS)x86_644.5.1 (2025-06-13) -- "Great Square Root" 4791
palomino8Windows Server 2022 Datacenterx644.5.1 (2025-06-13 ucrt) -- "Great Square Root" 4529
lconwaymacOS 12.7.1 Montereyx86_644.5.1 (2025-06-13) -- "Great Square Root" 4572
kjohnson3macOS 13.7.1 Venturaarm644.5.1 Patched (2025-06-14 r88325) -- "Great Square Root" 4513
taishanLinux (openEuler 24.03 LTS)aarch644.5.0 (2025-04-11) -- "How About a Twenty-Six" 4510
Click on any hostname to see more info about the system (e.g. compilers)      (*) as reported by 'uname -p', except on Windows and Mac OS X

Package 865/2311HostnameOS / ArchINSTALLBUILDCHECKBUILD BIN
ggtree 3.17.1  (landing page)
Guangchuang Yu
Snapshot Date: 2025-07-18 13:25 -0400 (Fri, 18 Jul 2025)
git_url: https://git.bioconductor.org/packages/ggtree
git_branch: devel
git_last_commit: 1444d4d
git_last_commit_date: 2025-07-11 12:45:38 -0400 (Fri, 11 Jul 2025)
nebbiolo2Linux (Ubuntu 24.04.2 LTS) / x86_64  OK    OK    OK  UNNEEDED, same version is already published
palomino8Windows Server 2022 Datacenter / x64  OK    OK    OK    OK  UNNEEDED, same version is already published
lconwaymacOS 12.7.1 Monterey / x86_64  OK    OK    OK    OK  UNNEEDED, same version is already published
kjohnson3macOS 13.7.1 Ventura / arm64  OK    OK    OK    OK  UNNEEDED, same version is already published
taishanLinux (openEuler 24.03 LTS) / aarch64  OK    OK    OK  


CHECK results for ggtree on lconway

To the developers/maintainers of the ggtree package:
- Allow up to 24 hours (and sometimes 48 hours) for your latest push to git@git.bioconductor.org:packages/ggtree.git to reflect on this report. See Troubleshooting Build Report for more information.
- Use the following Renviron settings to reproduce errors and warnings.
- If 'R CMD check' started to fail recently on the Linux builder(s) over a missing dependency, add the missing dependency to 'Suggests:' in your DESCRIPTION file. See Renviron.bioc for more information.

raw results


Summary

Package: ggtree
Version: 3.17.1
Command: /Library/Frameworks/R.framework/Resources/bin/R CMD check --install=check:ggtree.install-out.txt --library=/Library/Frameworks/R.framework/Resources/library --no-vignettes --timings ggtree_3.17.1.tar.gz
StartedAt: 2025-07-18 20:56:21 -0400 (Fri, 18 Jul 2025)
EndedAt: 2025-07-18 20:57:45 -0400 (Fri, 18 Jul 2025)
EllapsedTime: 83.7 seconds
RetCode: 0
Status:   OK  
CheckDir: ggtree.Rcheck
Warnings: 0

Command output

##############################################################################
##############################################################################
###
### Running command:
###
###   /Library/Frameworks/R.framework/Resources/bin/R CMD check --install=check:ggtree.install-out.txt --library=/Library/Frameworks/R.framework/Resources/library --no-vignettes --timings ggtree_3.17.1.tar.gz
###
##############################################################################
##############################################################################


* using log directory ‘/Users/biocbuild/bbs-3.22-bioc/meat/ggtree.Rcheck’
* using R version 4.5.1 (2025-06-13)
* using platform: x86_64-apple-darwin20
* R was compiled by
    Apple clang version 14.0.0 (clang-1400.0.29.202)
    GNU Fortran (GCC) 14.2.0
* running under: macOS Monterey 12.7.6
* using session charset: UTF-8
* using option ‘--no-vignettes’
* checking for file ‘ggtree/DESCRIPTION’ ... OK
* checking extension type ... Package
* this is package ‘ggtree’ version ‘3.17.1’
* package encoding: UTF-8
* checking package namespace information ... OK
* checking package dependencies ... OK
* checking if this is a source package ... OK
* checking if there is a namespace ... OK
* checking for hidden files and directories ... OK
* checking for portable file names ... OK
* checking for sufficient/correct file permissions ... OK
* checking whether package ‘ggtree’ can be installed ... OK
* checking installed package size ... OK
* checking package directory ... OK
* checking ‘build’ directory ... OK
* checking DESCRIPTION meta-information ... OK
* checking top-level files ... OK
* checking for left-over files ... OK
* checking index information ... OK
* checking package subdirectories ... OK
* checking code files for non-ASCII characters ... OK
* checking R files for syntax errors ... OK
* checking whether the package can be loaded ... OK
* checking whether the package can be loaded with stated dependencies ... OK
* checking whether the package can be unloaded cleanly ... OK
* checking whether the namespace can be loaded with stated dependencies ... OK
* checking whether the namespace can be unloaded cleanly ... OK
* checking whether startup messages can be suppressed ... OK
* checking dependencies in R code ... OK
* checking S3 generic/method consistency ... OK
* checking replacement functions ... OK
* checking foreign function calls ... OK
* checking R code for possible problems ... OK
* checking Rd files ... OK
* checking Rd metadata ... OK
* checking Rd cross-references ... NOTE
Non-topic package-anchored link(s) in Rd file 'reexports.Rd':
  ‘[ggfun:attacher]{%<+%}’ ‘[ggplot2:element]{margin}’
  ‘[ggplot2:scale_manual]{scale_color_manual}’
  ‘[ggplot2:scale_manual]{scale_colour_manual}’
  ‘[ggplot2:scale_manual]{scale_fill_manual}’
  ‘[ggplot2:scale_continuous]{scale_x_continuous}’
  ‘[magrittr:pipe]{%>%}’

See section 'Cross-references' in the 'Writing R Extensions' manual.
* checking for missing documentation entries ... OK
* checking for code/documentation mismatches ... OK
* checking Rd \usage sections ... OK
* checking Rd contents ... OK
* checking for unstated dependencies in examples ... OK
* checking files in ‘vignettes’ ... OK
* checking examples ... OK
* checking for unstated dependencies in ‘tests’ ... OK
* checking tests ...
  Running ‘testthat.R’
 OK
* checking for unstated dependencies in vignettes ... OK
* checking package vignettes ... OK
* checking running R code from vignettes ... SKIPPED
* checking re-building of vignette outputs ... SKIPPED
* checking PDF version of manual ... OK
* DONE

Status: 1 NOTE
See
  ‘/Users/biocbuild/bbs-3.22-bioc/meat/ggtree.Rcheck/00check.log’
for details.


Installation output

ggtree.Rcheck/00install.out

##############################################################################
##############################################################################
###
### Running command:
###
###   /Library/Frameworks/R.framework/Resources/bin/R CMD INSTALL ggtree
###
##############################################################################
##############################################################################


* installing to library ‘/Library/Frameworks/R.framework/Versions/4.5-x86_64/Resources/library’
* installing *source* package ‘ggtree’ ...
** this is package ‘ggtree’ version ‘3.17.1’
** using staged installation
** R
** inst
** byte-compile and prepare package for lazy loading
** help
*** installing help indices
** building package indices
** installing vignettes
** testing if installed package can be loaded from temporary location
** testing if installed package can be loaded from final location
** testing if installed package keeps a record of temporary installation path
* DONE (ggtree)

Tests output

ggtree.Rcheck/tests/testthat.Rout


R version 4.5.1 (2025-06-13) -- "Great Square Root"
Copyright (C) 2025 The R Foundation for Statistical Computing
Platform: x86_64-apple-darwin20

R is free software and comes with ABSOLUTELY NO WARRANTY.
You are welcome to redistribute it under certain conditions.
Type 'license()' or 'licence()' for distribution details.

R is a collaborative project with many contributors.
Type 'contributors()' for more information and
'citation()' on how to cite R or R packages in publications.

Type 'demo()' for some demos, 'help()' for on-line help, or
'help.start()' for an HTML browser interface to help.
Type 'q()' to quit R.

> library(testthat)
> library(ggtree)
ggtree v3.17.1 Learn more at https://yulab-smu.top/contribution-tree-data/

Please cite:

S Xu, Z Dai, P Guo, X Fu, S Liu, L Zhou, W Tang, T Feng, M Chen, L
Zhan, T Wu, E Hu, Y Jiang, X Bo, G Yu. ggtreeExtra: Compact
visualization of richly annotated phylogenetic data. Molecular Biology
and Evolution. 2021, 38(9):4039-4042. doi: 10.1093/molbev/msab166
> 
> test_check("ggtree")
[ FAIL 0 | WARN 4 | SKIP 0 | PASS 14 ]

[ FAIL 0 | WARN 4 | SKIP 0 | PASS 14 ]
> 
> proc.time()
   user  system elapsed 
  2.664   0.252   2.943 

Example timings

ggtree.Rcheck/ggtree-Ex.timings

nameusersystemelapsed
collapse0.3360.0100.347
expand0.2290.0030.234
facet-plot0.2700.0030.276
flip0.2120.0020.215
geom-hilight2.0720.0342.122
geom_balance0.2570.0040.261
geom_cladelab0.4560.0080.466
geom_label20.2300.0030.234
geom_point20.8980.0140.918
geom_rootedge0.6740.0070.685
geom_rootpoint0.2980.0040.306
geom_strip0.1670.0010.170
geom_striplab0.3760.0030.381
geom_tiplab0.1670.0080.176
geom_tiplab20.2390.0030.244
geom_tippoint0.1420.0020.145
geom_tree0.1240.0020.127
get_taxa_name0.0360.0000.036
ggdensitree1.6840.0201.724
ggexpand0.2400.0030.245
ggtree-format-painter0.1790.0040.185
ggtree0.1670.0020.171
label_pad0.0010.0000.001
open_tree0.2490.0040.258
reexports0.2310.0030.235
revts0.1590.0020.162
rotate0.1780.0030.184
rotate_tree0.2440.0030.248
scaleClade0.1890.0020.191
theme_tree0.1780.0020.181
theme_tree20.1720.0020.174
tree-layout1.0470.0081.059
viewClade0.2250.0020.228
xlim_expand0.3070.0020.311
xlim_tree0.2740.0030.278
zoomClade000